BEGIN:VCALENDAR
VERSION:2.0
PRODID:-//Свободна практика - ECPv6.0.13//NONSGML v1.0//EN
CALSCALE:GREGORIAN
METHOD:PUBLISH
X-WR-CALNAME:Свободна практика
X-ORIGINAL-URL:https://svobodnapraktika.com
X-WR-CALDESC:Events for Свободна практика
REFRESH-INTERVAL;VALUE=DURATION:PT1H
X-Robots-Tag:noindex
X-PUBLISHED-TTL:PT1H
BEGIN:VTIMEZONE
TZID:Europe/Helsinki
BEGIN:DAYLIGHT
TZOFFSETFROM:+0200
TZOFFSETTO:+0300
TZNAME:EEST
DTSTART:20260329T010000
END:DAYLIGHT
BEGIN:STANDARD
TZOFFSETFROM:+0300
TZOFFSETTO:+0200
TZNAME:EET
DTSTART:20261025T010000
END:STANDARD
END:VTIMEZONE
BEGIN:VEVENT
DTSTART;TZID=Europe/Helsinki:20260101T000000
DTEND;TZID=Europe/Helsinki:20261220T000000
DTSTAMP:20260426T025344
CREATED:20251207T220422Z
LAST-MODIFIED:20251207T220718Z
UID:18261-1767225600-1797724800@svobodnapraktika.com
SUMMARY:Пишете така\, че да ви четат: Не-бюлетинът на стратегическия копирайтър
DESCRIPTION:Трудно ти е да започнеш да пишеш\, а трябва – чакат те постове за социалните мрежи\, съдържанието на сайта ти\, статии. Непрекъснато се налага да пишеш кратки представяния на твоите продукти и услуги. Не ти е приятно да го правиш. Опитваш се да прехвърлиш цялата копирайтинг работа на ChatGPT или инструмент\, базиран на изкуствен интелект\, но не си сигурен\, че се получава добре. \nИма начин да промениш тази тегава ситуация. \nСъздай си нова нагласа към писането. Научи се да разпознаваш и разказваш истории\, които клиентите ти обичат да четат и споделят. Започни да пишеш увлекателно и убедително\, така че да превръщаш посетителите в клиенти. \nВъзможно е. \nПрегледай цялата програма на „Не-бюлетинът на стратегическия копирайтър“ – професионална система\, която комбинира различни\, ефективни елементи за обучение и практика и ти помага да развиеш 12 ключови умения за писане\, които да приложиш веднага.  \nЛектор\n\nИванка Могилска – копирайтър с 21 години опит\, основател и автор в блога „Свободна практика“.\n\n⇒ Ранно записване до 15 декември!
URL:https://svobodnapraktika.com/event/pishete-da-vi-chetat-ne-builetinat-strategicheski-copywriter
CATEGORIES:Онлайн събития
END:VEVENT
BEGIN:VEVENT
DTSTART;TZID=Europe/Helsinki:20260114T190000
DTEND;TZID=Europe/Helsinki:20260114T210000
DTSTAMP:20260426T025344
CREATED:20251222T171756Z
LAST-MODIFIED:20251222T171756Z
UID:18340-1768417200-1768424400@svobodnapraktika.com
SUMMARY:Най-добри performance практики в дигиталната реклама в TikTok - уебинар
DESCRIPTION:Развиваш собствен бизнес и имаш добро присъствие във Фейсбук\, но искаш да разшириш аудиторията си. Да достигаш до нови потенциални клиенти\, да експериментираш. \nКакъв по-добър вариант от TikTok? В момента това е една от най-бързо развиващите се платформи и в България\, и в световен мащаб. Предлага ти възможности\, от които би могъл да се възползваш. \nВключи се в семинара\, защото лекторът обсъжда с теб: \n\nДобри практики за стартиране на успешни рекламни кампании.\nДобри криейтив практики.\n\nЗа кого е подходящо събитието\n\nЗа всички\, които искат да научат повече за успешното съдържание в TikTok.\n\nЛектор\n\nАлександър Владимиров има над 7-годишен опит в рекламата. Една от насоките\, в които се развива\, е реклама в социалните медии.\n\nУчастието е без такса\, с предварителна регистрация. \n 
URL:https://svobodnapraktika.com/event/%d0%bd%d0%b0%d0%b9-%d0%b4%d0%be%d0%b1%d1%80%d0%b8-performance-%d0%bf%d1%80%d0%b0%d0%ba%d1%82%d0%b8%d0%ba%d0%b8-%d0%b2-%d0%b4%d0%b8%d0%b3%d0%b8%d1%82%d0%b0%d0%bb%d0%bd%d0%b0%d1%82%d0%b0-%d1%80%d0%b5
CATEGORIES:Онлайн събития
ORGANIZER;CN="SoftUni%20Digital":MAILTO:digital@softuni.bg
END:VEVENT
BEGIN:VEVENT
DTSTART;TZID=Europe/Helsinki:20260121T190000
DTEND;TZID=Europe/Helsinki:20260121T210000
DTSTAMP:20260426T025344
CREATED:20251209T131848Z
LAST-MODIFIED:20251209T131848Z
UID:18285-1769022000-1769029200@svobodnapraktika.com
SUMMARY:Кодът LinkedIn: Превърнете профила си в покана за интервю - уебинар
DESCRIPTION:Усилено търсиш работа\, но все не намираш подходящата позиция. А когато попаднеш на нея\, не достигаш до интервю. \nНаясно си\, че AI променя бизнеса. Рекрутърите го използват в платформи като LinkedIn. Те не само отсяват\, но и активно търсят подходящи кандидати именно с помощта на изкуствения интелект. Така\, благодарение на различни филтри\, над 90% от кандидатурите отпадат преди да достигнат до разглеждане. \nКак да структурираш CV-то си така\, че да бъде видяно? Как да изградиш професионално присъствие\, което да привлича предложения за работа? \nОтговори на тези въпроси получаваш от лектора. \nЗа кого е подходящо събитието\n\nЗа всички\, които развиват профил в LinkedIn.\n\nЛектор\n\nМартина Георгиева е HR с над 10-годишен опит. Тя завършва международно право и бизнес психология. Нейната цел е да създава силни екипи\, в които всеки постига резултати\, без да прави компромиси с достойнството си.\n\nУчастието е без такса\, с предварителна регистрация.
URL:https://svobodnapraktika.com/event/%d0%ba%d0%be%d0%b4%d1%8a%d1%82-linkedin-%d0%bf%d1%80%d0%b5%d0%b2%d1%8a%d1%80%d0%bd%d0%b5%d1%82%d0%b5-%d0%bf%d1%80%d0%be%d1%84%d0%b8%d0%bb%d0%b0-%d1%81%d0%b8-%d0%b2-%d0%bf%d0%be%d0%ba%d0%b0%d0%bd
CATEGORIES:Онлайн събития
ORGANIZER;CN="SoftUni%20Digital":MAILTO:digital@softuni.bg
END:VEVENT
BEGIN:VEVENT
DTSTART;VALUE=DATE:20260123
DTEND;VALUE=DATE:20260126
DTSTAMP:20260426T025344
CREATED:20251222T171737Z
LAST-MODIFIED:20251222T171737Z
UID:18342-1769126400-1769385599@svobodnapraktika.com
SUMMARY:Национална менторска програма за жени-предприемачи 2026 – събитие на живо
DESCRIPTION:Ако имаш интересна бизнес идея\, първата добра стъпка по пътя на реализацията ѝ е да изкараш обучителен курс\, особено ако си нова в света на предприемачеството. Обучения се провеждат както от БТ по региони\, така и от организации. Предлагам ти да разгледаш менторската програма за жени-предприемачи. Дългосрочна е и стратира през януари. В продължение на 6 месеца получаваш полезна информация и практически опит\, които поставят основата на устойчив бизнес. \nКакво включва програмата?\n\nШест-модула – по един всеки месец.\nРабота с ментори и предприемачи.\nПодкрепяща те общност.\n\nКак става участието?\nАко решиш да се включиш\, трябва да кандидатстваш през сайта на програмата. В случай че си одобрен\, организаторите ще се свържат с теб. \nВиж и датите за провеждане на обучението. \nЗа кого е подходящо\n\nЗа жени\, които имат бизнес идея\, но не знаят как да я реализират.\nЗа жени\, които отскоро развиват собствен бизнес\, но имат нужда от подкрепа.\n\nУчастието е с такса\, с предварителна регистрация. \nМожеш да заявиш предпочитания от теб пакет: \n\nСтипендиант – 850 лв. (ако се запишеш до 31.12.25)\nБизнес старт – 1150 лв. (до 31.12.25)\nПремиум – 1800 лв. (до 31.12.25)\n\n 
URL:https://svobodnapraktika.com/event/%d0%bd%d0%b0%d1%86%d0%b8%d0%be%d0%bd%d0%b0%d0%bb%d0%bd%d0%b0-%d0%bc%d0%b5%d0%bd%d1%82%d0%be%d1%80%d1%81%d0%ba%d0%b0-%d0%bf%d1%80%d0%be%d0%b3%d1%80%d0%b0%d0%bc%d0%b0-%d0%b7%d0%b0-%d0%b6%d0%b5%d0%bd
LOCATION:БТПП\, Ул. Искър 10
CATEGORIES:София
ORGANIZER;CN="%D0%9C%D0%B5%D0%BD%D1%82%D0%BE%D1%80%D0%B8%D1%82%D0%B5":MAILTO:info@mentorite.bg
END:VEVENT
BEGIN:VEVENT
DTSTART;TZID=Europe/Helsinki:20260123T193000
DTEND;TZID=Europe/Helsinki:20260123T220000
DTSTAMP:20260426T025344
CREATED:20260130T114643Z
LAST-MODIFIED:20260130T114643Z
UID:18430-1769196600-1769205600@svobodnapraktika.com
SUMMARY:Design Drinks Plovdiv – събитие на живо
DESCRIPTION:Дизайнът за теб е и професия\, и хоби\, и средство за общуване. Покрай работните ангажименти си се запознал с редица специалисти в дигитална сфера\, а част от тези контакти са прераснали и в приятелски отношения. Цениш високо всичко\, което си взел от професията\, а бонус са именно контактите. \nАко живееш в Пловдив и региона\, включи се в събитието. Целта му е да се съберат на едно място дизайнери\, маркетолози\, програмисти и творчески личности\, за да си бъдат взаимно полезни. \nЗащо да участваш? \n\nСрещаш специалисти\, с които да работиш по конкретен проект;\nобменяш ценни идеи и опит;\nразширяваш социалния си кръг.\n\nЗа кого е подходящо събитието\n\nЗа всички\, които се развиват в дигиталната сфера.\n\nУчастието е без такса\, не е необходима предварителна регистрация. \n 
URL:https://svobodnapraktika.com/event/design-drinks-plovdiv-%d1%81%d1%8a%d0%b1%d0%b8%d1%82%d0%b8%d0%b5-%d0%bd%d0%b0-%d0%b6%d0%b8%d0%b2%d0%be
LOCATION:Politico Speakeasy\, Велико Търново 1\, Пловдив\, Bulgaria
CATEGORIES:Пловдив
ORGANIZER;CN="%D0%A4%D0%B8%D0%B3%D0%BC%D0%B0%D0%B9%D1%81%D1%82%D0%BE%D1%80":MAILTO:Figmaistor@gmail.com
END:VEVENT
BEGIN:VEVENT
DTSTART;TZID=Europe/Helsinki:20260126T190000
DTEND;TZID=Europe/Helsinki:20260126T233000
DTSTAMP:20260426T025344
CREATED:20251130T233924Z
LAST-MODIFIED:20251130T233924Z
UID:18214-1769454000-1769470200@svobodnapraktika.com
SUMMARY:Ден на предприемача – събитие на живо
DESCRIPTION:Знаеш\, че често ти предлагаме събития от Entrepreneur’s Day. Водещият гради общност от години\, а в центъра й са едни от най-успешните бизнесмени в страната. \nАко до момента не си участвал в някое от изданията\, включи се. Срещите са ти полезни\, защото: \n\nчерпиш опит и идеи от вдъхновяващи личности;\nзадаваш въпросите си по време на Q&A сесията\, ако желаеш;\nсрещаш се с млади и находчиви хора – също като теб.\n\nГостът в януарското издание е Виктор Францес – създател на телекомуникационната компания Орбител. Той е сред първите предприемачи в България\, успели да привлекат инвестиция от ЕБВР. След  като продава компанията\, насочва поглед към Индия\, където основава Excitel Broadband. Към днешна дата тя свързва над 1 млн. домакинства. \nПовече за Виктор можеш да научиш от страницата на събитието. \nПрограмата включва: \n\nосновна част;\nдискусия;\nнетуъркинг.\n\nЗа кого е подходящо \n\nЗа всички\, които развиват собствен бизнес.\n\nЛектор \n\nГост-лектор е Виктор Францес.\n\nУчастието е без такса\, с предварителна регистрация. \n 
URL:https://svobodnapraktika.com/event/%d0%b4%d0%b5%d0%bd-%d0%bd%d0%b0-%d0%bf%d1%80%d0%b5%d0%b4%d0%bf%d1%80%d0%b8%d0%b5%d0%bc%d0%b0%d1%87%d0%b0-%d1%81%d1%8a%d0%b1%d0%b8%d1%82%d0%b8%d0%b5-%d0%bd%d0%b0-%d0%b6%d0%b8%d0%b2%d0%be-2
LOCATION:Gramophone Club\, ул. "Будапеща" 6\, София\, Bulgaria
CATEGORIES:София
ORGANIZER;CN="Entrepreneurs%20Night%20Out":MAILTO:info@entrepreneursnightout.org
END:VEVENT
BEGIN:VEVENT
DTSTART;TZID=Europe/Helsinki:20260127T193000
DTEND;TZID=Europe/Helsinki:20260127T210000
DTSTAMP:20260426T025344
CREATED:20251230T093202Z
LAST-MODIFIED:20251230T093202Z
UID:18389-1769542200-1769547600@svobodnapraktika.com
SUMMARY:В огледалния свят: Пътят от мениджър към инвеститор – онлайн събитие
DESCRIPTION:Темата за инвестициите те интересува все повече. Напоследък отделяш и доста време\, за да проучваш\, четеш и да се информираш относно това къде и в какво да вложиш финанси. \nАко е така\, разгледай и събитието. Полезно ти е\, защото лекторът споделя с теб своя личен опит по пътя към вложенията. \nВключи се\, за да разбереш: \n\nкак самият той е започнал да трупа опит като инвеститор;\nкои са възможностите\, които е решил да преследва;\nкак ролята на мениджър в IT компания влияе върху ролята на инвеститор.\n\nСъбитието е част от потребителската група IT Entrepreneurship. \nЗа кого е подходящо\n\nЗа всички\, които се интересуват от капиталовложения.\n\nЛектор\n\nПетър Шварц е бивш партньор в софтуерната компания Melon. Заедно със своя екип разраства Мelon от 5 на повече от 400 души. Изпълнявал е функции в различни отели на компанията. В момента е ангел инвеститор и ментор.\n\nУчастието е без такса\, с предварителна регистрация.
URL:https://svobodnapraktika.com/event/%d0%b2-%d0%be%d0%b3%d0%bb%d0%b5%d0%b4%d0%b0%d0%bb%d0%bd%d0%b8%d1%8f-%d1%81%d0%b2%d1%8f%d1%82-%d0%bf%d1%8a%d1%82%d1%8f%d1%82-%d0%be%d1%82-%d0%bc%d0%b5%d0%bd%d0%b8%d0%b4%d0%b6%d1%8a%d1%80-%d0%ba%d1%8a
CATEGORIES:Онлайн събития
END:VEVENT
BEGIN:VEVENT
DTSTART;TZID=Europe/Helsinki:20260130T100000
DTEND;TZID=Europe/Helsinki:20260130T120000
DTSTAMP:20260426T025344
CREATED:20251222T171719Z
LAST-MODIFIED:20251222T171719Z
UID:18336-1769767200-1769774400@svobodnapraktika.com
SUMMARY:Digital Nomad Meetup – събитие на живо
DESCRIPTION:Като фрийлансър сам определяш ангажиментите си\, както и мястото\, от което работиш днес. Можеш да останеш у дома\, да посетиш споделено пространство\, да си в София\, Банско\, Италия или в която и да е част на света. Вероятно контакти не ти липсват\, но винаги е приятно да се запознаеш със себеподобни. Затова ти предлагам да се включиш в срещата на дигиталните номади\, която се провежда веднъж месечно. \nЕла\, за да: \n\nсе запознаеш с нови хора (фрийлансъри\, предприемачи);\nсподелиш опит;\nнамериш партньор по проект или компания за следващото пътешествие.\n\nЗа кого е подходящо събитието?\n\nЗа дигитални номади.\n\nУчастието е с такса\, с предварителна регистрация. \n\nМожеш да заплатиш единствено онлайн.
URL:https://svobodnapraktika.com/event/digital-nomad-meetup-%d1%81%d1%8a%d0%b1%d0%b8%d1%82%d0%b8%d0%b5-%d0%bd%d0%b0-%d0%b6%d0%b8%d0%b2%d0%be
LOCATION:Sito Studio\, цар Симеон 49\, София\, Bulgaria
CATEGORIES:София
END:VEVENT
BEGIN:VEVENT
DTSTART;VALUE=DATE:20260131
DTEND;VALUE=DATE:20260202
DTSTAMP:20260426T025344
CREATED:20251209T131826Z
LAST-MODIFIED:20251209T131826Z
UID:18289-1769817600-1769990399@svobodnapraktika.com
SUMMARY:Invest Conference 2026 – събитие от хибриден тип
DESCRIPTION:Ако се интересуваш от инвестиране\, вероятно следиш канали по темата\, включваш се в събития\, форуми и конференции. Няколко години подред от InvesPRO организират Invest Conference – събитие за лични финанси. Заяви участие\, за да разбереш: \n\nочаква ли се поскъпване на златото;\nкакво се случва с имотния пазар в големите градове;\nкакво ще се случи с БФБ в ерата на еврото.\n\nЧаст от лекциите са: \n\nкак да подреждаш инвестиции\, фирми и данъци така\, че да не ти пречат на растежа;\n5 причини\, поради които не постигаш финансова свобода и доказаните решения;\nкак увеличаващият се дълг и крипто регулациите създават перфектни условия за златото;\n2026: Златната година за инвеститори в биткойн акции.\n\nТемите\, които споделям с теб\, са малка част от програмата. Разгледай страницата на събитието\, за да разбереш какво още те очаква. \nЗа кого е подходящо\n\nЗа всички\, които искат да знаят как да увеличат приходите си.\n\nЛектори\n\nЛекторите са експерти в областта на инвестициите и финансите.\n\nУчастието е с такса\, с предварителна регистрация. \n\nСъбитието е от хибриден тип\, повече можеш да разбереш от страницата му.\nСтойността на билета за ранно записване до 31.01. е 79 лв.
URL:https://svobodnapraktika.com/event/invest-conference-2026-%d1%81%d1%8a%d0%b1%d0%b8%d1%82%d0%b8%d0%b5-%d0%be%d1%82-%d1%85%d0%b8%d0%b1%d1%80%d0%b8%d0%b4%d0%b5%d0%bd-%d1%82%d0%b8%d0%bf
LOCATION:Интер Експо Център\, бул. "Цариградско шосе" 147\, София
CATEGORIES:София
ORGANIZER;CN="InvestPRO":MAILTO:admin@investpro.bg
END:VEVENT
END:VCALENDAR