BEGIN:VCALENDAR
VERSION:2.0
PRODID:-//Свободна практика - ECPv6.0.13//NONSGML v1.0//EN
CALSCALE:GREGORIAN
METHOD:PUBLISH
X-WR-CALNAME:Свободна практика
X-ORIGINAL-URL:https://svobodnapraktika.com
X-WR-CALDESC:Events for Свободна практика
REFRESH-INTERVAL;VALUE=DURATION:PT1H
X-Robots-Tag:noindex
X-PUBLISHED-TTL:PT1H
BEGIN:VTIMEZONE
TZID:Europe/Helsinki
BEGIN:DAYLIGHT
TZOFFSETFROM:+0200
TZOFFSETTO:+0300
TZNAME:EEST
DTSTART:20220327T010000
END:DAYLIGHT
BEGIN:STANDARD
TZOFFSETFROM:+0300
TZOFFSETTO:+0200
TZNAME:EET
DTSTART:20221030T010000
END:STANDARD
END:VTIMEZONE
BEGIN:VEVENT
DTSTART;TZID=Europe/Helsinki:20220201T133000
DTEND;TZID=Europe/Helsinki:20220201T153000
DTSTAMP:20260425T002848
CREATED:20220129T222656Z
LAST-MODIFIED:20220129T222656Z
UID:12756-1643722200-1643729400@svobodnapraktika.com
SUMMARY:Покана за дискусия с бизнеса „Възможно ли е ново начало?“
DESCRIPTION:Идния вторник в Стара Загора се провежда дискусия на тема „Устойчивото лидерство“. Вероятно представлява интерес за теб\, ако имаш собствен бизнес\, но търсиш нови модели на функциониране. Полезно ще ти е и ако планираш да стартираш свое занимание\, което да е съобразено поне отчасти с наболелите екологични или обществени въпроси. В дискусията участват представители на местния бизнес\, администрацията и НПО. \nПо време на събитието се представя и книгата „Лидери за ново начало“\, която разказва вдъхновяващите истории на световни съвременни лидери – носители на промяната към устойчиво съществуване. \nЗа кого е подходящо\n\nЗа всички\, които се интересуват от темата за устойчивостта в бизнес средата.\n\nДискусията е без такса\, но с предварителна регистрация на мейл office@kauzi.org или телефон 0876 247 334. Лице за контакт – Биляна Камбурова. \n\nСрещата се провежда спрямо актуалните Covid изисквания.\n\n  \n 
URL:https://svobodnapraktika.com/event/%d0%b4%d0%b8%d1%81%d0%ba%d1%83%d1%81%d0%b8%d1%8f-%d0%b1%d0%b8%d0%b7%d0%bd%d0%b5%d1%81%d0%b0-%d0%b2%d1%8a%d0%b7%d0%bc%d0%be%d0%b6%d0%bd%d0%be-%d0%bd%d0%be%d0%b2%d0%be-%d0%bd%d0%b0%d1%87%d0%b0%d0%bb
LOCATION:Регионална библиотека “Захарий Княжески” – Стара Загора\, бул. „Руски“ 44\, Стара Загора\, Bulgaria
CATEGORIES:Стара Загора
END:VEVENT
END:VCALENDAR