BEGIN:VCALENDAR
VERSION:2.0
PRODID:-//Свободна практика - ECPv6.0.13//NONSGML v1.0//EN
CALSCALE:GREGORIAN
METHOD:PUBLISH
X-WR-CALNAME:Свободна практика
X-ORIGINAL-URL:https://svobodnapraktika.com
X-WR-CALDESC:Events for Свободна практика
REFRESH-INTERVAL;VALUE=DURATION:PT1H
X-Robots-Tag:noindex
X-PUBLISHED-TTL:PT1H
BEGIN:VTIMEZONE
TZID:Europe/Helsinki
BEGIN:DAYLIGHT
TZOFFSETFROM:+0200
TZOFFSETTO:+0300
TZNAME:EEST
DTSTART:20170326T010000
END:DAYLIGHT
BEGIN:STANDARD
TZOFFSETFROM:+0300
TZOFFSETTO:+0200
TZNAME:EET
DTSTART:20171029T010000
END:STANDARD
BEGIN:DAYLIGHT
TZOFFSETFROM:+0200
TZOFFSETTO:+0300
TZNAME:EEST
DTSTART:20180325T010000
END:DAYLIGHT
BEGIN:STANDARD
TZOFFSETFROM:+0300
TZOFFSETTO:+0200
TZNAME:EET
DTSTART:20181028T010000
END:STANDARD
END:VTIMEZONE
BEGIN:VEVENT
DTSTART;TZID=Europe/Helsinki:20180210T093000
DTEND;TZID=Europe/Helsinki:20180211T163000
DTSTAMP:20260424T060922
CREATED:20180122T160012Z
LAST-MODIFIED:20180122T160012Z
UID:5586-1518255000-1518366600@svobodnapraktika.com
SUMMARY:Курс по маркетинг мениджмънт
DESCRIPTION:Основни теми \n\nОснови на маркетинга.\nТехники за разбиране на потребителското поведение.\nУстановяване на пазарни сегменти и избор на целеви пазар.\nПроучването на пазара като източник на информация.\nКлючовите маркетингови инструменти- начина на употреба.\nПолитика на договарянето.\nКомуникационни канали.\nУправление на услугите.\nБрандиране и управление на марките.\n\nНачин на обучение \n\nИнтерактивност и практическа насоченост.\nРешаване на казуси.\nВъзможност за събеседване и обмяна на опит.\nДостъпно представена информация от експерти в областта на бизнес обученията.\nАктуални иновации в сферата на маркетинга.\n\nКурсът се провежда в присъствена или в дистанционна форма. \n! Получаваш международен сертификат за завършено обучение. \nЛектори \nПреподаватели от УНСС. \n  \nЗа пълната програма и записване обади се на \n+359 888 00 69 60 или пиши на office@1bc.bg
URL:https://svobodnapraktika.com/event/%d0%ba%d1%83%d1%80%d1%81-%d0%bf%d0%be-%d0%bc%d0%b0%d1%80%d0%ba%d0%b5%d1%82%d0%b8%d0%bd%d0%b3-%d0%bc%d0%b5%d0%bd%d0%b8%d0%b4%d0%b6%d0%bc%d1%8a%d0%bd%d1%82
LOCATION:1st Business Certificate Bulgaria\, бул. "Александър Стамболийски" 134\, София\, Bulgaria
CATEGORIES:Онлайн събития,София
END:VEVENT
BEGIN:VEVENT
DTSTART;TZID=Europe/Helsinki:20180111T183000
DTEND;TZID=Europe/Helsinki:20180111T203000
DTSTAMP:20260424T060922
CREATED:20180107T082655Z
LAST-MODIFIED:20180107T082655Z
UID:5532-1515695400-1515702600@svobodnapraktika.com
SUMMARY:Събитие „Как да представим творбите си онлайн сами и да продаваме“
DESCRIPTION:Събитието включва: \n\nзапознаване с някои от най-популярните онлайн галерии\, в които можеш да презентираш творбите си безплатно; \nобяснения как да онфигурираш собствени минигалерии;  \nнасоки как да използваш на социалните медии за популяризиране на творчеството си; \nинформация какви са изискванията относно снимките на творбите. \n\nПодходящо е за: творци\, които имат желание да представят и продават изкуството си онлайн. \nЗадай предварително своите конкретни въпроси по темата или поискай лична консултация. За повече информация виж сайта на събитието. \nЛектор \nГергана Дееничина – творец и онлайн маркетинг консултант\, създател на инициативата „Малкият бизнес – онлайн“. \nЦена: 35.00 лв. За плащане и записване\, следвай линка: https://goo.gl/1ULkwu \n 
URL:https://svobodnapraktika.com/event/%d1%81%d1%8a%d0%b1%d0%b8%d1%82%d0%b8%d0%b5-%d0%ba%d0%b0%d0%ba-%d0%b4%d0%b0-%d0%bf%d1%80%d0%b5%d0%b4%d1%81%d1%82%d0%b0%d0%b2%d0%b8%d0%bc-%d1%82%d0%b2%d0%be%d1%80%d0%b1%d0%b8%d1%82%d0%b5-%d1%81
LOCATION:GD Center – Място за творчество и срещи\, ул. "6-ти септември" № 19\, София\, Bulgaria
CATEGORIES:София
END:VEVENT
BEGIN:VEVENT
DTSTART;TZID=Europe/Helsinki:20171202T130000
DTEND;TZID=Europe/Helsinki:20171203T180000
DTSTAMP:20260424T060922
CREATED:20171116T230954Z
LAST-MODIFIED:20171116T230954Z
UID:5454-1512219600-1512324000@svobodnapraktika.com
SUMMARY:Как да представяме успешно своя бизнес - обучение
DESCRIPTION:Интензивно\, двудневно обучение\, което ти дава знания\, техники и увереност да представяш продуктите и услугите си успешно пред клиенти\, партньори\, подизпълнители. \nЗа кого е предназначено? \nЗа фрийлансъри\, мениджъри\, предприемачи\, стартъпи; за всички\, които се занимават с маркетинг\, продажби\, преговори или презентиране. \nЛектор \nМайк Рам \nВиж цялата програма и се регистрирай\, за да участваш. \nЦена \n196 лв. \n 
URL:https://svobodnapraktika.com/event/%d0%ba%d0%b0%d0%ba-%d0%b4%d0%b0-%d0%bf%d1%80%d0%b5%d0%b4%d1%81%d1%82%d0%b0%d0%b2%d1%8f%d0%bc%d0%b5-%d1%83%d1%81%d0%bf%d0%b5%d1%88%d0%bd%d0%be-%d1%81%d0%b2%d0%be%d1%8f-%d0%b1%d0%b8%d0%b7%d0%bd%d0%b5
LOCATION:Офисът на школа “По стъпките на дракона”\, ж.к. „Люлин“\, бл. 384\, вх. А\, ет. 4\, ат. 11\, София\, Bulgaria
CATEGORIES:София
END:VEVENT
BEGIN:VEVENT
DTSTART;TZID=Europe/Helsinki:20171110T090000
DTEND;TZID=Europe/Helsinki:20171110T163000
DTSTAMP:20260424T060922
CREATED:20171029T164108Z
LAST-MODIFIED:20171029T164601Z
UID:5399-1510304400-1510331400@svobodnapraktika.com
SUMMARY:Как да определям фокуса и приоритетите си
DESCRIPTION:За повишиш работоспособността си и да постигнеш успех в дадена област\, трябва да определиш добре фокуса и приоритетите си. \nВ обучението са включени практически упражнения\, демонстрации\, игри\, които ти позволяват да направиш именно това. \n  \nЛектор: Златина Михайлова – мениджър „Организационно развитие“ в denkstatt – консултантска компания в областта на устойчивото развитие. Грижи се за процесите по управление на хората и споделянето на знанието между тях\, така че бизнес растежът да се постига възможно най-ефективно. \nВход: 200 лв. без ДДС \nПосети сайта на събитието за повече подробности.
URL:https://svobodnapraktika.com/event/%d0%ba%d0%b0%d0%ba-%d0%b4%d0%b0-%d0%be%d0%bf%d1%80%d0%b5%d0%b4%d0%b5%d0%bb%d1%8f%d0%bc-%d1%84%d0%be%d0%ba%d1%83%d1%81%d0%b0-%d0%b8-%d0%bf%d1%80%d0%b8%d0%be%d1%80%d0%b8%d1%82%d0%b5%d1%82%d0%b8%d1%82
LOCATION:MDV Training\, ул. "Шейново" 7\, София\, 1504\, Bulgaria
CATEGORIES:София
END:VEVENT
BEGIN:VEVENT
DTSTART;TZID=Europe/Helsinki:20171102T190000
DTEND;TZID=Europe/Helsinki:20171102T200000
DTSTAMP:20260424T060922
CREATED:20171029T161659Z
LAST-MODIFIED:20171029T161849Z
UID:5395-1509649200-1509652800@svobodnapraktika.com
SUMMARY:Как да стартирам успешна кариера като графичен дизайнер
DESCRIPTION:Разбери: \n\nдали дизайнерската професия е за теб’\nкак да станеш успешен дизайнер;\nкакви технологии трябва да овладееш;\nкакви са тенденциите в графичния и уеб дизайна.\n\nЗапознай се и с обучението „Компютърна графика и дизайн“ в IT STEP с преподавател Александра Илиева. \nВходът е свободен. Местата са ограничени\, затова е задължително да се запишеш предварително. Регистрирай се.
URL:https://svobodnapraktika.com/event/%d0%ba%d0%b0%d0%ba-%d0%b4%d0%b0-%d1%81%d1%82%d0%b0%d1%80%d1%82%d0%b8%d1%80%d0%b0%d0%bc-%d1%83%d1%81%d0%bf%d0%b5%d1%88%d0%bd%d0%b0-%d0%ba%d0%b0%d1%80%d0%b8%d0%b5%d1%80%d0%b0-%d0%ba%d0%b0%d1%82%d0%be
LOCATION:IT STEP\, бул. "Александър Стамболийски" 55\, ет 5\, София
CATEGORIES:София
END:VEVENT
BEGIN:VEVENT
DTSTART;TZID=Europe/Helsinki:20171102T090000
DTEND;TZID=Europe/Helsinki:20171105T173000
DTSTAMP:20260424T060922
CREATED:20171001T213627Z
LAST-MODIFIED:20171001T213627Z
UID:5307-1509613200-1509903000@svobodnapraktika.com
SUMMARY:Предприемачество в изкуствата и творческите индустрии
DESCRIPTION:Първа интензивна академия по предприемачество в изкуствата и творческите индустрии в България. \nВъв фокуса на академията са бизнес моделите и бизнес планирането в изкуствата и творческите индустрии\, източниците на финансиране\, изграждането на марка\, традиционния и дигиталния маркетинг. Програмата предвижда участниците да разработят минибизнес план за стартиране на творческа организация на основата на иновативна идея и да получат конкретни съвети от експерти в областта.  \nМетодологията на обучение е интерактивна – презентациите са съчетани с работа в малки групи и с дискусии и разговори с успешни български творчески предприемачи.\n\nОрганизатори: Национална художествена академия\, катедра „Мода“\, и „Шар Жар“. С подкрепата на Rollmann и Сибел Вейсалова (Sensibel’s Design & Photography). \nЕкипът на академията се състои от водещи специалисти\, експерти и предприемачи. Сред тях са: \n• Доц. д-р Лидия Върбанова\, международен консултант\, преподавател и изследовател по стратегии\, предприемачество и мениджмънт на изкуствата и творческите индустрии\n• Доц. д-р Биляна Томова и д-р Диана Андреева\, Обсерватория по икономика на културата и УНСС\n• Грета Петрова\, бранд мениджър\, Rollmann\n• Ана Динкова\, trinitix\n• Мирослав Долапчиев\, tailorlamb\n• Иван Събчев и Стойко Ангелов\, Art.E\n• Велина Стойкова\, Poststudio\n• Теодора Спасова\, Minoar\n• Николай Божилов\n• Розалина Лъскова\, Шар Жар\n• (Останалите участващи експерти и предприемачи ще бъдат обявени до средата на октомври 2017 г.) \nУсловия за участие и записване: \n• Участие в Интензивната академия могат да вземат само представители на приложните и изящните изкуства и творческите индустрии\, които проявяват мотивиран интерес за участие. С приоритет ще бъдат допуснати настоящи и бивши студенти на НХА.  \n• Таксата за участие е в размер на 50 лв. за настоящи студенти на НХА и 80 лв. за всички останали. Тя е символична\, благодарение на финансова подкрепа от средствата\, отпуснати целево от държавния бюджет за присъщата на НХА научна и художествено-творческа дейност\, и благодарение на подкрепата на Rollmann. Таксата за участие следва да бъде заплатена в срок до 30 октомври 2017 г. по банкова сметка на НХА с IBAN: BG81BNBG96613100176301 и BIC: BNBGBGSD. В Основание за плащане посочете: три имена на участник\, „такса участие Академия предприемачество“.  \n• Всеки участник\, който активно присъства на всички занятия\, ще получи сертификат за участие от организаторите. \n• Регистрация за участие. Попълнете регистрационната форма най-късно до 20 октомври 2017 г. \nМясто на провеждане: галерия „Академия“\, ул. „Шипка“ 1\, гр. София \nЗа контакти и информация: \nПроф. Майа Богданова\, ръководител на катедра „Мода“\nНационална художествена академия\nТел. 0889 990 554\, имейл: maya_bogdanova@abv.bg \nРозалина Лъскова\nУправител\, “Шар Жар”\nТел. 0885 226012\, имейл: laskova.rozalina@gmail.com
URL:https://svobodnapraktika.com/event/%d0%bf%d1%80%d0%b5%d0%b4%d0%bf%d1%80%d0%b8%d0%b5%d0%bc%d0%b0%d1%87%d0%b5%d1%81%d1%82%d0%b2%d0%be-%d0%b2-%d0%b8%d0%b7%d0%ba%d1%83%d1%81%d1%82%d0%b2%d0%b0%d1%82%d0%b0-%d0%b8-%d1%82%d0%b2%d0%be%d1%80
LOCATION:галерия „Академия“\, ул. „Шипка“ 1\, София\, 1000\, Bulgaria
CATEGORIES:София
END:VEVENT
BEGIN:VEVENT
DTSTART;TZID=Europe/Helsinki:20171101T100000
DTEND;TZID=Europe/Helsinki:20171101T170000
DTSTAMP:20260424T060922
CREATED:20171029T153107Z
LAST-MODIFIED:20171029T153107Z
UID:5391-1509530400-1509555600@svobodnapraktika.com
SUMMARY:Анимационна работилница за деца
DESCRIPTION:Работилница за stop motion анимация за деца над 6 годишна възраст. \nМалките аниматори ще измислят приказка\, ще създадат и герои и декори за нея и ще я заснемат. Този път всичко ще бъде направено то лакомства. Носете си бонбони и сладки вкусотии. \nЦена: 25 лв.\, за 2 деца от семейство – 10% отстъпка. \nЗапишете се предварително на тел.: 0899999190 \n 
URL:https://svobodnapraktika.com/event/animacionna-rabotilnica-deca
LOCATION:Къща за птици/Birdhouse\, ул. "Проф. Асен Златаров" 22\, София\, 1505\, Bulgaria
CATEGORIES:София
END:VEVENT
BEGIN:VEVENT
DTSTART;TZID=Europe/Helsinki:20171031T090000
DTEND;TZID=Europe/Helsinki:20171031T180000
DTSTAMP:20260424T060922
CREATED:20171001T220955Z
LAST-MODIFIED:20171001T220955Z
UID:5320-1509440400-1509472800@svobodnapraktika.com
SUMMARY:Обучение „Фирмата ми се разраства“
DESCRIPTION:Ако бизнесът ти се разраства и не можеш да овладееш процеса\, не знаеш какво да предприемеш\, този курс е за теб. От него ще разбереш как да направиш преход от малка към средна или от средна към голяма фирма. \nОсновни теми:  \n\nсимптоми на изоставащ управленски модел;\nорганизационната структура е само средство;\nправилно позиционирани фирмени функции;\nкорени на съпротивата срещу промените;\nгрешните и верни подходи към управлението;\nпроектиране на системата за управление;\nинструментът “Матрици на отговорностите”;\nдокументиране на системата за управление.\n\nМетод на работа: Лекционни презентации\, подкрепени с анализи на реални чуждестранни и български примери. Дискусии по учебните теми и по проблеми\, повдигнати от участниците. \nВодещ на обучението: доц. Анастас Кехайов\, основател на „Алфа Куолити“. Консултант и преподавател с над 30 години опит. Дългосрочни специализации във Франция по макропрогнозиране и по информатизация на управлението. Дисертация по Теория на запасите. Хабилитация по стратегическо планиране. Консултира и преподава по Стратегическо планиране и фирмени политики\, Управление на промени и кризи\, Проектиране на организационното развитие\, Иновационен маркетинг\, Индустриална логистика\, Тотално качество и Лийн производство \nЦена: 285 лв\, отделно ДДС\nЦената включва обучение\, удостоверение (сертификат)\, кафе-паузи\, учебни пособия и помощни учебно-методически материали.
URL:https://svobodnapraktika.com/event/%d0%be%d0%b1%d1%83%d1%87%d0%b5%d0%bd%d0%b8%d0%b5-%d1%84%d0%b8%d1%80%d0%bc%d0%b0%d1%82%d0%b0-%d0%bc%d0%b8-%d1%81%d0%b5-%d1%80%d0%b0%d0%b7%d1%80%d0%b0%d1%81%d1%82%d0%b2%d0%b0
LOCATION:Алфа Куолити\, кв. Лозенец\, бул. "Никола Вапцаров" 27\, ет. 1\, София\, Bulgaria
CATEGORIES:София
END:VEVENT
BEGIN:VEVENT
DTSTART;TZID=Europe/Helsinki:20171031T080000
DTEND;TZID=Europe/Helsinki:20171031T170000
DTSTAMP:20260424T060922
CREATED:20171029T172655Z
LAST-MODIFIED:20171029T173326Z
UID:5407-1509436800-1509469200@svobodnapraktika.com
SUMMARY:Безплатно училище за QA специалисти на DataArt
DESCRIPTION:Програма за QA School Sofia 2017\n\nSoftware testing fundamentals\nTesting Types and Levels\nRequirements Analysis. Test documentation: test case\, check list\, test suite\, test plan\nTest design techniques\nBug Report. Defect life cycle\nTesting in Agile. Reporting and results analysis\nTest Automation Fundamentals. Definitions and goals\nTest Automation Practical Part 1\nTest Automation Practical Part 2\nFinal test\n\nНаучи повече за програмата\, училището\, лекторите  и кандидатствай до 31.10.2017. \nВиж какви са необходимите документи и какво трябва да направиш\, за да се включиш в безплатните занятия\, които започват на 14. 11. 2017.
URL:https://svobodnapraktika.com/event/%d0%b1%d0%b5%d0%b7%d0%bf%d0%bb%d0%b0%d1%82%d0%bd%d0%be%d1%82%d0%be-%d1%83%d1%87%d0%b8%d0%bb%d0%b8%d1%89%d0%b5-%d0%b7%d0%b0-qa-%d1%81%d0%bf%d0%b5%d1%86%d0%b8%d0%b0%d0%bb%d0%b8%d1%81%d1%82%d0%b8-%d0%bd
CATEGORIES:София
END:VEVENT
BEGIN:VEVENT
DTSTART;TZID=Europe/Helsinki:20170311T100000
DTEND;TZID=Europe/Helsinki:20170311T160000
DTSTAMP:20260424T060922
CREATED:20170303T212646Z
LAST-MODIFIED:20170303T214232Z
UID:4482-1489226400-1489248000@svobodnapraktika.com
SUMMARY:Семинар „Истинската стойност на фотографските услуги“
DESCRIPTION:Как се ценообразуват фотографските услуги? За какво всъщност плаща клиентът? Как да защитиш цените си пред него? Как се регламентират авторските права? \nТова са малка част от темите\, които ще се разглеждат по време на семинара „Истинската стойност на фотографските услуги“. \nЛектори са Ивайло Станев и Темелко Темелков – работата им би трябвало да ти е позната дори да не си фотограф. \nВходът за семинара е 60 лв. (Ако си член на клуб „Фото свят“ – 50 лв.) Регистрирай се и задай предварително своите въпроси на лекторите.
URL:https://svobodnapraktika.com/event/%d1%81%d0%b5%d0%bc%d0%b8%d0%bd%d0%b0%d1%80-%d0%b8%d1%81%d1%82%d0%b8%d0%bd%d1%81%d0%ba%d0%b0%d1%82%d0%b0-%d1%81%d1%82%d0%be%d0%b9%d0%bd%d0%be%d1%81%d1%82-%d0%bd%d0%b0-%d1%84%d0%be%d1%82%d0%be
LOCATION:betahaus\, ул. "Крум Попов" 56-58\, София\, Bulgaria
CATEGORIES:София
END:VEVENT
BEGIN:VEVENT
DTSTART;TZID=Europe/Helsinki:20170307T190000
DTEND;TZID=Europe/Helsinki:20170307T220000
DTSTAMP:20260424T060922
CREATED:20170301T194828Z
LAST-MODIFIED:20170301T194828Z
UID:4477-1488913200-1488924000@svobodnapraktika.com
SUMMARY:PR за малък бинзес - клуб "Спри и помисли"
DESCRIPTION:Гост на клуб „Спри и помисли“ този месец е Стоян Стоянов – създател на комуникационна агенция PRoWay. \nТемата е „PR за малък бизнес“. Съветвам те да не я пропускаш. Да се научиш да общуваш с медиите (традиционни и онлайн)\, да ти хрумнат идеи как да ги използваш\, за да се популяризираш и да изграждаш имиджа си без да имаш бюджет или със скромен такъв ще ти донесе ползи откъдето и да го погледнеш. \nЗадай въпросите си предварително\, в събитието във Facebook\, или като участваш в дискусията\, която се състои след лекцията на всеки гост на клуба. Полезно е\, интересно е\, че и нови работни контакти можеш да създадеш. \nВходът е свободен. \nГледай събитието онлайн и участвай в дискусията\, като се регистрираш предварително на Уебинария.бг.
URL:https://svobodnapraktika.com/event/pr-%d0%b7%d0%b0-%d0%bc%d0%b0%d0%bb%d1%8a%d0%ba-%d0%b1%d0%b8%d0%bd%d0%b7%d0%b5%d1%81-%d0%ba%d0%bb%d1%83%d0%b1-%d1%81%d0%bf%d1%80%d0%b8-%d0%b8-%d0%bf%d0%be%d0%bc%d0%b8%d1%81%d0%bb%d0%b8
LOCATION:Читалище.то\, ул. "Лом" 1\, София\, 1000\, Bulgaria
CATEGORIES:Онлайн събития,София
END:VEVENT
BEGIN:VEVENT
DTSTART;TZID=Europe/Helsinki:20170302T100000
DTEND;TZID=Europe/Helsinki:20170302T173000
DTSTAMP:20260424T060922
CREATED:20170226T213231Z
LAST-MODIFIED:20170226T213231Z
UID:4475-1488448800-1488475800@svobodnapraktika.com
SUMMARY:Как да създадем работещ план за маркетинг и продажби за малкия бизнес
DESCRIPTION:Еднодневен курс\, който ще е полезен на собственици и управители на малък бизнес. \nЛектор е Вергиния Къшева – маркетингов и бизнес консултант\, който работи с компании в страната и чужбина\, и провежда тренинги и обучения по мениджмънт\, маркетинг и продажби. \n  \nПо време на обучението научаваш какви конкретни и стъпки и действия трябва да предприемеш\, за да създадеш своята рекламна стратегия и стратегия за работа с клиенти. Най-добре виж подробната програма на обучението. \nСъбитието е с билети: \n\n190 лв. без ДДС за 1 участник;\n10% отстъпка за регистрация на 2-ма участника;\n15% отстъпка за регистрация на 3-ма участника;\n20% отстъпка за регистрация на група от 4 и повече човека.\n\n 
URL:https://svobodnapraktika.com/event/%d0%ba%d0%b0%d0%ba-%d0%b4%d0%b0-%d1%81%d1%8a%d0%b7%d0%b4%d0%b0%d0%b4%d0%b5%d0%bc-%d1%80%d0%b0%d0%b1%d0%be%d1%82%d0%b5%d1%89-%d0%bf%d0%bb%d0%b0%d0%bd-%d0%b7%d0%b0-%d0%bc%d0%b0%d1%80%d0%ba%d0%b5%d1%82
LOCATION:Training Academy\, ул. „Тинтява“ 15-17 (В сградата на Софтуерния Университет)\, София\, Bulgaria
CATEGORIES:София
END:VEVENT
BEGIN:VEVENT
DTSTART;TZID=Europe/Helsinki:20170301T190000
DTEND;TZID=Europe/Helsinki:20170301T210000
DTSTAMP:20260424T060922
CREATED:20170226T211000Z
LAST-MODIFIED:20170226T211156Z
UID:4468-1488394800-1488402000@svobodnapraktika.com
SUMMARY:9 грешки\, които НЕ трябва да допускате при продажбата на IT продукти и услуги
DESCRIPTION:Лекцията е подходяща не само за търговци\, но и за IT специалисти\, които са разработили продукт или услуга и искат да ги предложат на пазара. \nЛектор е Стефан Иванов – консултант\, който помага на български IT фирми да увеличат продажбите и да развият бизнеса си; мениджър бизнес развитие в американската дигитална агенция Хеджхог; отговаря за Go-to-market стратегията и продажбите в Европа и Близкия изток. \nСъбитието е с билети: 15 лв. за един човек\, 20 лв. за двама души.\nМожеш да ги купиш от тук.
URL:https://svobodnapraktika.com/event/9-%d0%b3%d1%80%d0%b5%d1%88%d0%ba%d0%b8-%d0%ba%d0%be%d0%b8%d1%82%d0%be-%d0%bd%d0%b5-%d1%82%d1%80%d1%8f%d0%b1%d0%b2%d0%b0-%d0%b4%d0%b0-%d0%b4%d0%be%d0%bf%d1%83%d1%81%d0%ba%d0%b0%d1%82%d0%b5-%d0%bf
LOCATION:Training Academy\, ул. „Тинтява“ 15-17 (В сградата на Софтуерния Университет)\, София\, Bulgaria
CATEGORIES:София
END:VEVENT
BEGIN:VEVENT
DTSTART;TZID=Europe/Helsinki:20170218T135000
DTEND;TZID=Europe/Helsinki:20170218T160500
DTSTAMP:20260424T060922
CREATED:20170217T080934Z
LAST-MODIFIED:20170217T080934Z
UID:4403-1487425800-1487433900@svobodnapraktika.com
SUMMARY:Как да бъдем активни граждани и родители
DESCRIPTION:Знаеш ли какви са правата ти на гражданин? Наясно ли си какво да направиш\, ако детските площадки около дома ти са в окаяно състояние и детето ти няма къде да играе? \nПо тези и куп други въпроси в този дух можеш да се информираш по време на лекцията „Как да бъдем активни граждани“. \nЛекторите ще са от екипа на Гражданска инициатива за безопасни детски площадки. \nСъбитието е част от „Академия за родители“. Лекцията\, както и всички събития от форума\, е безплатна. \nп.с. Какво общо има това с фрийланса? Ако още нямаш деца\, нищо. Просто си избери друго събитие. Ако имаш деца\, сигурна съм\, че независимо какво\, как и откъде работиш\, искаш хлапето ти да има подходящи места за игра.
URL:https://svobodnapraktika.com/event/aktivni-grajdani-roditeli
LOCATION:Sofia Event Center\, бул. "Черни връх" 100\, София\, 1407\, Bulgaria
CATEGORIES:София
END:VEVENT
BEGIN:VEVENT
DTSTART;TZID=Europe/Helsinki:20170218T100000
DTEND;TZID=Europe/Helsinki:20170218T150000
DTSTAMP:20260424T060922
CREATED:20170205T220122Z
LAST-MODIFIED:20170217T075016Z
UID:4365-1487412000-1487430000@svobodnapraktika.com
SUMMARY:Изграждане на лична марка чрез видео маркетинг и социални мрежи
DESCRIPTION:Лектори са Роси Георгиева – специалист по дигитален маркетинг във Facebook и Instagram и Любомира Любенова – видео маркетинг експерт \nОбучението е подходящо за фрийлансъри\, собственици на малък бизнес\, предприемачи. \nВиж цялата програма на събитието.\nРегистрирай се и си купи билет. \n 
URL:https://svobodnapraktika.com/event/video-marketing-socialni-mreji
LOCATION:зала “София”\, сграда БЧК\, бул. "Джеймс Баучър" 76\, до хотел Маринела.\, София\, Bulgaria
CATEGORIES:София
END:VEVENT
BEGIN:VEVENT
DTSTART;TZID=Europe/Helsinki:20170215T190000
DTEND;TZID=Europe/Helsinki:20170215T210000
DTSTAMP:20260424T060922
CREATED:20170205T213950Z
LAST-MODIFIED:20170205T214216Z
UID:4360-1487185200-1487192400@svobodnapraktika.com
SUMMARY:Вечерни тренинги по общуване и презентиране
DESCRIPTION:Вечерните тренинги по общуване и презентиране са подходящи за теб\, ако не искаш да минаваш цял курс на обучение или имаш нужда да подобриш и развиеш само някои от  уменията си в тази сфера. \nВиж кои са основните теми на вечерните тренинги.\nГрупите са с максимум 12 участника. \nЦена:\n20 лв. при предварителна регистрация\n25 лв. ако плащаш на място
URL:https://svobodnapraktika.com/event/vecherni-treningi-prezentirane
LOCATION:Читалище.то\, ул. "Лом" 1\, София\, 1000\, Bulgaria
CATEGORIES:София
END:VEVENT
BEGIN:VEVENT
DTSTART;TZID=Europe/Helsinki:20170208T190000
DTEND;TZID=Europe/Helsinki:20170208T210000
DTSTAMP:20260424T060922
CREATED:20170205T210321Z
LAST-MODIFIED:20170205T224821Z
UID:4348-1486580400-1486587600@svobodnapraktika.com
SUMMARY:Клуб "Спри и помисли" - видео маркетинг
DESCRIPTION:Гост на клуба е Петър Петров – създател на българската платформа за онлайн видео Уебинария.бг  \nТемата е „Как да използвате видео технологиите за успеха на вашия бизнес“. \nЗадай въпросите си към Петър Петров предварително\, в събитието във Facebook\, за да има време да се подготви и отговорът му да ти бъде по-полезен. \nВходът е свободен. \nГледай събитието онлайн и участвай в дискусията\, като се регистрираш предварително на Уебинария.бг.
URL:https://svobodnapraktika.com/event/video-marketing
LOCATION:Читалище.то\, ул. "Лом" 1\, София\, 1000\, Bulgaria
CATEGORIES:Онлайн събития,София
END:VEVENT
END:VCALENDAR