BEGIN:VCALENDAR
VERSION:2.0
PRODID:-//Свободна практика - ECPv6.0.13//NONSGML v1.0//EN
CALSCALE:GREGORIAN
METHOD:PUBLISH
X-ORIGINAL-URL:https://svobodnapraktika.com
X-WR-CALDESC:Events for Свободна практика
REFRESH-INTERVAL;VALUE=DURATION:PT1H
X-Robots-Tag:noindex
X-PUBLISHED-TTL:PT1H
BEGIN:VTIMEZONE
TZID:Europe/Helsinki
BEGIN:DAYLIGHT
TZOFFSETFROM:+0200
TZOFFSETTO:+0300
TZNAME:EEST
DTSTART:20240331T010000
END:DAYLIGHT
BEGIN:STANDARD
TZOFFSETFROM:+0300
TZOFFSETTO:+0200
TZNAME:EET
DTSTART:20241027T010000
END:STANDARD
END:VTIMEZONE
BEGIN:VEVENT
DTSTART;TZID=Europe/Helsinki:20240423T193000
DTEND;TZID=Europe/Helsinki:20240423T213000
DTSTAMP:20260419T163717
CREATED:20240329T144354Z
LAST-MODIFIED:20240329T144354Z
UID:16309-1713900600-1713907800@svobodnapraktika.com
SUMMARY:Public speaking meeting – събитие на живо
DESCRIPTION:Ако публичното говорене на английски е слабото ти място\, усъвършенствай го. Тренирай го в приятелска и подкрепяща среда. \nСрещата цели да развие в действителност уменията ти\, ето защо след представянето получаваш обратна връзка относно изказа\, боравенето с езика и цялостното впечатление. \nЗа кого е подходящо събитието \n\nЗа всички\, които искат да тренират комуникация на английски език и публично говорене.\n\nУчастието е с такса\, не е необходима предварителна регистрация. \n 
URL:https://svobodnapraktika.com/event/public-speaking-meeting-%d1%81%d1%8a%d0%b1%d0%b8%d1%82%d0%b8%d0%b5-%d0%bd%d0%b0-%d0%b6%d0%b8%d0%b2%d0%be
LOCATION:SOHO Sofia\, ул. "Искър" 4\, София
CATEGORIES:София
ORGANIZER;CN="Speak%20and%20Lead%20Toastmasters%20Club%20Sofia":MAILTO:speakandlead.tmclub@gmail.com
END:VEVENT
END:VCALENDAR