BEGIN:VCALENDAR
VERSION:2.0
PRODID:-//Свободна практика - ECPv6.0.13//NONSGML v1.0//EN
CALSCALE:GREGORIAN
METHOD:PUBLISH
X-ORIGINAL-URL:https://svobodnapraktika.com
X-WR-CALDESC:Events for Свободна практика
REFRESH-INTERVAL;VALUE=DURATION:PT1H
X-Robots-Tag:noindex
X-PUBLISHED-TTL:PT1H
BEGIN:VTIMEZONE
TZID:Europe/Helsinki
BEGIN:DAYLIGHT
TZOFFSETFROM:+0200
TZOFFSETTO:+0300
TZNAME:EEST
DTSTART:20240331T010000
END:DAYLIGHT
BEGIN:STANDARD
TZOFFSETFROM:+0300
TZOFFSETTO:+0200
TZNAME:EET
DTSTART:20241027T010000
END:STANDARD
END:VTIMEZONE
BEGIN:VEVENT
DTSTART;VALUE=DATE:20240418
DTEND;VALUE=DATE:20240420
DTSTAMP:20260419T163719
CREATED:20240322T123949Z
LAST-MODIFIED:20240322T123949Z
UID:16268-1713398400-1713571199@svobodnapraktika.com
SUMMARY:Serp. Conf 2024 International – конференция на живо
DESCRIPTION:Ако развиваш собствен онлайн бизнес или работиш в сферата на електронната търговия\, Serp конференцията със сигурност представлява интерес за теб. Темата за оптимизацията е застъпена в повечето лекции\, разгледана е през призмата на съдържанието и изкуствения интелект. Включи се\, за да разбереш как по-добре да управляваш бизнеса си. \nСесиите са разделени на няколко модула: \n\nТехническо SEO – разбираш как да отключиш пълния потенциал на сайта си чрез различни SEO техники.\nAI&SEO – как да подобриш съдържанието и SEO стратегията си.\nSEO за електронна търговия – научаваш как да използваш данните на аудиторията в своя полза и какво е бъдещето на семантичното търсене в електронната търговия.\n\nПрограмата е разнообразна\, а в нея са застъпени още темите за съдържанието\, социалните мрежи\, анализите и др. Следи я онлайн\, част от нея предстои да се допълва. \nВсеки модул завършва с Q&A сесия. \nЗа кого е подходящо събитието\n\nЗа всички\, които се занимават с SEO или електронна търговия.\n\nЛектор\n\nЛекторите са основатели на водещи български и международни компании\, както и експерти в сферата на дигиталния маркетинг. Повече информация за тях получаваш в страницата на конференцията.\n\nУчастието е платено\, с предварителна регистрация. \n\nСтойността на билетите варира в зависимост от достъпа.
URL:https://svobodnapraktika.com/event/serp-conf-2024-international-%d0%ba%d0%be%d0%bd%d1%84%d0%b5%d1%80%d0%b5%d0%bd%d1%86%d0%b8%d1%8f-%d0%bd%d0%b0-%d0%b6%d0%b8%d0%b2%d0%be
LOCATION:НДК\, пл."България"1\, София
CATEGORIES:София
END:VEVENT
END:VCALENDAR