BEGIN:VCALENDAR
VERSION:2.0
PRODID:-//Свободна практика - ECPv6.0.13//NONSGML v1.0//EN
CALSCALE:GREGORIAN
METHOD:PUBLISH
X-WR-CALNAME:Свободна практика
X-ORIGINAL-URL:https://svobodnapraktika.com
X-WR-CALDESC:Events for Свободна практика
REFRESH-INTERVAL;VALUE=DURATION:PT1H
X-Robots-Tag:noindex
X-PUBLISHED-TTL:PT1H
BEGIN:VTIMEZONE
TZID:Europe/Helsinki
BEGIN:DAYLIGHT
TZOFFSETFROM:+0200
TZOFFSETTO:+0300
TZNAME:EEST
DTSTART:20240331T010000
END:DAYLIGHT
BEGIN:STANDARD
TZOFFSETFROM:+0300
TZOFFSETTO:+0200
TZNAME:EET
DTSTART:20241027T010000
END:STANDARD
END:VTIMEZONE
BEGIN:VEVENT
DTSTART;TZID=Europe/Helsinki:20240415T190000
DTEND;TZID=Europe/Helsinki:20240415T233000
DTSTAMP:20260419T163534
CREATED:20240409T103634Z
LAST-MODIFIED:20240409T103634Z
UID:16367-1713207600-1713223800@svobodnapraktika.com
SUMMARY:„Ден на предприемача“ с гост Кристиян Демирев\, SK-PSD Group
DESCRIPTION:Развиваш малък бизнес и вече си се включвал в местни срещи на предприемачи. Намираш ги за полезни и с интерес следиш предстоящите събития. „Ден на предприемача“ е месечно издание\, което те среща с успешни българи\, развили бизнеса си и в страната\, и извън България. Те споделят своя опит\, успехи и провали\, и отговарят на въпросите ти. \nГост в априлското издание е Кристиян Демирев\, основател и управляващ директор SK-PSD Group. Включи се\, за да чуеш неговите съвети и насоки\, историята му и да разбереш как се управлява компания с милиони приходи годишно. \nЗа кого е подходящо събитието\n\nЗа собственици на бизнес.\n\nЛектор\n\nКристиян Демирев е основател и управляващ директор SK-PSD Group. SK PSD Group е един от лидерите на местния пазар във Виетнам\, генерирайки над 100 млн. долара през миналата година с повече от 130 служители със собствени складове и преработвателни съоръжения. Той е инвеститор и участва и различни компании и инициативи\, като е и съосновател на един от най-големите магазини за домашни животни Петмол.\n\nУчастието е с такса\, с предварителна регистрация. \n 
URL:https://svobodnapraktika.com/event/%d0%b4%d0%b5%d0%bd-%d0%bd%d0%b0-%d0%bf%d1%80%d0%b5%d0%b4%d0%bf%d1%80%d0%b8%d0%b5%d0%bc%d0%b0%d1%87%d0%b0
LOCATION:Carrusel Club\, ул. Георги С. Раковски 108\, София\, Bulgaria
CATEGORIES:София
ORGANIZER;CN="Entrepreneurs%20Night%20Out":MAILTO:info@entrepreneursnightout.org
END:VEVENT
END:VCALENDAR