BEGIN:VCALENDAR
VERSION:2.0
PRODID:-//Свободна практика - ECPv6.0.13//NONSGML v1.0//EN
CALSCALE:GREGORIAN
METHOD:PUBLISH
X-ORIGINAL-URL:https://svobodnapraktika.com
X-WR-CALDESC:Events for Свободна практика
REFRESH-INTERVAL;VALUE=DURATION:PT1H
X-Robots-Tag:noindex
X-PUBLISHED-TTL:PT1H
BEGIN:VTIMEZONE
TZID:Europe/Helsinki
BEGIN:DAYLIGHT
TZOFFSETFROM:+0200
TZOFFSETTO:+0300
TZNAME:EEST
DTSTART:20240331T010000
END:DAYLIGHT
BEGIN:STANDARD
TZOFFSETFROM:+0300
TZOFFSETTO:+0200
TZNAME:EET
DTSTART:20241027T010000
END:STANDARD
END:VTIMEZONE
BEGIN:VEVENT
DTSTART;TZID=Europe/Helsinki:20240412T120000
DTEND;TZID=Europe/Helsinki:20240412T170000
DTSTAMP:20260419T163715
CREATED:20240309T220920Z
LAST-MODIFIED:20240309T220920Z
UID:16216-1712923200-1712941200@svobodnapraktika.com
SUMMARY:SofiaTalks Business – събитие на живо
DESCRIPTION:Ти си още ученик или студент\, но вече имаш амбиция да стартираш собствен проект? Добрата новина е\, че в София\, а и в по-големите градове на страната\, се организират периодично срещи на предприемачи. Целта на събитията е да създадат подкрепяща среда за бизнеса. Дават ти възможност да се почувстваш част от общност\, намираш идеи\, създаваш контакти\, а много често и получаваш полезни послания от успели в различни сфери предприемачи. Ако търсиш скорошно предстоящо подобно събитие\, включи се в Sofia Talks Business. Точно за теб е\, защото фокусът му са именно младежите. \nЕла\, за да чуеш историите на някои от успешните българи\, да се вдъхновиш от техния опит и да се поучиш от грешките им. \nБилетът включва още: \n\nnetworking;\nщандове с опции за професионално и академично развитие;\nтомболи\, награди и кетъринг.\n\nЗа кого е подходящо\n\nЗа ученици и студенти\, които имат идеи за собствено бизнес начинание.\n\nУчастието е с такса\, с предварителна регистрация. \n 
URL:https://svobodnapraktika.com/event/sofiatalks-business-%d1%81%d1%8a%d0%b1%d0%b8%d1%82%d0%b8%d0%b5-%d0%bd%d0%b0-%d0%b6%d0%b8%d0%b2%d0%be
LOCATION:American College of Sofia\, ж.к. Младост 2\, алея „Флойд Бляк“\, София\, Bulgaria
CATEGORIES:София
END:VEVENT
END:VCALENDAR