BEGIN:VCALENDAR
VERSION:2.0
PRODID:-//Свободна практика - ECPv6.0.13//NONSGML v1.0//EN
CALSCALE:GREGORIAN
METHOD:PUBLISH
X-ORIGINAL-URL:https://svobodnapraktika.com
X-WR-CALDESC:Events for Свободна практика
REFRESH-INTERVAL;VALUE=DURATION:PT1H
X-Robots-Tag:noindex
X-PUBLISHED-TTL:PT1H
BEGIN:VTIMEZONE
TZID:Europe/Helsinki
BEGIN:DAYLIGHT
TZOFFSETFROM:+0200
TZOFFSETTO:+0300
TZNAME:EEST
DTSTART:20240331T010000
END:DAYLIGHT
BEGIN:STANDARD
TZOFFSETFROM:+0300
TZOFFSETTO:+0200
TZNAME:EET
DTSTART:20241027T010000
END:STANDARD
END:VTIMEZONE
BEGIN:VEVENT
DTSTART;TZID=Europe/Helsinki:20240410T080000
DTEND;TZID=Europe/Helsinki:20240410T170000
DTSTAMP:20260419T163623
CREATED:20240329T144425Z
LAST-MODIFIED:20240329T144425Z
UID:16304-1712736000-1712768400@svobodnapraktika.com
SUMMARY:Лични финанси – Money.bg – конференция на живо
DESCRIPTION:Ако темата за финансите и личните инвестиции те интересува\, събитието със сигурност ще ти е полезно. Среща те с експерти във финансовата сфера\, които споделят своя опит\, знания\, и ти дават ценни съвети за това как да управляваш средствата си. Обсъждат се темите за имотния пазар\, депозитите и алтернативните инвестиции. \nЧаст от лекциите са на тема: \n\nСпестяване\, инвестиции и възможности.\nДигиталните финанси на бъдещето.\nКредити и имоти.\n\nВиж програмата на събититето\, за да си наясно какво още те очаква. \nЗа кого е подходящо\n\nЗа предприемачи и всички\, които искат да знаят как да управляват средствата си.\n\nЛектори\n\nЛекторите са експерти във финансовата сфера. Повече за всеки от тях научаваш от страницата на конференцията.\n\nУчастието е без такса\, с предварителна регистрация.
URL:https://svobodnapraktika.com/event/%d0%bb%d0%b8%d1%87%d0%bd%d0%b8-%d1%84%d0%b8%d0%bd%d0%b0%d0%bd%d1%81%d0%b8-money-bg-%d0%ba%d0%be%d0%bd%d1%84%d0%b5%d1%80%d0%b5%d0%bd%d1%86%d0%b8%d1%8f-%d0%bd%d0%b0-%d0%b6%d0%b8
LOCATION:Hyatt Regency Sofia\, бул. Васил Левски\, София\, Bulgaria
CATEGORIES:София
ORGANIZER;CN="Money.bg":MAILTO:office@money.bg
END:VEVENT
END:VCALENDAR