BEGIN:VCALENDAR
VERSION:2.0
PRODID:-//Свободна практика - ECPv6.0.13//NONSGML v1.0//EN
CALSCALE:GREGORIAN
METHOD:PUBLISH
X-WR-CALNAME:Свободна практика
X-ORIGINAL-URL:https://svobodnapraktika.com
X-WR-CALDESC:Events for Свободна практика
REFRESH-INTERVAL;VALUE=DURATION:PT1H
X-Robots-Tag:noindex
X-PUBLISHED-TTL:PT1H
BEGIN:VTIMEZONE
TZID:Europe/Helsinki
BEGIN:DAYLIGHT
TZOFFSETFROM:+0200
TZOFFSETTO:+0300
TZNAME:EEST
DTSTART:20240331T010000
END:DAYLIGHT
BEGIN:STANDARD
TZOFFSETFROM:+0300
TZOFFSETTO:+0200
TZNAME:EET
DTSTART:20241027T010000
END:STANDARD
END:VTIMEZONE
BEGIN:VEVENT
DTSTART;TZID=Europe/Helsinki:20240330T170000
DTEND;TZID=Europe/Helsinki:20240330T190000
DTSTAMP:20260419T193709
CREATED:20240329T144602Z
LAST-MODIFIED:20240329T144602Z
UID:16301-1711818000-1711825200@svobodnapraktika.com
SUMMARY:Book Talks vol.38 – събитие на живо
DESCRIPTION:Посещавал ли си Book Talks? Книгите\, които се презентират по време на събитието\, са посветени на себепознанието\, самоусъвършенстването или бизнеса. Помагат ни да станем по-добри в определена насока\, да се опознаем\, съответно да ръководим по-успешно начинанията си. Ако все още не си присъствал\, включи се сега\, за да чуеш резюме на: \n\n„Atlas of the heart“\, Брене Браун – потапяш се в света на емоциите и поведението. В книгата се разглеждат 87 емоции\, които определят хората\, а трудът е резултат от 20-годишни изследвания върху човешките преживявания.\n„Фактологичност“\, Ханс Рослинг – разбираш как нашите инстинкти ни помагат или ни пречат да виждаме света какъвто е. Ханс Рослинг\, професор по международно здраве\, разкрива десетте инстинкта\, които изкривяват нашата перспектива.\n\nПрезентатори \n\nДесислава Дамянова – основател на „Академия за емоционална интелигентност“. Тя е сертифициран треньор по емоционална интелигентност\, емоционални и социални умения\, мениджмънт и лидерство. Също така е и лицензиран представител на Paul Ekman International.\nИвайло Кунев е автор и водещ на формата Book Talks. Той е обучител\, автор на програми за развитие на бизнес компетентности. Автор е на книгите „Stretch: цялостна система за баланс в живота“ и „Лидерите: забравените истории на България“.\n\nУчастието е с такса\, с предварителна регистрация. \n 
URL:https://svobodnapraktika.com/event/book-talks-vol-38-%d1%81%d1%8a%d0%b1%d0%b8%d1%82%d0%b8%d0%b5-%d0%bd%d0%b0-%d0%b6%d0%b8%d0%b2%d0%be
LOCATION:PM клуб\, Позитано\, София\, Bulgaria
CATEGORIES:София
END:VEVENT
END:VCALENDAR