BEGIN:VCALENDAR
VERSION:2.0
PRODID:-//Свободна практика - ECPv6.0.13//NONSGML v1.0//EN
CALSCALE:GREGORIAN
METHOD:PUBLISH
X-WR-CALNAME:Свободна практика
X-ORIGINAL-URL:https://svobodnapraktika.com
X-WR-CALDESC:Events for Свободна практика
REFRESH-INTERVAL;VALUE=DURATION:PT1H
X-Robots-Tag:noindex
X-PUBLISHED-TTL:PT1H
BEGIN:VTIMEZONE
TZID:Europe/Helsinki
BEGIN:DAYLIGHT
TZOFFSETFROM:+0200
TZOFFSETTO:+0300
TZNAME:EEST
DTSTART:20240331T010000
END:DAYLIGHT
BEGIN:STANDARD
TZOFFSETFROM:+0300
TZOFFSETTO:+0200
TZNAME:EET
DTSTART:20241027T010000
END:STANDARD
END:VTIMEZONE
BEGIN:VEVENT
DTSTART;VALUE=DATE:20240217
DTEND;VALUE=DATE:20240218
DTSTAMP:20260419T193618
CREATED:20240209T110104Z
LAST-MODIFIED:20240209T110104Z
UID:16074-1708128000-1708214399@svobodnapraktika.com
SUMMARY:Изкуствен интелект във Photoshop – работилница на живо
DESCRIPTION:Дизайнът те привлича. Търсиш видеа\, отделяш от свободното си време и се самообучаваш. Първите стъпки във Photoshop са вече факт. Знаеш ли\, че и този софтуер ти дава възможност да внедриш изкуствения интелект в работата си? Ако темата ти е интересна и искаш да научиш повече\, включи се в събитието. \nОт лектора разбираш как да използваш AI в софтуера\, за да: \n\nгенерираш фон;\nразшириш изображението;\nпремахваш и добавяш обекти;\nпроменяш цветове;\nобединяваш снимки.\n\nЗа кого е подходящо събитието \n\nЗа всички\, които нямат опит с Photoshop\, но проявяват интерес към работата с Photoshop AI Generative Fill Taskbar.\n\nУчастието е с такса\, с предварителна регистрация.
URL:https://svobodnapraktika.com/event/%d0%b8%d0%b7%d0%ba%d1%83%d1%81%d1%82%d0%b2%d0%b5%d0%bd-%d0%b8%d0%bd%d1%82%d0%b5%d0%bb%d0%b5%d0%ba%d1%82-%d0%b2%d1%8a%d0%b2-photoshop-%d1%80%d0%b0%d0%b1%d0%be%d1%82%d0%b8%d0%bb%d0%bd%d0%b8
LOCATION:Софийска фотографска школа\, 7-Ми Километър\, бул. „проф. Цветан Лазаров“ 90\, София\, Bulgaria
CATEGORIES:София
END:VEVENT
END:VCALENDAR