BEGIN:VCALENDAR
VERSION:2.0
PRODID:-//Свободна практика - ECPv6.0.13//NONSGML v1.0//EN
CALSCALE:GREGORIAN
METHOD:PUBLISH
X-ORIGINAL-URL:https://svobodnapraktika.com
X-WR-CALDESC:Events for Свободна практика
REFRESH-INTERVAL;VALUE=DURATION:PT1H
X-Robots-Tag:noindex
X-PUBLISHED-TTL:PT1H
BEGIN:VTIMEZONE
TZID:Europe/Helsinki
BEGIN:DAYLIGHT
TZOFFSETFROM:+0200
TZOFFSETTO:+0300
TZNAME:EEST
DTSTART:20240331T010000
END:DAYLIGHT
BEGIN:STANDARD
TZOFFSETFROM:+0300
TZOFFSETTO:+0200
TZNAME:EET
DTSTART:20241027T010000
END:STANDARD
END:VTIMEZONE
BEGIN:VEVENT
DTSTART;TZID=Europe/Helsinki:20240130T080000
DTEND;TZID=Europe/Helsinki:20240130T170000
DTSTAMP:20260419T193824
CREATED:20240131T124010Z
LAST-MODIFIED:20240131T124043Z
UID:16043-1706601600-1706634000@svobodnapraktika.com
SUMMARY:Денят на предприемача – с Никола Минков – събитие на живо
DESCRIPTION:Развиваш успешно бизнеса си\, но и ти имаш своите трудности по пътя напред. Мотивират те чуждите успехи\, свежите идеи и подкрепата. Включи се в събитието\, взимаш си всичко това от ежемесечните срещи. Във февруарското издание гостува Никола Минков\, основател на агенция Serpact. \nПрограмата за вечерта е разделена на три части: \n\nОсновна – с гост Никола Минков;\nQ&A сесия;\nNetworking.\n\nЕла\, за да чуеш историята на успеха на Никола Минков\, да се запознаеш с други предприемачи и да се вдъхновиш за своите бъдещи начинания. \nЗа кого е подходящо събитието\n\nЗа собственици на бизнес.\n\nЛектор\n\nНикола Минков е основател на агенция Serpact\, както и на SERP Conf.\, SERP Acad. Лектор е на над 80 конференции в България и по света. Преподавател е в СУ.\n\nУчастието е платено\, не е необходима предварителна регистрация. \n 
URL:https://svobodnapraktika.com/event/%d0%b4%d0%b5%d0%bd%d1%8f%d1%82-%d0%bd%d0%b0-%d0%bf%d1%80%d0%b5%d0%b4%d0%bf%d1%80%d0%b8%d0%b5%d0%bc%d0%b0%d1%87%d0%b0-%d1%81-%d0%bd%d0%b8%d0%ba%d0%be%d0%bb%d0%b0-%d0%bc%d0%b8%d0%bd%d0%ba
LOCATION:Carrusel Club\, ул. Георги С. Раковски 108\, София\, Bulgaria
CATEGORIES:София
ORGANIZER;CN="Entrepreneurs%20Night%20Out":MAILTO:info@entrepreneursnightout.org
END:VEVENT
END:VCALENDAR