BEGIN:VCALENDAR
VERSION:2.0
PRODID:-//Свободна практика - ECPv6.0.13//NONSGML v1.0//EN
CALSCALE:GREGORIAN
METHOD:PUBLISH
X-ORIGINAL-URL:https://svobodnapraktika.com
X-WR-CALDESC:Events for Свободна практика
REFRESH-INTERVAL;VALUE=DURATION:PT1H
X-Robots-Tag:noindex
X-PUBLISHED-TTL:PT1H
BEGIN:VTIMEZONE
TZID:Europe/Helsinki
BEGIN:DAYLIGHT
TZOFFSETFROM:+0200
TZOFFSETTO:+0300
TZNAME:EEST
DTSTART:20240331T010000
END:DAYLIGHT
BEGIN:STANDARD
TZOFFSETFROM:+0300
TZOFFSETTO:+0200
TZNAME:EET
DTSTART:20241027T010000
END:STANDARD
END:VTIMEZONE
BEGIN:VEVENT
DTSTART;TZID=Europe/Helsinki:20240118T193000
DTEND;TZID=Europe/Helsinki:20240118T213000
DTSTAMP:20260419T211659
CREATED:20240110T102257Z
LAST-MODIFIED:20240110T102257Z
UID:15943-1705606200-1705613400@svobodnapraktika.com
SUMMARY:Зима: документално и късо кино – събитие на живо
DESCRIPTION:Отправи се на пътешествие из полярните части на планетата. Прожекцията се фокусира върху: \n\nклимата и изменението му;\nоцеляването в дивата природа;\nвлиянието на човека върху околната среда.\n\nЗа кого е подходящо събитието\n\nЗа хора\, които обичат снеговете.\n\nЛектор\n\nСрещаш се с Виктор Троянов\, режисьор на документалния филм „Зима“.\n\nУчастието е с такса\, с предварителна регистрация.
URL:https://svobodnapraktika.com/event/%d0%b7%d0%b8%d0%bc%d0%b0-%d0%b4%d0%be%d0%ba%d1%83%d0%bc%d0%b5%d0%bd%d1%82%d0%b0%d0%bb%d0%bd%d0%be-%d0%b8-%d0%ba%d1%8a%d1%81%d0%be-%d0%ba%d0%b8%d0%bd%d0%be
LOCATION:Клуб на пътешественика\, ул. "Сердика" 19\, София
CATEGORIES:София
END:VEVENT
END:VCALENDAR