BEGIN:VCALENDAR
VERSION:2.0
PRODID:-//Свободна практика - ECPv6.0.13//NONSGML v1.0//EN
CALSCALE:GREGORIAN
METHOD:PUBLISH
X-ORIGINAL-URL:https://svobodnapraktika.com
X-WR-CALDESC:Events for Свободна практика
REFRESH-INTERVAL;VALUE=DURATION:PT1H
X-Robots-Tag:noindex
X-PUBLISHED-TTL:PT1H
BEGIN:VTIMEZONE
TZID:Europe/Helsinki
BEGIN:DAYLIGHT
TZOFFSETFROM:+0200
TZOFFSETTO:+0300
TZNAME:EEST
DTSTART:20230326T010000
END:DAYLIGHT
BEGIN:STANDARD
TZOFFSETFROM:+0300
TZOFFSETTO:+0200
TZNAME:EET
DTSTART:20231029T010000
END:STANDARD
END:VTIMEZONE
BEGIN:VEVENT
DTSTART;VALUE=DATE:20231005
DTEND;VALUE=DATE:20231007
DTSTAMP:20260420T014007
CREATED:20230917T193105Z
LAST-MODIFIED:20230917T193105Z
UID:15327-1696464000-1696636799@svobodnapraktika.com
SUMMARY:Career Show 2023 - хибридно събитие
DESCRIPTION:Ако току-що завършваш образованието си и все още не си поел по пътя на своята професионална реализаиция\, посети Career show следващия месец. Събитието е двудневно\, напълно безплатно\, с огромен мащаб – участие взимат над 200 компании. Каква е целта му? Да срещне млади специалисти от различни сфери с техните бъдещи работодатели. \nКакво да очакваш? \n\nДен първи – взимаш участие в активностите\, общуваш с представители на различните фирми\, присъстваш на лекции и демонстрации на нови технологии. Всичко това се случва в Арена Армеец.\nДен втори – включваш се онлайн от която и да е точка\, за да се представиш на избраните от теб компании.\n\nС какво още ти е полезно събитието? Имаш възможността да се: \n\nзапознаеш с експерти в различни области;\nполучиш кариерна консултация и насока от специалистм\nвключиш в полезни работилници и уебинари.\n\nЗа кого е подходящо\n\nЗа хора\, които търсят своята първа работа\, за утвърдени специалисти\, както и за такива\, които са решили да сменят професионалната си насока.\n\nВходът е без такса\, но регистрацията е задължителна. \n 
URL:https://svobodnapraktika.com/event/career-show-2023-%d1%85%d0%b8%d0%b1%d1%80%d0%b8%d0%b4%d0%bd%d0%be-%d1%81%d1%8a%d0%b1%d0%b8%d1%82%d0%b8%d0%b5
LOCATION:Арена Армеец София\, бул. Цариградско шосе 4-ти км
CATEGORIES:Онлайн събития,София
END:VEVENT
END:VCALENDAR