BEGIN:VCALENDAR
VERSION:2.0
PRODID:-//Свободна практика - ECPv6.0.13//NONSGML v1.0//EN
CALSCALE:GREGORIAN
METHOD:PUBLISH
X-ORIGINAL-URL:https://svobodnapraktika.com
X-WR-CALDESC:Events for Свободна практика
REFRESH-INTERVAL;VALUE=DURATION:PT1H
X-Robots-Tag:noindex
X-PUBLISHED-TTL:PT1H
BEGIN:VTIMEZONE
TZID:Europe/Helsinki
BEGIN:DAYLIGHT
TZOFFSETFROM:+0200
TZOFFSETTO:+0300
TZNAME:EEST
DTSTART:20230326T010000
END:DAYLIGHT
BEGIN:STANDARD
TZOFFSETFROM:+0300
TZOFFSETTO:+0200
TZNAME:EET
DTSTART:20231029T010000
END:STANDARD
END:VTIMEZONE
BEGIN:VEVENT
DTSTART;TZID=Europe/Helsinki:20230627T110000
DTEND;TZID=Europe/Helsinki:20230627T170000
DTSTAMP:20260420T075959
CREATED:20230530T075655Z
LAST-MODIFIED:20230530T075655Z
UID:15168-1687863600-1687885200@svobodnapraktika.com
SUMMARY:„Среща между бизнеса и младите“ – събитие на живо
DESCRIPTION:Ако си в края на своето средно образование\, най-вероятно въпросът за продължаване на обучението ти е на дневен ред. Да\, има младежи\, които са наясно с желанията\, очакванията и стремежите си\, но много други не са. Може би и ти самият нямаш яснота за бъдещето си. Това не е нито страшно\, нито притеснително. Напротив\, съвсем нормално е. През последните години има много обучения\, чиято цел е да ти дадат добра насока. Изключение не прави и предстоящото събитие. \nС какво е полезно за теб? \n\nопознаваш по-добре силните си страни;\nполучаваш ценни съвети и насоки от специалисти в различни области.\n\nРазделено е на три модула: \n\nПърви – срещаш се с консултанти от агенция Catro.\nВтори – разговаряш с професионалисти от различни сфери.\nТрети – разменяш контакти с компании\, които предлагат работни позиции за ученици и студенти.\n\nЗа кого е подходящо\n\nЗа младежи\, които все още търсят професионалната си реализация.\n\nЛектор\n\nОсновен лектор е адвокат Арнолд Ферейра\, специализирал в търговско и бизнес право. Преподавал е в университет в Ангола\, където работи и живее.\n\nУчастието е без такса\, с предварителна регистрация.
URL:https://svobodnapraktika.com/event/%d1%81%d1%80%d0%b5%d1%89%d0%b0-%d0%bc%d0%b5%d0%b6%d0%b4%d1%83-%d0%b1%d0%b8%d0%b7%d0%bd%d0%b5%d1%81%d0%b0-%d0%b8-%d0%bc%d0%bb%d0%b0%d0%b4%d0%b8%d1%82%d0%b5
LOCATION:INTERPRED WTC Sofia\, бул. "Драган Цанков" 36\, София\, Bulgaria
CATEGORIES:София
END:VEVENT
BEGIN:VEVENT
DTSTART;TZID=Europe/Helsinki:20230627T133000
DTEND;TZID=Europe/Helsinki:20230627T173000
DTSTAMP:20260420T075959
CREATED:20230509T203227Z
LAST-MODIFIED:20230509T203227Z
UID:15081-1687872600-1687887000@svobodnapraktika.com
SUMMARY:14-и Зелен форум 2023 - Going Green: Възможностите – събитие на живо
DESCRIPTION:Развиваш собствен бизнес\, а зелената тема те вълнува и като гражданин\, и като предприемач. Какви ще са възможностите и предизвикателствата пред бизнеса по пътя към зеления преход? На този и много други въпроси получаваш отговор по време на конференцията. \nСъбитието е разделено на четири панела: \n\nГорещите аспекти на зелената политика – дискутира се въпросът за трансформацията на бизнеса и обществото.\nESG: Устойчивите модели в бизнеса – фокусът е върху малките стъпки към промяната\, както и върху адаптацията на бизнеса към процесите.\nЕнергия за бъдещето – разбираш как страната ни може да се възползва от сътресенията в енергетиката и даде тласък на индустрията си.\nТочка на кипене – какви действия можем да предприемем като индивиди и общества\, за да отговорим на промените в климата.\n\nЗа кого е подходящо събитието\n\nМениджъри\, собственици на бизнес\, предприемачи и всички\, които се интересуват от темите за зеления преход.\n\nЛектори\n\nЕксперти на ръководни позиции в агенции с различен предмет на дейност. Виж имената им в страницата на форума.\n\nУчастието е без такса\, с предварителна регистрация.
URL:https://svobodnapraktika.com/event/14-%d0%b8-%d0%b7%d0%b5%d0%bb%d0%b5%d0%bd-%d1%84%d0%be%d1%80%d1%83%d0%bc-2023-going-green-%d0%b2%d1%8a%d0%b7%d0%bc%d0%be%d0%b6%d0%bd%d0%be%d1%81%d1%82%d0%b8%d1%82%d0%b5-%d1%81%d1%8a%d0%b1
LOCATION:Интер Експо Център\, бул. "Цариградско шосе" 147\, София
CATEGORIES:София
ORGANIZER;CN="%D1%81%D0%BF%D0%B8%D1%81%D0%B0%D0%BD%D0%B8%D0%B5%20%D0%9C%D0%B5%D0%BD%D0%B8%D0%B4%D0%B6%D1%8A%D1%80":MAILTO:press@manager.bg
END:VEVENT
END:VCALENDAR