BEGIN:VCALENDAR
VERSION:2.0
PRODID:-//Свободна практика - ECPv6.0.13//NONSGML v1.0//EN
CALSCALE:GREGORIAN
METHOD:PUBLISH
X-ORIGINAL-URL:https://svobodnapraktika.com
X-WR-CALDESC:Events for Свободна практика
REFRESH-INTERVAL;VALUE=DURATION:PT1H
X-Robots-Tag:noindex
X-PUBLISHED-TTL:PT1H
BEGIN:VTIMEZONE
TZID:Europe/Helsinki
BEGIN:DAYLIGHT
TZOFFSETFROM:+0200
TZOFFSETTO:+0300
TZNAME:EEST
DTSTART:20230326T010000
END:DAYLIGHT
BEGIN:STANDARD
TZOFFSETFROM:+0300
TZOFFSETTO:+0200
TZNAME:EET
DTSTART:20231029T010000
END:STANDARD
END:VTIMEZONE
BEGIN:VEVENT
DTSTART;VALUE=DATE:20230611
DTEND;VALUE=DATE:20230612
DTSTAMP:20260420T094324
CREATED:20230509T203408Z
LAST-MODIFIED:20230509T203408Z
UID:15078-1686441600-1686527999@svobodnapraktika.com
SUMMARY:„София: Кариера и живот - Защо в България?“ – събитие на живо
DESCRIPTION:Завършил си наскоро обучението си\, но все още не виждаш ясно своя път напред. Колебаеш се къде да стартираш професионалната си реализация – тук или в чужбина. В търсене на своето място си и с всяка кандидатура вярваш\, че ще този път ще попаднеш точно на него. Обмисли възможността да се включиш и в кариерния форум. \nЗащо да вземеш участие? \n\nСрещаш се с фирми от различни сектори.\nКандидатстваш за реални работни позиции.\nЗапознаваш се с вдъхновяващи хора.\nОбменяш опит и знания.\n\nИ може би намираш своята причина да работиш и живееш в България. \nЗа кого е подходящо събитието\n\nЗа младежи\, които своето поприще.\n\nУчастието е без такса\, с предварителна регистрация.
URL:https://svobodnapraktika.com/event/%d1%81%d0%be%d1%84%d0%b8%d1%8f-%d0%ba%d0%b0%d1%80%d0%b8%d0%b5%d1%80%d0%b0-%d0%b8-%d0%b6%d0%b8%d0%b2%d0%be%d1%82-%d0%b7%d0%b0%d1%89%d0%be-%d0%b2-%d0%b1%d1%8a%d0%bb%d0%b3%d0%b0%d1%80%d0%b8
LOCATION:John Atanassov Innovation Forum (Иновационен форум Джон Атанасов)\, 111Г Цариградско шосе\, София
CATEGORIES:София
ORGANIZER;CN="Bulgaria%20Wants%20You":MAILTO:office@bulgariawantsyou.com
END:VEVENT
END:VCALENDAR