BEGIN:VCALENDAR
VERSION:2.0
PRODID:-//Свободна практика - ECPv6.0.13//NONSGML v1.0//EN
CALSCALE:GREGORIAN
METHOD:PUBLISH
X-WR-CALNAME:Свободна практика
X-ORIGINAL-URL:https://svobodnapraktika.com
X-WR-CALDESC:Events for Свободна практика
REFRESH-INTERVAL;VALUE=DURATION:PT1H
X-Robots-Tag:noindex
X-PUBLISHED-TTL:PT1H
BEGIN:VTIMEZONE
TZID:Europe/Helsinki
BEGIN:DAYLIGHT
TZOFFSETFROM:+0200
TZOFFSETTO:+0300
TZNAME:EEST
DTSTART:20230326T010000
END:DAYLIGHT
BEGIN:STANDARD
TZOFFSETFROM:+0300
TZOFFSETTO:+0200
TZNAME:EET
DTSTART:20231029T010000
END:STANDARD
END:VTIMEZONE
BEGIN:VEVENT
DTSTART;TZID=Europe/Helsinki:20230504T193000
DTEND;TZID=Europe/Helsinki:20230504T213000
DTSTAMP:20260420T124150
CREATED:20230504T100342Z
LAST-MODIFIED:20230504T100342Z
UID:15063-1683228600-1683235800@svobodnapraktika.com
SUMMARY:„Нова Зеландия - кемпъри и птици“ – събитие на живо
DESCRIPTION:Работата на свободна практика ти дава възможността да пътуваш и живееш където и да е по света. Ако предпочиташ да си в движение вместо в офис\, най-вероятно ти самият си обмислял да обиколиш не държава\, а цял континент с кемпер\, каравана или дори ван. Все по-често виждаме примери за семейства\, които живеят по този начин. Споделят снимки\, разказват истории и ни карат да мечтаем. Ако подобно битуване е привлекателно и за теб\, включи се събитието\, организирано от „Клуб на пътешественика“. \nЛекторът те отвежда чак до Нова Зеландия\, където ти разказва за своите приключения и споделя впечатленията си от природата\, културата и къмпингите. Самият той обикаля островите с кемпер-ван в продължение на 2\,5 месеца. \nЗа кого е подходящо събитието\n\nЗа хора със свободни професии\, които обичат да пътуват по света.\n\nУчастието е с такса\, с предварителна регистрация. \n\nВходът е с благотворителна цел.
URL:https://svobodnapraktika.com/event/%d0%bd%d0%be%d0%b2%d0%b0-%d0%b7%d0%b5%d0%bb%d0%b0%d0%bd%d0%b4%d0%b8%d1%8f-%d0%ba%d0%b5%d0%bc%d0%bf%d1%8a%d1%80%d0%b8-%d0%b8-%d0%bf%d1%82%d0%b8%d1%86%d0%b8-%d1%81%d1%8a
LOCATION:Клуб на пътешественика\, ул. "Сердика" 19\, София
CATEGORIES:София
ORGANIZER;CN="%D0%9A%D0%BB%D1%83%D0%B1%20%D0%BD%D0%B0%20%D0%BF%D1%8A%D1%82%D0%B5%D1%88%D0%B5%D1%81%D1%82%D0%B2%D0%B5%D0%BD%D0%B8%D0%BA%D0%B0":MAILTO:travellersclub.bg@gmail.com
END:VEVENT
END:VCALENDAR