BEGIN:VCALENDAR
VERSION:2.0
PRODID:-//Свободна практика - ECPv6.0.13//NONSGML v1.0//EN
CALSCALE:GREGORIAN
METHOD:PUBLISH
X-ORIGINAL-URL:https://svobodnapraktika.com
X-WR-CALDESC:Events for Свободна практика
REFRESH-INTERVAL;VALUE=DURATION:PT1H
X-Robots-Tag:noindex
X-PUBLISHED-TTL:PT1H
BEGIN:VTIMEZONE
TZID:Europe/Helsinki
BEGIN:DAYLIGHT
TZOFFSETFROM:+0200
TZOFFSETTO:+0300
TZNAME:EEST
DTSTART:20230326T010000
END:DAYLIGHT
BEGIN:STANDARD
TZOFFSETFROM:+0300
TZOFFSETTO:+0200
TZNAME:EET
DTSTART:20231029T010000
END:STANDARD
END:VTIMEZONE
BEGIN:VEVENT
DTSTART;TZID=Europe/Helsinki:20230225T170000
DTEND;TZID=Europe/Helsinki:20230225T200000
DTSTAMP:20260420T183032
CREATED:20230219T223941Z
LAST-MODIFIED:20230219T223941Z
UID:14713-1677344400-1677355200@svobodnapraktika.com
SUMMARY:Изграждане на общност около бизнеса – събитие на живо
DESCRIPTION:Решил си да работиш целенасочено и методично за създаването на собствен бизнес. Наясно си\, че да предлагаш свои или чужди продукти не е достатъчно\, трябва да положиш много усилия\, за да изградиш положителна представа за марката си. Дали ще имаш клиенти\, които да подкрепят бранда\, да се идентифицират с него и ценностите му зависи от теб. Лоялната аудитория: \n\nспомага за разпознаваемостта;\nповишава ангажираността;\nдава ти обратна връзка.\n\nАко темата ти е интересна\, включи се в събитието. Лекторът споделя своите знания и опит и те вдъхновяват да направиш крачка напред. \nЗа кого е подходящо\n\nЗа бъдещи и настоящи собственици на бизнес.\n\nЛектор\n\nАдриана Дечина е Social media and Community manager в Mammi.BG и основател на „Малки съкровища“ – уеб сайт за препродажба на детски дрехи и играчки.\n\nСъбитието е без такса\, не е необходима предварителна регистрация. \n 
URL:https://svobodnapraktika.com/event/%d0%b8%d0%b7%d0%b3%d1%80%d0%b0%d0%b6%d0%b4%d0%b0%d0%bd%d0%b5-%d0%bd%d0%b0-%d0%be%d0%b1%d1%89%d0%bd%d0%be%d1%81%d1%82-%d0%be%d0%ba%d0%be%d0%bb%d0%be-%d0%b1%d0%b8%d0%b7%d0%bd%d0%b5%d1%81%d0%b0
LOCATION:WorkBetter\, Черни връх 51\, София\, Bulgaria
CATEGORIES:София
ORGANIZER;CN="Future%20Females%20Sofia":MAILTO:stela@futurefemales.co
END:VEVENT
END:VCALENDAR