BEGIN:VCALENDAR
VERSION:2.0
PRODID:-//Свободна практика - ECPv6.0.13//NONSGML v1.0//EN
CALSCALE:GREGORIAN
METHOD:PUBLISH
X-WR-CALNAME:Свободна практика
X-ORIGINAL-URL:https://svobodnapraktika.com
X-WR-CALDESC:Events for Свободна практика
REFRESH-INTERVAL;VALUE=DURATION:PT1H
X-Robots-Tag:noindex
X-PUBLISHED-TTL:PT1H
BEGIN:VTIMEZONE
TZID:Europe/Helsinki
BEGIN:DAYLIGHT
TZOFFSETFROM:+0200
TZOFFSETTO:+0300
TZNAME:EEST
DTSTART:20230326T010000
END:DAYLIGHT
BEGIN:STANDARD
TZOFFSETFROM:+0300
TZOFFSETTO:+0200
TZNAME:EET
DTSTART:20231029T010000
END:STANDARD
END:VTIMEZONE
BEGIN:VEVENT
DTSTART;TZID=Europe/Helsinki:20230202T200000
DTEND;TZID=Europe/Helsinki:20230202T220000
DTSTAMP:20260420T182817
CREATED:20230130T084238Z
LAST-MODIFIED:20230130T084238Z
UID:14589-1675368000-1675375200@svobodnapraktika.com
SUMMARY:Вечер на Freelancer-a – среща на живо
DESCRIPTION:Работиш на свободна практика и дори понякога да посещаваш споделените пространства\, живата връзка с колегите ти липсва. Sterling Social Club ти дава възможност да се срещнеш с други фрийлансъри в извънработно време. Включи се във „Вечер на Freelancer-a“\, за да се запознаеш с експерти в различни области\, да поговорите\, да споделите опит и да се позабавлявате. \nЗа кого е подходящо събитието\n\nЗа специалисти на свободна практика.\n\nУчастието е платено\, не се изисква предварителна регистрация.
URL:https://svobodnapraktika.com/event/%d0%b2%d0%b5%d1%87%d0%b5%d1%80-%d0%bd%d0%b0-freelancer-a-%d1%81%d1%80%d0%b5%d1%89%d0%b0-%d0%bd%d0%b0-%d0%b6%d0%b8%d0%b2%d0%be
LOCATION:Sterling Social Club\, Дунав 25\, София\, Bulgaria
CATEGORIES:София
END:VEVENT
END:VCALENDAR