BEGIN:VCALENDAR
VERSION:2.0
PRODID:-//Свободна практика - ECPv6.0.13//NONSGML v1.0//EN
CALSCALE:GREGORIAN
METHOD:PUBLISH
X-WR-CALNAME:Свободна практика
X-ORIGINAL-URL:https://svobodnapraktika.com
X-WR-CALDESC:Events for Свободна практика
REFRESH-INTERVAL;VALUE=DURATION:PT1H
X-Robots-Tag:noindex
X-PUBLISHED-TTL:PT1H
BEGIN:VTIMEZONE
TZID:Europe/Helsinki
BEGIN:DAYLIGHT
TZOFFSETFROM:+0200
TZOFFSETTO:+0300
TZNAME:EEST
DTSTART:20230326T010000
END:DAYLIGHT
BEGIN:STANDARD
TZOFFSETFROM:+0300
TZOFFSETTO:+0200
TZNAME:EET
DTSTART:20231029T010000
END:STANDARD
END:VTIMEZONE
BEGIN:VEVENT
DTSTART;TZID=Europe/Helsinki:20230129T150000
DTEND;TZID=Europe/Helsinki:20230129T180000
DTSTAMP:20260420T200132
CREATED:20230102T182915Z
LAST-MODIFIED:20230102T182915Z
UID:14448-1675004400-1675015200@svobodnapraktika.com
SUMMARY:„Пътят към творческо вдъхновение“ (за пишещи и не само) – курс на живо в София
DESCRIPTION:Думите са твоята страст\, но искаш да боравиш по-умело с тях. Или пък изследваш своя потенциал\, стремиш се да го разгърнеш\, за да разказваш завладяващи истории. Във всеки от тези случаи курсът е за теб. Обучението ти е полезно\, независимо дали се занимаваш с журналистика\, копирайтинг\, списване на блог\, създаване на разкази\, пътеписи и какво ли още не. Включи се\, за да: \n\nразбереш границите на собствените си възможности;\nсе научиш да експериментираш;\nусвоиш полезни техники.\n\nКурсът е с продължителност 3 астрономически часа и се провежда в 10 поредни недели. \nЗа кого е подходящо събитието\n\nЗа всички\, които се занимават с писане и искат да изследват възможностите си.\n\nЛектори\n\nЕлена Алтимирска е психолог и мастър коуч.\nСветослав Димитров е писател и композитор.\n\nУчастието е платено\, с предварителна регистрация. \n\nТаксата до 01.01. е 360 лв.\, а след това – 440 лв.\n\n 
URL:https://svobodnapraktika.com/event/%d0%bf%d1%8a%d1%82%d1%8f%d1%82-%d0%ba%d1%8a%d0%bc-%d1%82%d0%b2%d0%be%d1%80%d1%87%d0%b5%d1%81%d0%ba%d0%be-%d0%b2%d0%b4%d1%8a%d1%85%d0%bd%d0%be%d0%b2%d0%b5%d0%bd%d0%b8%d0%b5
LOCATION:Гара Вдъхновение/ Inspiration Station\, Ами Буе 61\, София\, Bulgaria
CATEGORIES:София
ORGANIZER;CN="Creative%20Spark":MAILTO:svetko.jimmy@gmail.com
END:VEVENT
END:VCALENDAR