BEGIN:VCALENDAR
VERSION:2.0
PRODID:-//Свободна практика - ECPv6.0.13//NONSGML v1.0//EN
CALSCALE:GREGORIAN
METHOD:PUBLISH
X-WR-CALNAME:Свободна практика
X-ORIGINAL-URL:https://svobodnapraktika.com
X-WR-CALDESC:Events for Свободна практика
REFRESH-INTERVAL;VALUE=DURATION:PT1H
X-Robots-Tag:noindex
X-PUBLISHED-TTL:PT1H
BEGIN:VTIMEZONE
TZID:Europe/Helsinki
BEGIN:DAYLIGHT
TZOFFSETFROM:+0200
TZOFFSETTO:+0300
TZNAME:EEST
DTSTART:20230326T010000
END:DAYLIGHT
BEGIN:STANDARD
TZOFFSETFROM:+0300
TZOFFSETTO:+0200
TZNAME:EET
DTSTART:20231029T010000
END:STANDARD
END:VTIMEZONE
BEGIN:VEVENT
DTSTART;VALUE=DATE:20230121
DTEND;VALUE=DATE:20230123
DTSTAMP:20260420T200135
CREATED:20221130T110434Z
LAST-MODIFIED:20221130T110434Z
UID:14311-1674259200-1674431999@svobodnapraktika.com
SUMMARY:Обучение на живо – „Как да разбираме хората през техните думи\, жестове\, поведение“
DESCRIPTION:Колко пъти ти се е случвало\, когато засягаш някаква тема\, да видиш как лека неувереност се прокрадва в очите на събеседника ти и да осъзнаеш\, че там е слабото му място? \nАко се интересуваш от жестовете и мимиките\, вероятно си наясно\, че те казват много повече за вътрешния свят на човек отколкото думите. Често забелязваш блясъка в очите\, кръстосаните ръце\, които те карат да седиш надалеч или погледа\, сведен надолу по време на разговор. Ако темата за невербалната комуникация ти е интересна\, включи се в събитието. \nОт трима експерти – лингвист и двама криминални психолози – научаваш много повече за човешката същност отколкото най-вероятно знаеш до момента. Обучението е практически насочено и ти предлага инструменти\, с които бързо да приложиш наученото. \nЗа кого е подходящо събитието\n\nЗа всички\, които искат да разчитат по-лесно символите на тялото.\n\nУчастието е с такса.
URL:https://svobodnapraktika.com/event/%d0%b4%d1%83%d0%bc%d0%b8-%d0%b6%d0%b5%d1%81%d1%82%d0%be%d0%b2%d0%b5-%d0%bf%d0%be%d0%b2%d0%b5%d0%b4%d0%b5%d0%bd%d0%b8%d0%b5-%d0%ba%d0%b0%d0%ba-%d0%b4%d0%b0-%d1%80%d0%b0%d0%b7%d0%b1%d0%b8%d1%80%d0%b0
LOCATION:Интер Експо Център\, бул. "Цариградско шосе" 147\, София
CATEGORIES:София
END:VEVENT
BEGIN:VEVENT
DTSTART;TZID=Europe/Helsinki:20230121T180000
DTEND;TZID=Europe/Helsinki:20230121T200000
DTSTAMP:20260420T200135
CREATED:20230119T173523Z
LAST-MODIFIED:20230119T173523Z
UID:14535-1674324000-1674331200@svobodnapraktika.com
SUMMARY:BookTalks vol.24 - събитие на живо
DESCRIPTION:Обичаш да четеш и отделяш време за това винаги щом имаш възможност. А би ли посетил събитие\, в което бизнесмени и популярни личности разказват за книгите\, които са ги впечатлили? Ако би\, то месечното издание Book Talks е точно за теб. Включи се още тази събота. Ела\, за да чуеш резюме на: \n\n„Как да печелим приятели и да влияем на другите“ – Дейл Карнеги\n\nДори и да не си чел книгата\, няма как да не си чувал за нея. С продадените над 30 млн. копия тя е една от най-търсените в света. Някои от въпросите\, на които авторът отговаря\, са: \n\nкак да накараш хората да те харесват;\nкак да ги спечелиш на своя страна.\n\nПовече научаваш по време на събитието. \n\n„Мъжете са от Марс\, жените от Венера“ – д-р Джон Грей\n\nКнигата е издадена преди почти 30 години\, но е съвсем актуална и към днешна дата. С чувство за хумор авторът говори за различията между половете и посочва ключът към добрите взаимоотношения – приемането и разбирането на другия. \nЗа кого е подходящо събитието\n\nЗа всички\, които обичат интересните и полезните книги.\n\nПрезентатори\n\nГеорги Янков е специалист в продажбите на недвижими имоти. Той е съосновател на Imvestia\, управляващ съдружник и мениджър в агенциия за недвижими имоти Primo+.\nИвайло Кунев е автор и водещ на BookTalks. Той е бизнес треньор\, създател на програми за развитие на бизнес компетентности и автор на книгите „Лидерите: забравените истории на България“ и „Stretch – цялостна програма за баланс в живота“.\n\nУчастието е платено\, с предварителна регистрация.
URL:https://svobodnapraktika.com/event/booktalks-vol-24-%d1%81%d1%8a%d0%b1%d0%b8%d1%82%d0%b8%d0%b5-%d0%bd%d0%b0-%d0%b6%d0%b8%d0%b2%d0%be
LOCATION:PM клуб\, Позитано\, София\, Bulgaria
CATEGORIES:София
END:VEVENT
END:VCALENDAR