BEGIN:VCALENDAR
VERSION:2.0
PRODID:-//Свободна практика - ECPv6.0.13//NONSGML v1.0//EN
CALSCALE:GREGORIAN
METHOD:PUBLISH
X-ORIGINAL-URL:https://svobodnapraktika.com
X-WR-CALDESC:Events for Свободна практика
REFRESH-INTERVAL;VALUE=DURATION:PT1H
X-Robots-Tag:noindex
X-PUBLISHED-TTL:PT1H
BEGIN:VTIMEZONE
TZID:Europe/Helsinki
BEGIN:DAYLIGHT
TZOFFSETFROM:+0200
TZOFFSETTO:+0300
TZNAME:EEST
DTSTART:20220327T010000
END:DAYLIGHT
BEGIN:STANDARD
TZOFFSETFROM:+0300
TZOFFSETTO:+0200
TZNAME:EET
DTSTART:20221030T010000
END:STANDARD
END:VTIMEZONE
BEGIN:VEVENT
DTSTART;TZID=Europe/Helsinki:20221213T140000
DTEND;TZID=Europe/Helsinki:20221213T203000
DTSTAMP:20260420T214640
CREATED:20221212T152517Z
LAST-MODIFIED:20221212T152517Z
UID:14358-1670940000-1670963400@svobodnapraktika.com
SUMMARY:Практична празнична сбирка за инфлуенсъри и брандове – събитие на живо
DESCRIPTION:Много бизнеси използват Инстаграм\, за да се популяризират\, знаеш това. Работата с инфлуенсъри ти помага да достигнеш до по-широка аудитория. Ако проявяваш интерес към този вид сътрудничество\, но все още не си се възползвал от възможностите\, които ти предлага мрежата\, включи се в събитието. \nЕла\, за да разбереш: \n\nкога да започнеш работа с инфлуенсъри;\nкакъв бюджет да отделиш и др.\n\nСрещата е подходяща за теб и ако си създател на съдържание и търсиш бъдещи партньори. Включи се\, за да научиш повече за сътрудничеството си с бизнеса: \n\nкак да определяш цени;\nкога да работиш на бартер и кога – срещу заплащане;\nкак да намираш клиенти.\n\nПо време на коктейла в края на събитието създаваш нови и полезни контакти. \nЗа кого е подходяща срещата\n\nЗа инфлуенсъри и собственици на бизнес.\n\nУчастието е с такса\, с предварителна регистрация.
URL:https://svobodnapraktika.com/event/%d0%bf%d1%80%d0%b0%d0%ba%d1%82%d0%b8%d1%87%d0%bd%d0%b0-%d0%bf%d1%80%d0%b0%d0%b7%d0%bd%d0%b8%d1%87%d0%bd%d0%b0-%d1%81%d0%b1%d0%b8%d1%80%d0%ba%d0%b0-%d0%b7%d0%b0-%d0%b8%d0%bd%d1%84%d0%bb%d1%83%d0%b5
LOCATION:Taste Place Station\, ул. „Фредерик Жолио Кюри“\, 1000\, 1113 София\, София\, Bulgaria
CATEGORIES:София
ORGANIZER;CN="Influencer%20Media":MAILTO:radostna@influencermedia.bg
END:VEVENT
END:VCALENDAR