BEGIN:VCALENDAR
VERSION:2.0
PRODID:-//Свободна практика - ECPv6.0.13//NONSGML v1.0//EN
CALSCALE:GREGORIAN
METHOD:PUBLISH
X-WR-CALNAME:Свободна практика
X-ORIGINAL-URL:https://svobodnapraktika.com
X-WR-CALDESC:Events for Свободна практика
REFRESH-INTERVAL;VALUE=DURATION:PT1H
X-Robots-Tag:noindex
X-PUBLISHED-TTL:PT1H
BEGIN:VTIMEZONE
TZID:Europe/Helsinki
BEGIN:DAYLIGHT
TZOFFSETFROM:+0200
TZOFFSETTO:+0300
TZNAME:EEST
DTSTART:20220327T010000
END:DAYLIGHT
BEGIN:STANDARD
TZOFFSETFROM:+0300
TZOFFSETTO:+0200
TZNAME:EET
DTSTART:20221030T010000
END:STANDARD
END:VTIMEZONE
BEGIN:VEVENT
DTSTART;VALUE=DATE:20220609
DTEND;VALUE=DATE:20220610
DTSTAMP:20260421T070417
CREATED:20220519T125741Z
LAST-MODIFIED:20220519T125741Z
UID:13632-1654732800-1654819199@svobodnapraktika.com
SUMMARY:Събитие от хибриден тип „София: Живот и кариера - Защо в България?“
DESCRIPTION:Обучението ти\, гимназиално или академично\, вече е към своя край и оттук нататък следва фундаменталният въпрос „А сега накъде?“. Пътят е неясен – и в житейски\, и в професионален план. България ли виждаш като мястото за себе си или широкия свят с неговите безкрайни възможности? Колебаеш се\, но можеш да направиш крачка напред към бъдещето като се включиш във форума „София: Живот и кариера – защо в България?“. \nУчаствай\, за да разбереш каква е причината някои от най-успешните предприемачи да останат тук. Те присъстват като гост-лектори\, разказват ти за своя професионален път\, дават ти ценни кариерни съвети и насоки. Освен това по време на изложението имаш възможност да разговаряш лично с представители на бизнеса и да кандидатстваш за работа в партньорските компании. \nСъбитието е разделено на две части: \n\nнационална дискусия (излъчва се онлайн);\nкариерно изложение (вход свободен).\n\nЗа кого е подходящо\n\nЗа ученици\, студенти и всички\, които не са направили своя професионален и житейски избор.\n\nЛектори\n\nЛекторите са предприемачи от България. Патрон на форума е вицепрезидентът Илияна Йотова.\n\nУчастието е безплатно\, с предварителна регистрация.
URL:https://svobodnapraktika.com/event/%d0%b6%d0%b8%d0%b2%d0%be%d1%82-%d0%ba%d0%b0%d1%80%d0%b8%d0%b5%d1%80%d0%b0-%d0%b7%d0%b0%d1%89%d0%be-%d0%b2-%d0%b1%d1%8a%d0%bb%d0%b3%d0%b0%d1%80%d0%b8%d1%8f
LOCATION:София Тех Парк\, София Тех Парк\, Иновационен форум "Джон Атанасов"\, София\, София\, бул. „Цариградско шосе“ 111 Б
CATEGORIES:Онлайн събития,София
END:VEVENT
END:VCALENDAR