BEGIN:VCALENDAR
VERSION:2.0
PRODID:-//Свободна практика - ECPv6.0.13//NONSGML v1.0//EN
CALSCALE:GREGORIAN
METHOD:PUBLISH
X-WR-CALNAME:Свободна практика
X-ORIGINAL-URL:https://svobodnapraktika.com
X-WR-CALDESC:Events for Свободна практика
REFRESH-INTERVAL;VALUE=DURATION:PT1H
X-Robots-Tag:noindex
X-PUBLISHED-TTL:PT1H
BEGIN:VTIMEZONE
TZID:Europe/Helsinki
BEGIN:DAYLIGHT
TZOFFSETFROM:+0200
TZOFFSETTO:+0300
TZNAME:EEST
DTSTART:20220327T010000
END:DAYLIGHT
BEGIN:STANDARD
TZOFFSETFROM:+0300
TZOFFSETTO:+0200
TZNAME:EET
DTSTART:20221030T010000
END:STANDARD
END:VTIMEZONE
BEGIN:VEVENT
DTSTART;VALUE=DATE:20220519
DTEND;VALUE=DATE:20220520
DTSTAMP:20260423T130153
CREATED:20220511T072522Z
LAST-MODIFIED:20220511T072522Z
UID:13599-1652918400-1653004799@svobodnapraktika.com
SUMMARY:Наука за бизнес – събитие на живо
DESCRIPTION:Ако си предприемчив човек\, за когото иновациите не са приумица на бъдещето\, а по-скоро необходимост в настоящето\, включи се в събитието. Полезно ти е\, дори и да не внедряваш научните открития в своята работа\, защото именно в София Тех Парк могат да се родят идеи за разширяване на дейността ти. \nПо време на срещата учени от БАН представят редица свои разработки\, както и успешни примери за съвместна дейност между Академията на науките и бизнеса. Експото пък ти показва интересни прототипи\, сред които: \n\nсистема за генериране\, съхранение и потребление на чиста енергия;\nробот за UV дезинфекция;\nавтономен дирижабъл и др.\n\nВключи се\, имаш възможност да установиш важни и полезни контакти. \nЗа кого е подходящо събитието\n\nЗа собственици на бизнес.\n\nУчастието е безплатно\, с предварителна регистрация.
URL:https://svobodnapraktika.com/event/%d0%bd%d0%b0%d1%83%d0%ba%d0%b0-%d0%b7%d0%b0-%d0%b1%d0%b8%d0%b7%d0%bd%d0%b5%d1%81-%d1%81%d1%8a%d0%b1%d0%b8%d1%82%d0%b8%d0%b5-%d0%bd%d0%b0-%d0%b6%d0%b8%d0%b2%d0%be
LOCATION:София Тех Парк\, София Тех Парк\, Иновационен форум "Джон Атанасов"\, София\, София\, бул. „Цариградско шосе“ 111 Б
CATEGORIES:София
ORGANIZER;CN="%D0%98%D0%B7%D0%BF%D1%8A%D0%BB%D0%BD%D0%B8%D1%82%D0%B5%D0%BB%D0%BD%D0%B0%20%D0%B0%D0%B3%D0%B5%D0%BD%D1%86%D0%B8%D1%8F%20%D0%B7%D0%B0%20%D0%BD%D0%B0%D1%81%D1%8A%D1%80%D1%87%D0%B0%D0%B2%D0%B0%D0%BD%D0%B5%20%D0%BD%D0%B0%20%D0%BC%D0%B0%D0%BB%D0%BA%D0%B8%D1%82%D0%B5%20%D0%B8%20%D1%81%D1%80%D0%B5%D0%B4%D0%BD%D0%B8%D1%82%D0%B5%20%D0%BF%D1%80%D0%B5%D0%B4%D0%BF%D1%80%D0%B8%D1%8F%D1%82%D0%B8%D1%8F":MAILTO:office@sme.government.bg
END:VEVENT
END:VCALENDAR