BEGIN:VCALENDAR
VERSION:2.0
PRODID:-//Свободна практика - ECPv6.0.13//NONSGML v1.0//EN
CALSCALE:GREGORIAN
METHOD:PUBLISH
X-ORIGINAL-URL:https://svobodnapraktika.com
X-WR-CALDESC:Events for Свободна практика
REFRESH-INTERVAL;VALUE=DURATION:PT1H
X-Robots-Tag:noindex
X-PUBLISHED-TTL:PT1H
BEGIN:VTIMEZONE
TZID:Europe/Helsinki
BEGIN:DAYLIGHT
TZOFFSETFROM:+0200
TZOFFSETTO:+0300
TZNAME:EEST
DTSTART:20220327T010000
END:DAYLIGHT
BEGIN:STANDARD
TZOFFSETFROM:+0300
TZOFFSETTO:+0200
TZNAME:EET
DTSTART:20221030T010000
END:STANDARD
END:VTIMEZONE
BEGIN:VEVENT
DTSTART;VALUE=DATE:20220414
DTEND;VALUE=DATE:20220417
DTSTAMP:20260423T113403
CREATED:20220329T202735Z
LAST-MODIFIED:20220329T202735Z
UID:13048-1649894400-1650153599@svobodnapraktika.com
SUMMARY:Конференция на живо за бъдещето на Европа – национален хакатон
DESCRIPTION:Ти си млад\, деен\, социално ангажиран. Интересуваш се от случващото се в страната\, имаш своя визия за бъдещето на Европа и си активен на местно или национално ниво. Заяви участие в хакатона\, той е точно за хора като теб. \nВключи се\, за да: \n\nвлезеш в диалог за бъдещето;\nпредставиш своята визия за развитието на страната и Европа;\nнаучиш повече за социалната промяна.\n\nОсновната идея на организаторите от НМФ е да чуят гледната точка на младежите за бъдещето на Европа и да я представят пред ЕП посредством трима български евродепутати. \nЗа кого е подходящо събитието\n\nЗа социално ангажирани младежи на възраст между 16 и 35 години от цялата страна.\n\nСъбитието е без такса\, с предварителна регистрация. \n\nЗаяви участието си не по-късно от 04.04.
URL:https://svobodnapraktika.com/event/%d0%ba%d0%be%d0%bd%d1%84%d0%b5%d1%80%d0%b5%d0%bd%d1%86%d0%b8%d1%8f-%d0%b1%d1%8a%d0%b4%d0%b5%d1%89%d0%b5-%d0%b5%d0%b2%d1%80%d0%be%d0%bf%d0%b0-%d1%85%d0%b0%d0%ba%d0%b0%d1%82%d0%be%d0%bd
LOCATION:Хотел “Света София”\, "Пиротска" 18\, София\, Bulgaria
CATEGORIES:София
ORGANIZER;CN="%D0%9D%D0%B0%D1%86%D0%B8%D0%BE%D0%BD%D0%B0%D0%BB%D0%B5%D0%BD%20%D0%BC%D0%BB%D0%B0%D0%B4%D0%B5%D0%B6%D0%BA%D0%B8%20%D1%84%D0%BE%D1%80%D1%83%D0%BC":MAILTO:secretariat@nmf.bg
END:VEVENT
END:VCALENDAR