BEGIN:VCALENDAR
VERSION:2.0
PRODID:-//Свободна практика - ECPv6.0.13//NONSGML v1.0//EN
CALSCALE:GREGORIAN
METHOD:PUBLISH
X-WR-CALNAME:Свободна практика
X-ORIGINAL-URL:https://svobodnapraktika.com
X-WR-CALDESC:Events for Свободна практика
REFRESH-INTERVAL;VALUE=DURATION:PT1H
X-Robots-Tag:noindex
X-PUBLISHED-TTL:PT1H
BEGIN:VTIMEZONE
TZID:Europe/Helsinki
BEGIN:DAYLIGHT
TZOFFSETFROM:+0200
TZOFFSETTO:+0300
TZNAME:EEST
DTSTART:20220327T010000
END:DAYLIGHT
BEGIN:STANDARD
TZOFFSETFROM:+0300
TZOFFSETTO:+0200
TZNAME:EET
DTSTART:20221030T010000
END:STANDARD
END:VTIMEZONE
BEGIN:VEVENT
DTSTART;VALUE=DATE:20220223
DTEND;VALUE=DATE:20220319
DTSTAMP:20260423T163419
CREATED:20220220T203949Z
LAST-MODIFIED:20220220T203949Z
UID:12850-1645574400-1647647999@svobodnapraktika.com
SUMMARY:„Щрих и Стих - поезия в анимация” - изложба в MOVE.BG
DESCRIPTION:Работиш с думите и истински се наслаждаваш\, когато са подбрани така\, че от тях да звучи музика. Ако пък си и любител на анимациите\, вярвам\, че предстоящата изложба ще те зареди с голяма доза вдъхновение. \nСъбитието ще ти е интересно и ако се занимаваш с дизайн или рисуване\, не само защото виждаш различни похвати при създаването на анимациите\, а и защото самата продукция е дело на небезизвестната продуцентска къща „Компот Колектив“. \nКакво да очакваш?\nПосети залата на Move между 23.02. и 18.03.\, за да видиш сцени от 12 анимационни филма\, създадени по съвременни стихове. Ако пък дойдеш в деня на откриването\, ще бъдеш отведен в света на анимацията\, а твой гид ще е Весела Данчева – директор на „Компот Колектив“. \nНаучени имената на поетите и режисьорите\, без които събитието нямаше да се състои. \nЗа кого е подходящо събитието\n\nЗа хора\, които харесват думите\, стиховете и анимациите.\n\nСъбитието е без такса. \n\nЗеленият сертификат е задължителен.\n\n 
URL:https://svobodnapraktika.com/event/%d1%89%d1%80%d0%b8%d1%85-%d1%81%d1%82%d0%b8%d1%85-%d0%bf%d0%be%d0%b5%d0%b7%d0%b8%d1%8f-%d0%b0%d0%bd%d0%b8%d0%bc%d0%b0%d1%86%d0%b8%d1%8f-%d0%b8%d0%b7%d0%bb%d0%be%d0%b6%d0%b1%d0%b0
LOCATION:MOVE.bg\, ул. Сердика 20
CATEGORIES:София
END:VEVENT
BEGIN:VEVENT
DTSTART;TZID=Europe/Helsinki:20220315T093000
DTEND;TZID=Europe/Helsinki:20220315T130000
DTSTAMP:20260423T163419
CREATED:20220309T085451Z
LAST-MODIFIED:20220309T085451Z
UID:12959-1647336600-1647349200@svobodnapraktika.com
SUMMARY:Годишна среща на бизнеса с правителството - хибридно събитие
DESCRIPTION:Световните събития от последните дни вече оказват своето влияние върху бизнеса в България. Не може да се отрече и ролята на инфлацията в икономическите процеси. Трудно е да се каже как бизнесът ще премине през поредното изпитание\, както и кои отрасли ще са по-ощетени. Но яснота\, поне отчасти\, внасят членове на управляващия кабинет по време на среща с предприемачите. Включи се\, ако икономическите последствия от случващото се са важни за теб. Темите\, които се обсъждат\, са: \n\nИкономически растеж в настоящата реалност.\nЕфекти за бизнеса.\nПриоритети и сигурност в ключовите сектори: Иновации\, Инфраструктура и Транспорт.\nЕнергийната стратегия на България: от ценова криза към независимост и декарбонизация.\n\nЗа кого е подходящо събитието\n\nЗа собственици на бизнес в различни отрасли.\n\nЛектори\nСред гост-лекторите на събитието е както премиерът Кирил Петков\, така и редица министри от настоящия кабинет: \n\nАсен Василев – министър на финансите;\nБорислав Сандов – министър на околната среда и водите;\nДаниел Лорер – министър на иновациите и растежа.\n\nВиж имената на всички лектори в сайта. \nСъбитието се излъчва на живо (местата са ограничени до 100) и онлайн. \n\nАко решиш да присъстваш в София Тех Парк\, регистрираш се предварително и заплащаш такса вход.\nОнлайн конференцията се излъчва във Фейсбук и в страницата на „Капитал“ безплатно\, не е необходима регистрация.
URL:https://svobodnapraktika.com/event/%d0%b3%d0%be%d0%b4%d0%b8%d1%88%d0%bd%d0%b0-%d1%81%d1%80%d0%b5%d1%89%d0%b0-%d0%b1%d0%b8%d0%b7%d0%bd%d0%b5%d1%81%d0%b0-%d0%bf%d1%80%d0%b0%d0%b2%d0%b8%d1%82%d0%b5%d0%bb%d1%81%d1%82%d0%b2%d0%be%d1%82
LOCATION:София Тех Парк\, София Тех Парк\, Иновационен форум "Джон Атанасов"\, София\, София\, бул. „Цариградско шосе“ 111 Б
CATEGORIES:София
END:VEVENT
END:VCALENDAR