BEGIN:VCALENDAR
VERSION:2.0
PRODID:-//Свободна практика - ECPv6.0.13//NONSGML v1.0//EN
CALSCALE:GREGORIAN
METHOD:PUBLISH
X-ORIGINAL-URL:https://svobodnapraktika.com
X-WR-CALDESC:Events for Свободна практика
REFRESH-INTERVAL;VALUE=DURATION:PT1H
X-Robots-Tag:noindex
X-PUBLISHED-TTL:PT1H
BEGIN:VTIMEZONE
TZID:Europe/Helsinki
BEGIN:DAYLIGHT
TZOFFSETFROM:+0200
TZOFFSETTO:+0300
TZNAME:EEST
DTSTART:20220327T010000
END:DAYLIGHT
BEGIN:STANDARD
TZOFFSETFROM:+0300
TZOFFSETTO:+0200
TZNAME:EET
DTSTART:20221030T010000
END:STANDARD
END:VTIMEZONE
BEGIN:VEVENT
DTSTART;TZID=Europe/Helsinki:20220112T193000
DTEND;TZID=Europe/Helsinki:20220112T213000
DTSTAMP:20260423T212033
CREATED:20211219T214321Z
LAST-MODIFIED:20211219T214321Z
UID:12535-1642015800-1642023000@svobodnapraktika.com
SUMMARY:Среща на живо с Вълшебния Керван „Прекосяването на Африка. Част 2“
DESCRIPTION:Обикаляш света или България\, срещаш се с различни хора\, посещаваш интересни места и споделяш преживяванията си в блог. Дори и писането да не твоята стихия\, със сигурност четеш книгите на други травъл блогъри или приключенци\, не само\, за да попътуваш заедно с тях\, но и за да откриеш ново вдъхновение. \nЕ\, сигурна съм\, че знаеш кои са Маргарита и Цветин Шущаркови и неведнъж си се отправял с тях на автостоп из Азия. Обикалял си Хималаите\, возил си се в ремаркета на камиони\, спал си по пусти плажовете. „Клуба на пътешественика“ ти предлага нова възможност за среща с тях – този път на живо. Посети събитието\, за да чуеш какво ще ти кажат Маги и Цветин за културата на африканците\, за нощите в саваната и за детайлите около пътешествията из континента в условия на Covid. \nЗа кого е подходящо събитието\n\nЗа травъл блогъри и пътешественици.\n\nЛектор\n\nМаргарита и Цветин Шущаркови пътуват из Азия и Африка в продължение на години изцяло на автостоп и пеша\, за да се потопят в културата на местните. Нощуват\, където ги отведе провидението\, а то често ги настанява в домовете на сърцати хора\, готови да споделят и леглата\, и вечерята си с тях. Приключенията си описват в книгата „Палецът на свободата“ и в блога „Вълшебния керван“.\n\nСъбитието е с такса\, с предварителна регистрация. Провежда се спрямо актуалните Covid изисквания.
URL:https://svobodnapraktika.com/event/%d0%b2%d1%8a%d0%bb%d1%88%d0%b5%d0%b1%d0%bd%d0%b8%d1%8f-%d0%ba%d0%b5%d1%80%d0%b2%d0%b0%d0%bd-%d0%bf%d1%80%d0%b5%d0%ba%d0%be%d1%81%d1%8f%d0%b2%d0%b0%d0%bd%d0%b5-%d0%b0%d1%84%d1%80%d0%b8%d0%ba%d0%b0
LOCATION:Клуб на пътешественика\, ул. "Сердика" 19\, София
CATEGORIES:София
ORGANIZER;CN="%D0%9A%D0%BB%D1%83%D0%B1%20%D0%BD%D0%B0%20%D0%BF%D1%8A%D1%82%D0%B5%D1%88%D0%B5%D1%81%D1%82%D0%B2%D0%B5%D0%BD%D0%B8%D0%BA%D0%B0":MAILTO:travellersclub.bg@gmail.com
END:VEVENT
END:VCALENDAR