BEGIN:VCALENDAR
VERSION:2.0
PRODID:-//Свободна практика - ECPv6.0.13//NONSGML v1.0//EN
CALSCALE:GREGORIAN
METHOD:PUBLISH
X-ORIGINAL-URL:https://svobodnapraktika.com
X-WR-CALDESC:Events for Свободна практика
REFRESH-INTERVAL;VALUE=DURATION:PT1H
X-Robots-Tag:noindex
X-PUBLISHED-TTL:PT1H
BEGIN:VTIMEZONE
TZID:Europe/Helsinki
BEGIN:DAYLIGHT
TZOFFSETFROM:+0200
TZOFFSETTO:+0300
TZNAME:EEST
DTSTART:20210328T010000
END:DAYLIGHT
BEGIN:STANDARD
TZOFFSETFROM:+0300
TZOFFSETTO:+0200
TZNAME:EET
DTSTART:20211031T010000
END:STANDARD
END:VTIMEZONE
BEGIN:VEVENT
DTSTART;TZID=Europe/Helsinki:20211217T190000
DTEND;TZID=Europe/Helsinki:20211217T210000
DTSTAMP:20260424T002900
CREATED:20211129T093211Z
LAST-MODIFIED:20211129T093211Z
UID:12436-1639767600-1639774800@svobodnapraktika.com
SUMMARY:Зимно българско кино с чай Масала – събитие на живо
DESCRIPTION:Обичаш да пътуваш\, а адреналинът е твоята страст. С нетърпение чакаш да падне снегът и да дойдат няколкото почивки дни през декември\, за да се отправиш на своето кратко зимно приключение в планината. Приеми предстоящото събитие като подготовка и го вмъкни в графика си. Ела\, за да видиш 4 български зимни филма\, да изпиеш чаша горещ хималайски чай и да чуеш какво имат да ти кажат авторите на прожекциите относно снимането в екстремни природни условия. \nЗа кого е подходящо събитието\n\nЗа пътешественици и любители на зимните приключения.\n\nВходът е платен\, с предварителна регистрация. \n\nСъбитието се провежда на живо в залата\, съобразно актуалните Covid мерки.
URL:https://svobodnapraktika.com/event/%d0%b7%d0%b8%d0%bc%d0%bd%d0%be-%d0%b1%d1%8a%d0%bb%d0%b3%d0%b0%d1%80%d1%81%d0%ba%d0%be-%d0%ba%d0%b8%d0%bd%d0%be-%d1%81-%d1%87%d0%b0%d0%b9-%d0%bc%d0%b0%d1%81%d0%b0%d0%bb%d0%b0-%d1%81%d1%8a
LOCATION:Клуб на пътешественика\, ул. "Сердика" 19\, София
CATEGORIES:София
END:VEVENT
END:VCALENDAR