BEGIN:VCALENDAR
VERSION:2.0
PRODID:-//Свободна практика - ECPv6.0.13//NONSGML v1.0//EN
CALSCALE:GREGORIAN
METHOD:PUBLISH
X-WR-CALNAME:Свободна практика
X-ORIGINAL-URL:https://svobodnapraktika.com
X-WR-CALDESC:Events for Свободна практика
REFRESH-INTERVAL;VALUE=DURATION:PT1H
X-Robots-Tag:noindex
X-PUBLISHED-TTL:PT1H
BEGIN:VTIMEZONE
TZID:Europe/Helsinki
BEGIN:DAYLIGHT
TZOFFSETFROM:+0200
TZOFFSETTO:+0300
TZNAME:EEST
DTSTART:20210328T010000
END:DAYLIGHT
BEGIN:STANDARD
TZOFFSETFROM:+0300
TZOFFSETTO:+0200
TZNAME:EET
DTSTART:20211031T010000
END:STANDARD
END:VTIMEZONE
BEGIN:VEVENT
DTSTART;VALUE=DATE:20211005
DTEND;VALUE=DATE:20211006
DTSTAMP:20260424T013749
CREATED:20210920T085121Z
LAST-MODIFIED:20210920T085121Z
UID:12043-1633392000-1633478399@svobodnapraktika.com
SUMMARY:Хибриден форум E-commerce summit 2021
DESCRIPTION:Развиваш онлайн магазин от доста време и забелязваш как се променя електронната търговия през последната година и половина. Конкуренцията ти расте\, появяват се нови магазини\, а ти трябва да се адаптираш бързо\, за да задържиш клиентите си. Невинаги знаеш как да постъпиш. Участвай в събитието\, за да намериш отговор на поне част от въпросите ти. Полезно е\, защото очертава тенденциите през идната година\, а от лекторите научаваш: \n\nкак да привличаш и задържаш нови потребители;\nкак да подобриш тяхното преживяване в сайта;\nкак да разраснеш бизнеса си;\nзащо брандингът е толкова важен;\nкак да предвиждаш продажби по ключови думи и др.\n\nВиж програмата в сайта\, за да разбереш кои са другите лекции. \nЗа кого е подходящ форумът\n\nЗа собственици на онлайн магазини.\n\nЛектори\n\nЛекторите са мениджъри и основатели на наложи ли се вече фирми или бързо развиващи се компании.\n\nВходът е платен\, с предварителна регистрация. \nМожеш да присъстваш виртуално или на живо: \n\nонлайн билет – 80 лв.\nстандартен – 160 лв.\nпакет от 3 билета: 399 лв.\n\nВсички цени са без ДДС. \n 
URL:https://svobodnapraktika.com/event/%d1%85%d0%b8%d0%b1%d1%80%d0%b8%d0%b4%d0%b5%d0%bd-%d1%84%d0%be%d1%80%d1%83%d0%bc-e-commerce-summit-2021
LOCATION:Интерпред\, бул. "Драган Цанков" 36\, София\, Bulgaria
CATEGORIES:Онлайн събития,София
END:VEVENT
END:VCALENDAR