BEGIN:VCALENDAR
VERSION:2.0
PRODID:-//Свободна практика - ECPv6.0.13//NONSGML v1.0//EN
CALSCALE:GREGORIAN
METHOD:PUBLISH
X-ORIGINAL-URL:https://svobodnapraktika.com
X-WR-CALDESC:Events for Свободна практика
REFRESH-INTERVAL;VALUE=DURATION:PT1H
X-Robots-Tag:noindex
X-PUBLISHED-TTL:PT1H
BEGIN:VTIMEZONE
TZID:Europe/Helsinki
BEGIN:DAYLIGHT
TZOFFSETFROM:+0200
TZOFFSETTO:+0300
TZNAME:EEST
DTSTART:20210328T010000
END:DAYLIGHT
BEGIN:STANDARD
TZOFFSETFROM:+0300
TZOFFSETTO:+0200
TZNAME:EET
DTSTART:20211031T010000
END:STANDARD
END:VTIMEZONE
BEGIN:VEVENT
DTSTART;VALUE=DATE:20210929
DTEND;VALUE=DATE:20211001
DTSTAMP:20260424T014042
CREATED:20210920T085237Z
LAST-MODIFIED:20210920T085237Z
UID:12047-1632873600-1633046399@svobodnapraktika.com
SUMMARY:Career Show 2021 – кариерно експо на живо и онлайн
DESCRIPTION:Все още си студент\, но вече сериозно си се захванал с търсенето на работа. Създал си CV\, пишеш мотивационни писма и кандидатстваш веднага щом попаднеш на подходяща позиция. Чакаш телефонът ти да звънне или да получиш мейл. Поканите за интервюта обаче не идват толкова често\, колкото на теб ти се иска. Понякога се чудиш дали изобщо някой разглежда кандидатурата ти. В такъв случай отвори страницата на Career Show и виж какво предлага експото. Сигурна съм\, че събитието ще ти е много полезно. \nЦелта му е да свърже специалистите със съответните фирми. С други думи – избираш работодател\, за когото би искал да работиш и го каниш на кратка среща. Изчакваш потвърждаване от него и ако те одобри\, ти си на ход – имаш 20 минути да го впечатлиш. \nФорумът ти дава достъп и до много интересни лекции – професионалисти в различни области споделят с теб своята история и опит. Някои от темите са: \n\n(Не)възможната кариера в България – Миролюба Бенатова.\nЗа всеки проблем си има мост – Крис Захариев.\n10-те урока на Левон Хампарцумян – Левон Хампарцумян.\nКачествата на успеха – Йордан Дъбов.\nШансът на стажанта – пътят до мечтата – Мария Цънцарова.\n\nВиж кои са останалите лекции в програмата на събитието. \nЗа кого е подходящо\n\nЗа студенти\, които са в началото на своя кариерен път\, както и за специалисти\, които са решили да се преориентират в професионално отношение.\n\nЛектори\n\nЛекторите са успешни в различни сфери личности\, от които има какво да научиш. Освен гореспоменатите\, сред говорителите са още: Силвена Роу\, Десислава Стоянова\, Иван Донев\, Марио Пешев. Виж и всички останали в сайта.\n\nУчастието е безплатно\, с предварителна регистрация. Провежда се на живо и виртуално: \n\n29 септември – Sofia Event Centre\n30 септември – онлайн.
URL:https://svobodnapraktika.com/event/career-show-2021-%d0%ba%d0%b0%d1%80%d0%b8%d0%b5%d1%80%d0%bd%d0%be-%d0%b5%d0%ba%d1%81%d0%bf%d0%be-%d0%bd%d0%b0-%d0%b6%d0%b8%d0%b2%d0%be-%d0%b8-%d0%be%d0%bd%d0%bb%d0%b0%d0%b9%d0%bd
LOCATION:Sofia Event Center\, бул. "Черни връх" 100\, София\, 1407\, Bulgaria
CATEGORIES:Онлайн събития,София
END:VEVENT
BEGIN:VEVENT
DTSTART;VALUE=DATE:20210929
DTEND;VALUE=DATE:20211001
DTSTAMP:20260424T014042
CREATED:20210927T201029Z
LAST-MODIFIED:20210927T201029Z
UID:12108-1632873600-1633046399@svobodnapraktika.com
SUMMARY:7-ми eCommCongress – събитие от хибриден тип
DESCRIPTION:Имаш малък\, но бързоразвиващ се онлайн магазин. Сам се занимаваш с него и поддържаш профилите/страниците му в социалните мрежи. С интерес следиш новостите в сферата на електронната търговия\, както и всичко по-важно от света на маркетинга. Не пропускай тогава и тази конференция. Полезна ти е\, защото научаваш какви са тенденциите през идната година. От лекторите разбираш и повече за: \n\nполитиката на Facebook за поверителност – как да намалиш евентуалните щети от промените\, които мрежата ще направи;\nновите ДДС правила – какво да очакваш\, ако внасяш/изнасяш продукти;\nвидео маркетинга – защо е добре да присъстваш в YouTube;\nпродажбите извън България – как да достигнеш до чуждите пазари;\nпсихологията на покупките – как да задържиш потребителя на сайта си;\nновите деца на улицата – къде са младежите и как се променят техните потребителските навици.\n\nЛекционната част се излъчва на живо от Експо Център без аудитория. \nECommExpo те среща с изложители и се провежда в Зала 4 в зона Digital Village. Включи се\, за да: \n\nтестваш нови услуги за електронна търговия;\nпредставиш продуктите си на потенциални клиенти;\nсъздадеш нови контакти.\n\nЗа кого е подходящо\n\nЗа собственици на онлайн бизнес.\n\nЛектори\n\nЛекторите са специалисти в сферата на маркетинга\, както и собственици на успешни или бързоразвиващи се компании.\n\nВходът е и платен\, и безплатен. Ако се регистрираш и гледаш живото излъчване онлайн\, не заплащаш такса. Можеш и да закупиш билет на стойност 39 лв. и получаваш запис на лекциите\, както и достъп до ECommExpo.
URL:https://svobodnapraktika.com/event/7-%d0%bc%d0%b8-ecommcongress-%d1%81%d1%8a%d0%b1%d0%b8%d1%82%d0%b8%d0%b5-%d0%be%d1%82-%d1%85%d0%b8%d0%b1%d1%80%d0%b8%d0%b4%d0%b5%d0%bd-%d1%82%d0%b8%d0%bf
LOCATION:Интер Експо Център\, бул. "Цариградско шосе" 147\, София
CATEGORIES:Онлайн събития,София
ORGANIZER;CN="ECommCongress":MAILTO:info@ecommcongress.bg
END:VEVENT
END:VCALENDAR