BEGIN:VCALENDAR
VERSION:2.0
PRODID:-//Свободна практика - ECPv6.0.13//NONSGML v1.0//EN
CALSCALE:GREGORIAN
METHOD:PUBLISH
X-WR-CALNAME:Свободна практика
X-ORIGINAL-URL:https://svobodnapraktika.com
X-WR-CALDESC:Events for Свободна практика
REFRESH-INTERVAL;VALUE=DURATION:PT1H
X-Robots-Tag:noindex
X-PUBLISHED-TTL:PT1H
BEGIN:VTIMEZONE
TZID:Europe/Helsinki
BEGIN:DAYLIGHT
TZOFFSETFROM:+0200
TZOFFSETTO:+0300
TZNAME:EEST
DTSTART:20210328T010000
END:DAYLIGHT
BEGIN:STANDARD
TZOFFSETFROM:+0300
TZOFFSETTO:+0200
TZNAME:EET
DTSTART:20211031T010000
END:STANDARD
END:VTIMEZONE
BEGIN:VEVENT
DTSTART;TZID=Europe/Helsinki:20210913T193000
DTEND;TZID=Europe/Helsinki:20210913T210000
DTSTAMP:20260424T030957
CREATED:20210907T074635Z
LAST-MODIFIED:20210907T074635Z
UID:11959-1631561400-1631566800@svobodnapraktika.com
SUMMARY:Среща със Симеон Идакиев: Прекосяване на Латинска Америка за седем месеца
DESCRIPTION:Обичаш да пътуваш и се възползваш от дистанционния режим на работа\, за да обикаляш света. Ако искаш да се вдъхновиш за ново пътешествие\, срещата със Симеон Идакиев със сигурност ще те впечатли. Журналистът прекосява Латинска Америка в продължение на 7 месеца с автомобил и камера – преди цели 40 години. А на 13-ти септември в кино „Влайкова“ ти разказва за своите преживявания. Ела и чуй историите му за Куба\, Мексико\, Перу\, Чили\, Никарагуа\, Колумбия и няколко други държави. \nЗа кого е подходящо събитието\n\nЗа приключенци и всички\, които обичат пътешествията\n\nЛектор\n\nСимеон Идакиев е журналист\, водил е предаванията „Атлас“ и „Светът и всичко в него“. Създател е на над 450 документални филма и до момента е посетил над 120 държави.\n\nВходът е с такса\, с предварителна регистрация. \n 
URL:https://svobodnapraktika.com/event/%d0%bf%d1%80%d0%b5%d0%ba%d0%be%d1%81%d1%8f%d0%b2%d0%b0%d0%bd%d0%b5-%d0%bb%d0%b0%d1%82%d0%b8%d0%bd%d1%81%d0%ba%d0%b0-%d0%b0%d0%bc%d0%b5%d1%80%d0%b8%d0%ba%d0%b0-%d1%81%d0%b5%d0%b4%d0%b5%d0%bc-%d0%bc
LOCATION:Кино “Влайкова”\, ул. "Цар Иван Асен II\, 11\, София\, Bulgaria
CATEGORIES:София
ORGANIZER;CN="%D0%9A%D0%BB%D1%83%D0%B1%20%D0%BD%D0%B0%20%D0%BF%D1%8A%D1%82%D0%B5%D1%88%D0%B5%D1%81%D1%82%D0%B2%D0%B5%D0%BD%D0%B8%D0%BA%D0%B0":MAILTO:travellersclub.bg@gmail.com
END:VEVENT
END:VCALENDAR