BEGIN:VCALENDAR
VERSION:2.0
PRODID:-//Свободна практика - ECPv6.0.13//NONSGML v1.0//EN
CALSCALE:GREGORIAN
METHOD:PUBLISH
X-WR-CALNAME:Свободна практика
X-ORIGINAL-URL:https://svobodnapraktika.com
X-WR-CALDESC:Events for Свободна практика
REFRESH-INTERVAL;VALUE=DURATION:PT1H
X-Robots-Tag:noindex
X-PUBLISHED-TTL:PT1H
BEGIN:VTIMEZONE
TZID:Europe/Helsinki
BEGIN:DAYLIGHT
TZOFFSETFROM:+0200
TZOFFSETTO:+0300
TZNAME:EEST
DTSTART:20210328T010000
END:DAYLIGHT
BEGIN:STANDARD
TZOFFSETFROM:+0300
TZOFFSETTO:+0200
TZNAME:EET
DTSTART:20211031T010000
END:STANDARD
END:VTIMEZONE
BEGIN:VEVENT
DTSTART;TZID=Europe/Helsinki:20210310T100000
DTEND;TZID=Europe/Helsinki:20210910T140000
DTSTAMP:20260424T031033
CREATED:20210228T214647Z
LAST-MODIFIED:20210228T214647Z
UID:11117-1615370400-1631282400@svobodnapraktika.com
SUMMARY:Курс „Голяма реторика”
DESCRIPTION:Налага ти се понякога да говориш пред по-голяма аудитория (на живо или онлайн). Подготовката ти винаги е безупречна\, но това не те прави по-малко напрегнат. Напротив. Притесняваш се\, съмняваш се в способностите си и резултатът е незадоволителен. Не се упреквай\, а промени поведението си. Потърси ораторски курс\, който може да ти помогне. Разгледай и предстоящия „Голяма реторика“. Дългосрочен е\, провежда се на живо и в малка група\, а целта му е да повярваш\, че можеш да се справиш. \nПо време на обучението научаваш как да: \n\nработиш с гласа си така\, че да влияеш на отсрещната страна;\nизползваш правилно езика на тялото си;\nпреодолееш сценичната треска;\nизмисляш и разказваш интересни истории.\n\nВиж цялата програма на събитието в сайта. \nКурсът включва 10 урока\, а продължителността им е между 3 и 4 часа. В края на всеки урок получаваш задачи и упражнения за следващия. След всяко събитие можеш да разчиташ и на обратна връзка. \nЗа кого е подходящо събитието\n\nЗа всички\, които искат да подобрят представянето си пред аудитория.\n\nЛектор\n\nАнтонин Винклер – преподавател по философия\, психология\, ораторско майсторство и др. Основател и управител на „ЕДУКО“ и организатор на курсове за личностно развитие.\n\nВходът е с такса\, с предварителна регистрация.
URL:https://svobodnapraktika.com/event/%d0%ba%d1%83%d1%80%d1%81-%d0%b3%d0%be%d0%bb%d1%8f%d0%bc%d0%b0-%d1%80%d0%b5%d1%82%d0%be%d1%80%d0%b8%d0%ba%d0%b0
CATEGORIES:София
ORGANIZER;CN="%D0%95%D0%94%D0%A3%D0%9A%D0%9E":MAILTO:info@eduko.bg
END:VEVENT
BEGIN:VEVENT
DTSTART;VALUE=DATE:20210909
DTEND;VALUE=DATE:20210910
DTSTAMP:20260424T031033
CREATED:20210907T074748Z
LAST-MODIFIED:20210907T075516Z
UID:11957-1631145600-1631231999@svobodnapraktika.com
SUMMARY:Кошер 2021 - събитие от хибриден тип
DESCRIPTION:Участвал ли си в някое от изданията на „Кошер“? Ако не си все още\, не пропускай тазгодишното. Ела\, събитието ти дава възможност да: \n\nоткриеш нова работа или възможности за професионално развитие;\nприсъстваш на вдъхновяващи лекции;\nнамериш съмишленици и създадеш полезни контакти;\nпридобиеш знания и умения\, които да ти помогнат в кариерата.\n\nСъбитието е от хибриден тип. Онлайн билетът ти дава достъп до всички лекции след приключването им. Но ако решиш да присъстваш на място\, добре е да се ориентираш предварително кои активности да посетиш. За целта – разгледай програмата и си направи план. Накратко: \n\nИскаш да се срещнеш с професионалисти в различна област\, от които да почерпиш вдъхновение и мотивация? Включи се в Program Hive. \nУчаствай в Hot Hive\, ако иновативните български изобретения представляват интерес за теб. Можеш да разговаряш лично със създателите им\, така че проучи компаниите предварително и си подготви въпроси.\nВ случай че планираш да смениш работата си\, виж фирмите в Company Area. Помисли за кои от тях би работил и прецени как да се представиш пред тях.\nВиж Buzz Hive\, ако целта ти е да се запознаеш със специалисти с конкретни умения. Интересни хора срещаш и в Networking Zone\, а в Quiet Area можеш да проведеш разговор на тихо и спокойно място.\nРешил си да направиш крачка съм своето развитие. Възползвай се от възможността за кариерно консултиране в Talant Lab. Разбери какво можеш да подобриш в автобиографията си или как да се представиш по-добре на интервю.\nЦелта ти е да придобиеш нови умения? Участвай в Skills Lab и избери работилниците\, които най-много ти допадат.\n\nБъди част от „Кошер“ и за да посетиш виртуално различни изложби във високотехнологичния павилион на Конгломерат. \nЗа кого е подходящо събитието\n\nЗа хора\, които търсят нови предизвикателства\, кариерно развитие\, вдъхновение или искат да подобрят уменията си.\n\nЛектори\n\nЛекторите са специалисти в различни области – основатели на успешни компании\, директори на фирми и организации. Разгледай страницата\, за да научиш кои са те.\n\nВходът е и безплатен (след регистрация)\, и платен – в зависимост от достъпа до залите и активностите. Подробна информация за цените на билетите откриваш в сайта. \n\nМожеш да участваш и онлайн – цената на билета е 25 лв.\nАко станеш член на „Кошер“ с месечно дарение\, входът за това събитие и други дейности е без такса.\n\n 
URL:https://svobodnapraktika.com/event/%d0%ba%d0%be%d1%88%d0%b5%d1%80-2021-%d1%81%d1%8a%d0%b1%d0%b8%d1%82%d0%b8%d0%b5-%d0%be%d1%82-%d1%85%d0%b8%d0%b1%d1%80%d0%b8%d0%b4%d0%b5%d0%bd-%d1%82%d0%b8%d0%bf
LOCATION:Интер Експо Център\, бул. "Цариградско шосе" 147\, София
CATEGORIES:Онлайн събития,София
END:VEVENT
END:VCALENDAR