BEGIN:VCALENDAR
VERSION:2.0
PRODID:-//Свободна практика - ECPv6.0.13//NONSGML v1.0//EN
CALSCALE:GREGORIAN
METHOD:PUBLISH
X-WR-CALNAME:Свободна практика
X-ORIGINAL-URL:https://svobodnapraktika.com
X-WR-CALDESC:Events for Свободна практика
REFRESH-INTERVAL;VALUE=DURATION:PT1H
X-Robots-Tag:noindex
X-PUBLISHED-TTL:PT1H
BEGIN:VTIMEZONE
TZID:Europe/Helsinki
BEGIN:DAYLIGHT
TZOFFSETFROM:+0200
TZOFFSETTO:+0300
TZNAME:EEST
DTSTART:20200329T010000
END:DAYLIGHT
BEGIN:STANDARD
TZOFFSETFROM:+0300
TZOFFSETTO:+0200
TZNAME:EET
DTSTART:20201025T010000
END:STANDARD
END:VTIMEZONE
BEGIN:VEVENT
DTSTART;VALUE=DATE:20200917
DTEND;VALUE=DATE:20200918
DTSTAMP:20260426T070158
CREATED:20200828T120057Z
LAST-MODIFIED:20200828T120057Z
UID:10083-1600300800-1600387199@svobodnapraktika.com
SUMMARY:Кариерно събитие „Кошер“ 2020
DESCRIPTION:Търсиш ново професионално предизвикателство\, искаш да се срещнеш с вдъхновяващи лектори или да придобиеш нови знания и умения? „Кошер“ 2020 не само ти осигурява всичко това\, но и \n\nти представя интересни бизнес личности;\nдава ти възможност да се запознаеш с топ компании\, които предлагат свободни работни позиции.\n\nКакво да очакваш?\nТазгодишното издание те среща с над 30 лектора и с над 50 фирми. \nАктивностите са разделени в 6 направления: \n\nCorporate Hive – вземи участие\, ако си завършил образованието си в чужбина и търсиш работа в България;\nProgram Hive – лектори споделят с теб своя вдъхновяващ опит и те мотивират да постигнеш целите си.\nTalent Lab – усъвършенстваш професионалния си профил и разбираш как да търсиш работа в България\, как да се представяш успешно в публичното пространство и др.\nBuzz Hive – срещаш се с интересни личности\, с които обменяш опит\, идеи и контакти.\nHot Hive – научаваш повече за различни иновативни български продукти.\nSkills Lab – участваш в интерактивни работилници\, за да придобиеш нови умения.\n\nВсеки модул предлага съответна програма\, която можеш да разгледаш на сайта на организаторите. \nЗа кого е подходящо събитието\n\nЗа хора\, търсещи нова работна позиция\, нови контакти или предизвикателства.\n\nЛектори\n\nЛекторите са успели в своите професии личности\, които споделят с теб своята вдъхновяваща история и разказват за пътя\, по който са изминали. Част от тях са:\n\n\nКристина Баксанова – главен редактор BTV;\nФилип Захариер – главен готвач и писател;\nТеодор Рачев – съосновател на „Hobo“;\nДаниел Ненчев – журналист и продуцент и др.\n\n\n\nВиж кои други лектори ще срещнеш там. \nСъбитието е без такса\, с предварителна регистрация. \n\nАко ти се иска да присъстваш\, но не можеш\, гледай онлайн от 10.00 до 17.00 часа\, където и да се намираш.
URL:https://svobodnapraktika.com/event/%d0%ba%d0%b0%d1%80%d0%b8%d0%b5%d1%80%d0%bd%d0%be-%d1%81%d1%8a%d0%b1%d0%b8%d1%82%d0%b8%d0%b5-%d0%ba%d0%be%d1%88%d0%b5%d1%80-2020
LOCATION:Интер Експо Център\, бул. "Цариградско шосе" 147\, София
CATEGORIES:Онлайн събития,София
END:VEVENT
END:VCALENDAR