BEGIN:VCALENDAR
VERSION:2.0
PRODID:-//Свободна практика - ECPv6.0.13//NONSGML v1.0//EN
CALSCALE:GREGORIAN
METHOD:PUBLISH
X-WR-CALNAME:Свободна практика
X-ORIGINAL-URL:https://svobodnapraktika.com
X-WR-CALDESC:Events for Свободна практика
REFRESH-INTERVAL;VALUE=DURATION:PT1H
X-Robots-Tag:noindex
X-PUBLISHED-TTL:PT1H
BEGIN:VTIMEZONE
TZID:Europe/Helsinki
BEGIN:DAYLIGHT
TZOFFSETFROM:+0200
TZOFFSETTO:+0300
TZNAME:EEST
DTSTART:20200329T010000
END:DAYLIGHT
BEGIN:STANDARD
TZOFFSETFROM:+0300
TZOFFSETTO:+0200
TZNAME:EET
DTSTART:20201025T010000
END:STANDARD
END:VTIMEZONE
BEGIN:VEVENT
DTSTART;TZID=Europe/Helsinki:20200909T140000
DTEND;TZID=Europe/Helsinki:20200909T183000
DTSTAMP:20260426T064341
CREATED:20200908T073459Z
LAST-MODIFIED:20200908T073525Z
UID:10173-1599660000-1599676200@svobodnapraktika.com
SUMMARY:Среща „Ask the professional: Financing & Fundraising“
DESCRIPTION:Финансовите въпроси винаги са на дневен ред пред собствениците на бизнес. Ако ти самият искаш да привлечеш финансиране\, посети тазмесечното безплатното събитие „Office Hours“ на WORKY. Целта на организаторите е посредством инициативата да свържат специалисти с потенциални клиенти\, като помогнат и на едните\, и на другите. \nКак се случва това? \nВсеки месец специалист в конкретна сфера представя себе си и своята дейност\, а ти и останалите участници получавате безплатна консултация по свой бизнес казус. \nПрез септември финансовият експерт Росица Чопева ти дава специализирани насоки и ти помага да научиш повече за набирането на финансиране. \nЗа кого е подходящо събитието\n\nЗа собственици на бизнес и членове на НПО.\n\nЛектор\n\nРосица Чопева е финансов консултант с над 15-годишен стаж. Работила е на ръководни позиции в различни български фирми.\n\nВходът е свободен\, с предварителна регистрация.
URL:https://svobodnapraktika.com/event/%d1%81%d1%80%d0%b5%d1%89%d0%b0-ask-the-professional
LOCATION:WORKY\, бул. Янко Сакъзов № 32\, София\, Bulgaria
CATEGORIES:София
ORGANIZER;CN="WORKY":MAILTO:office@worky.bg
END:VEVENT
END:VCALENDAR