BEGIN:VCALENDAR
VERSION:2.0
PRODID:-//Свободна практика - ECPv6.0.13//NONSGML v1.0//EN
CALSCALE:GREGORIAN
METHOD:PUBLISH
X-WR-CALNAME:Свободна практика
X-ORIGINAL-URL:https://svobodnapraktika.com
X-WR-CALDESC:Events for Свободна практика
REFRESH-INTERVAL;VALUE=DURATION:PT1H
X-Robots-Tag:noindex
X-PUBLISHED-TTL:PT1H
BEGIN:VTIMEZONE
TZID:Europe/Helsinki
BEGIN:DAYLIGHT
TZOFFSETFROM:+0200
TZOFFSETTO:+0300
TZNAME:EEST
DTSTART:20200329T010000
END:DAYLIGHT
BEGIN:STANDARD
TZOFFSETFROM:+0300
TZOFFSETTO:+0200
TZNAME:EET
DTSTART:20201025T010000
END:STANDARD
END:VTIMEZONE
BEGIN:VEVENT
DTSTART;VALUE=DATE:20200901
DTEND;VALUE=DATE:20200903
DTSTAMP:20260426T070150
CREATED:20200810T084437Z
LAST-MODIFIED:20200810T084437Z
UID:9962-1598918400-1599091199@svobodnapraktika.com
SUMMARY:SoftUni Fest 2020
DESCRIPTION:Специалист си в сферата на програмирането\, дигиталния маркетинг или графичния дизайн. Новите предизвикателства и състезанията не само не те плашат\, а напротив – в състояние са да извадят най-доброто от теб. Тогава събитието „SoftUni Fest 2020“ е твоето нещо. Ако се чувстваш уверен в своята област и искаш да покажеш уменията си на света\, заяви участие. Няма възрастови ограничения\, нито задължително изискване за отборна игра – ти решаваш дали да посрещаш предизвикателствата самостоятелно или в екип. \nНе ти е необходима предварителна подготовка – темите за всяка от сферите се тегли на случаен принцип. \nРегламент\nУчастваш в едно от следните направления: \n\nДигитален маркетинг – разработваш тема за стратегия на услуга или продукт.\nДизайн/криейтив – тема за дизайна на продукт/услуга.\nПрограмиране – създаваш приложение по задание.\n\nРегистрирай себе си или своя отбор\, за да участваш. \nНаградата е на стойност 1000 лв.\, независимо в коя от категориите спечелиш първо място. \nЗа кого е подходящо събитието\n\nЗа програмисти\, графични дизайнери и маркетолози\, както и за всички\, които не са професионалисти в областта\, но имат добри познания в отделните направления.\n\nУчастието в състезанието е без такса\, с предварителна регистрация.
URL:https://svobodnapraktika.com/event/softuni-fest-2020
LOCATION:Software University\, Учебна зала Deep Web\, ул. "Тинтява" 15-17\, ет. 1\, София\, Bulgaria
CATEGORIES:София
ORGANIZER;CN="SoftUni%20Digital":MAILTO:digital@softuni.bg
END:VEVENT
END:VCALENDAR