BEGIN:VCALENDAR
VERSION:2.0
PRODID:-//Свободна практика - ECPv6.0.13//NONSGML v1.0//EN
CALSCALE:GREGORIAN
METHOD:PUBLISH
X-WR-CALNAME:Свободна практика
X-ORIGINAL-URL:https://svobodnapraktika.com
X-WR-CALDESC:Events for Свободна практика
REFRESH-INTERVAL;VALUE=DURATION:PT1H
X-Robots-Tag:noindex
X-PUBLISHED-TTL:PT1H
BEGIN:VTIMEZONE
TZID:Europe/Helsinki
BEGIN:DAYLIGHT
TZOFFSETFROM:+0200
TZOFFSETTO:+0300
TZNAME:EEST
DTSTART:20200329T010000
END:DAYLIGHT
BEGIN:STANDARD
TZOFFSETFROM:+0300
TZOFFSETTO:+0200
TZNAME:EET
DTSTART:20201025T010000
END:STANDARD
END:VTIMEZONE
BEGIN:VEVENT
DTSTART;TZID=Europe/Helsinki:20200826T190000
DTEND;TZID=Europe/Helsinki:20200826T210000
DTSTAMP:20260426T064315
CREATED:20200818T075344Z
LAST-MODIFIED:20200818T075344Z
UID:10033-1598468400-1598475600@svobodnapraktika.com
SUMMARY:Среща „How to: „Как да продаваш онлайн\, докато пиеш коктейли на плажа“
DESCRIPTION:Собствениците на малък бизнес в страната са изправяни ежедневно пред различни предизвикателства\, с които не знаят как да се справят. Ако и ти си от тях\, вероятно често ти се случва да попаднеш затруднена ситуация – независимо дали става въпрос за подбор на кадри\, увеличаване на продажбите\, пренасочване към онлайн пазара и т.н. \nИменно защото много други преживяват същото като теб\, WORKY организира ежемесечното събитие „How to“. Целта му е да събере на едно място собствениците на малък бизнес\, за да дискутират заедно реални проблеми и да споделят опита си. \nКак протича срещата? Лектор със задълбочени познания в конкретна сфера представя бизнес казус и решението му. Следва дискусия между участниците. \nЗащо събитието ти е полезно \n\nНаучаваш за перипетиите на другите и се оказва\, че много от тях са като твоите.\nДостигаш до конкретно решение\, посредством чужд личен опит и професионални съвети.\nСъздаваш нови контакти.\n\nКазусът този месец е на тема „Как да продаваш онлайн\, докато пиеш коктейли на плажа“. Следи Фейсбук страницата на WORKY\, за да се информираш за предстоящите издания. \nЗа кого е подходящо събитието\n\nЗа собственици на малък и среден бизнес.\n\nЛектори\n\nВодещ на поредицата събития е Илия Марков – експерт по дигитален маркетинг и консултант на фирми\, разработващи софтуерни продукти.\nЛектор на изданието от август е Ясен Живков CEO на компанията „Fulfillmento“\n\nВходът е платен\, с предварителна регистрация.
URL:https://svobodnapraktika.com/event/%d1%81%d1%80%d0%b5%d1%89%d0%b0-how-to-%d0%ba%d0%b0%d0%ba-%d0%b4%d0%b0-%d0%bf%d1%80%d0%be%d0%b4%d0%b0%d0%b2%d0%b0%d1%88-%d0%be%d0%bd%d0%bb%d0%b0%d0%b9%d0%bd-%d0%b4%d0%be%d0%ba%d0%b0
LOCATION:WORKY\, бул. Янко Сакъзов № 32\, София\, Bulgaria
CATEGORIES:София
ORGANIZER;CN="WORKY":MAILTO:office@worky.bg
END:VEVENT
END:VCALENDAR