BEGIN:VCALENDAR
VERSION:2.0
PRODID:-//Свободна практика - ECPv6.0.13//NONSGML v1.0//EN
CALSCALE:GREGORIAN
METHOD:PUBLISH
X-WR-CALNAME:Свободна практика
X-ORIGINAL-URL:https://svobodnapraktika.com
X-WR-CALDESC:Events for Свободна практика
REFRESH-INTERVAL;VALUE=DURATION:PT1H
X-Robots-Tag:noindex
X-PUBLISHED-TTL:PT1H
BEGIN:VTIMEZONE
TZID:Europe/Helsinki
BEGIN:DAYLIGHT
TZOFFSETFROM:+0200
TZOFFSETTO:+0300
TZNAME:EEST
DTSTART:20230326T010000
END:DAYLIGHT
BEGIN:STANDARD
TZOFFSETFROM:+0300
TZOFFSETTO:+0200
TZNAME:EET
DTSTART:20231029T010000
END:STANDARD
END:VTIMEZONE
BEGIN:VEVENT
DTSTART;TZID=Europe/Helsinki:20231019T190000
DTEND;TZID=Europe/Helsinki:20231231T210000
DTSTAMP:20260419T224705
CREATED:20231018T194817Z
LAST-MODIFIED:20231018T194817Z
UID:15545-1697742000-1704056400@svobodnapraktika.com
SUMMARY:Менторска програма за жени предприемачи – обучение на живо
DESCRIPTION:Мечтаеш да стартираш собствен бизнес\, защото вярваш в идеите си и искаш да ги видиш реализирани. Имаш цел\, към която да се движиш\, но си наясно\, че трябва да извървиш дълъг път. Ако е така\, разгледай специализираното обучение за жени предприемачи. От полза ти е\, защото разбираш: \n\nкак да заложиш правилната основа на своето начинание;\nкак да преодолееш страха\, който ти пречи да стартираш;\nкаква е връзката между бизнеса и ценностите;\nзащо комуникацията е важна и как да създадеш разпознаваем образ на бранда си;\n\nРазгледай сайта на събитието\, за да разбереш какво още те очаква по време на шестмесечното обучение. \nС какво още ти е полезно събитието? \n\nизграждаш мрежа от контакти;\nправиш собствен бизнес план;\nпредставяш проекта си пред инвеститори\, партньори и клиенти.\n\nЗа кого е подходящо\n\nЗа дами\, които са решили\, че е време да стартират собствен бизнес.\n\nЛектори\n\nЛектори и ментори са дами от различни сектори на бизнеса. Повече за тях научаваш в сайта на събитието.\n\nОбучението е платено. За да участваш\, трябва да кандидатстваш предварително. \n\nЗанятията се провеждат от януари 2024 г. до юни 2024 г.\, всеки петък\, събота и неделя.\nИмаш възможността да заявиш и стипендия. В сайта на обучението можеш да се запознаеш с различните изисквания за стипендиите.\n\n 
URL:https://svobodnapraktika.com/event/%d0%bc%d0%b5%d0%bd%d1%82%d0%be%d1%80%d1%81%d0%ba%d0%b0-%d0%bf%d1%80%d0%be%d0%b3%d1%80%d0%b0%d0%bc%d0%b0-%d0%b7%d0%b0-%d0%b6%d0%b5%d0%bd%d0%b8-%d0%bf%d1%80%d0%b5%d0%b4%d0%bf%d1%80%d0%b8%d0%b5%d0%bc
LOCATION:Българска търговско-промишлена палата\, Искър 9\, София\, Bulgaria
CATEGORIES:София
ORGANIZER;CN="%D0%9C%D0%B5%D0%BD%D1%82%D0%BE%D1%80%D0%B8%D1%82%D0%B5":MAILTO:info@mentorite.bg
END:VEVENT
BEGIN:VEVENT
DTSTART;TZID=Europe/Helsinki:20231204T140000
DTEND;TZID=Europe/Helsinki:20231204T210000
DTSTAMP:20260419T224705
CREATED:20231122T171420Z
LAST-MODIFIED:20231122T171420Z
UID:15752-1701698400-1701723600@svobodnapraktika.com
SUMMARY:Freelancers On the Road with Robert Vlach – a freelancer meetup – среща на живо
DESCRIPTION:Работиш като фрийлансър от дълго време. Харесваш свободата си\, но това\, което ти липсва понякога\, е работната среда и общуването с колегите. Събитието е чудесен повод да се запознаеш с професионалисти\, да обмениш опит\, да научиш нови неща и въобще да се почувстваш като част от твоята общност. \nНа гости в София\, за да представи книгата си „Пътят на фрийлансъра“\, идва Роберт Влах. Визитата му е част от инициативата FREELANCERS ON THE ROAD – поредица от срещи с местни фрийланс общности. \nЕла в Networking Premium\, за да: \n\nсе включиш в дебат за работата на свободна практика с Роберт Влах (от 19 до 21 ч. – води се на английски език);\nсе запознаеш с много специалисти от различни сфери;\nсъздадеш нови контакти.\n\nВ коуъркинг пространството те очаква уютна и приятелска среда за срещи и общуване. \nЗа кого е подходящо събитието\n\nЗа всички\, които работят на свободна практика.\n\nЛектор\n\nРоберт Влах е бизнес консултант\, който работи с фрийлансъри и собственици на бизнес. Преди почти 20 години основава една от най-големите общности на хората със свободни професии в Европа\, която впоследствие прераства в Freelancing.eu.\n\nУчастието е без такса\, не се изисква предварителна регистрация.
URL:https://svobodnapraktika.com/event/freelancers-on-the-road-with-robert-vlach-a-freelancer-meetup-%d1%81%d1%80%d0%b5%d1%89%d0%b0-%d0%bd%d0%b0-%d0%b6%d0%b8%d0%b2%d0%be
LOCATION:NETWORKING Premium Gurko Panorama\, ул. „Ген. Гурко" 16\, София\, Bulgaria
CATEGORIES:София
ORGANIZER;CN="Freelancing.eu":MAILTO:hello@freelancing.eu
END:VEVENT
BEGIN:VEVENT
DTSTART;TZID=Europe/Helsinki:20231214T130000
DTEND;TZID=Europe/Helsinki:20231214T150000
DTSTAMP:20260419T224706
CREATED:20231210T213632Z
LAST-MODIFIED:20231210T213632Z
UID:15846-1702558800-1702566000@svobodnapraktika.com
SUMMARY:„Как да финансираме чрез публиката некомерсиални издателски проекти? Практическа презентация“ – хибридно събитие
DESCRIPTION:Писането е твоята страст? Има какво да кажеш или да разкажеш на хората\, рисуваш умело световете на героите си и мечтаеш някой ден да издадеш своя книга. Иска ти се да я видиш по големите щандове на книжарниците. Наясно си обаче\, че сам трябва да спонсорираш издаването ѝ. Обмислял ли си възможността за т.нар. crowd-funding – финансиране чрез публика? \nАко идеята ти се струва интересна и искаш да научиш повече\, включи се в събитието. По време на срещата научаваш какви са: \n\nпринципите и тънкостите на crowd-funding;\nпроблемите и трудностите пред теб;\nхитростите\, които можеш да използваш\, за да успееш в начинанието си.\n\nВключи се на живо в Гьоте-институт или онлайн. За да участваш дистанционно\, напиши мейл до Лора Коцева (Lora.Kozeva@goethe.de) или от Ася Захариева (kx@kx-publishing.org) и поискай линк за достъп. \nЗа кого е подходящо\n\nЗа хора\, които се интересуват от crowd-funding възможностите.\n\nЛектор\n\nБарбора Баронова работи в независимо издателство в Прага и до момента е реализирала 13 успешни проекта\, финансирани чрез публика. Тя е писателка\, журналистка\, член на Чешката асоциация на писателите.\n\nУчастието е без такса\, не е необходима регистрация.
URL:https://svobodnapraktika.com/event/%d0%ba%d0%b0%d0%ba-%d0%b4%d0%b0-%d1%84%d0%b8%d0%bd%d0%b0%d0%bd%d1%81%d0%b8%d1%80%d0%b0%d0%bc%d0%b5-%d1%87%d1%80%d0%b5%d0%b7-%d0%bf%d1%83%d0%b1%d0%bb%d0%b8%d0%ba%d0%b0%d1%82%d0%b0-%d0%bd%d0%b5
LOCATION:Гьоте институт\, ул. Будапеща 1\, София
CATEGORIES:София
ORGANIZER;CN="%D0%9A%D0%A5%20-%20%D0%9A%D1%80%D0%B8%D1%82%D0%B8%D0%BA%D0%B0%20%D0%B8%20%D0%A5%D1%83%D0%BC%D0%B0%D0%BD%D0%B8%D0%B7%D1%8A%D0%BC%2C%20%D0%B8%D0%B7%D0%B4%D0%B0%D1%82%D0%B5%D0%BB%D1%81%D0%BA%D0%B0%20%D0%BA%D1%8A%D1%89%D0%B0%20%28%D0%9A%D0%A5%20-%20Critique%20%26amp%3B%20Humanism%20PH%29":MAILTO:kx@kx-publishing.org
END:VEVENT
END:VCALENDAR