BEGIN:VCALENDAR
VERSION:2.0
PRODID:-//Свободна практика - ECPv6.0.13//NONSGML v1.0//EN
CALSCALE:GREGORIAN
METHOD:PUBLISH
X-WR-CALNAME:Свободна практика
X-ORIGINAL-URL:https://svobodnapraktika.com
X-WR-CALDESC:Events for Свободна практика
REFRESH-INTERVAL;VALUE=DURATION:PT1H
X-Robots-Tag:noindex
X-PUBLISHED-TTL:PT1H
BEGIN:VTIMEZONE
TZID:Europe/Helsinki
BEGIN:DAYLIGHT
TZOFFSETFROM:+0200
TZOFFSETTO:+0300
TZNAME:EEST
DTSTART:20230326T010000
END:DAYLIGHT
BEGIN:STANDARD
TZOFFSETFROM:+0300
TZOFFSETTO:+0200
TZNAME:EET
DTSTART:20231029T010000
END:STANDARD
END:VTIMEZONE
BEGIN:VEVENT
DTSTART;TZID=Europe/Helsinki:20231019T190000
DTEND;TZID=Europe/Helsinki:20231231T210000
DTSTAMP:20260419T224707
CREATED:20231018T194817Z
LAST-MODIFIED:20231018T194817Z
UID:15545-1697742000-1704056400@svobodnapraktika.com
SUMMARY:Менторска програма за жени предприемачи – обучение на живо
DESCRIPTION:Мечтаеш да стартираш собствен бизнес\, защото вярваш в идеите си и искаш да ги видиш реализирани. Имаш цел\, към която да се движиш\, но си наясно\, че трябва да извървиш дълъг път. Ако е така\, разгледай специализираното обучение за жени предприемачи. От полза ти е\, защото разбираш: \n\nкак да заложиш правилната основа на своето начинание;\nкак да преодолееш страха\, който ти пречи да стартираш;\nкаква е връзката между бизнеса и ценностите;\nзащо комуникацията е важна и как да създадеш разпознаваем образ на бранда си;\n\nРазгледай сайта на събитието\, за да разбереш какво още те очаква по време на шестмесечното обучение. \nС какво още ти е полезно събитието? \n\nизграждаш мрежа от контакти;\nправиш собствен бизнес план;\nпредставяш проекта си пред инвеститори\, партньори и клиенти.\n\nЗа кого е подходящо\n\nЗа дами\, които са решили\, че е време да стартират собствен бизнес.\n\nЛектори\n\nЛектори и ментори са дами от различни сектори на бизнеса. Повече за тях научаваш в сайта на събитието.\n\nОбучението е платено. За да участваш\, трябва да кандидатстваш предварително. \n\nЗанятията се провеждат от януари 2024 г. до юни 2024 г.\, всеки петък\, събота и неделя.\nИмаш възможността да заявиш и стипендия. В сайта на обучението можеш да се запознаеш с различните изисквания за стипендиите.\n\n 
URL:https://svobodnapraktika.com/event/%d0%bc%d0%b5%d0%bd%d1%82%d0%be%d1%80%d1%81%d0%ba%d0%b0-%d0%bf%d1%80%d0%be%d0%b3%d1%80%d0%b0%d0%bc%d0%b0-%d0%b7%d0%b0-%d0%b6%d0%b5%d0%bd%d0%b8-%d0%bf%d1%80%d0%b5%d0%b4%d0%bf%d1%80%d0%b8%d0%b5%d0%bc
LOCATION:Българска търговско-промишлена палата\, Искър 9\, София\, Bulgaria
CATEGORIES:София
ORGANIZER;CN="%D0%9C%D0%B5%D0%BD%D1%82%D0%BE%D1%80%D0%B8%D1%82%D0%B5":MAILTO:info@mentorite.bg
END:VEVENT
BEGIN:VEVENT
DTSTART;VALUE=DATE:20231104
DTEND;VALUE=DATE:20231106
DTSTAMP:20260419T224707
CREATED:20231030T095632Z
LAST-MODIFIED:20231030T095632Z
UID:15616-1699056000-1699228799@svobodnapraktika.com
SUMMARY:Конференция Open fest  - събитие на живо
DESCRIPTION:Ако имаш интереси в IT сферата\, обичаш да споделяш знанията си и да общуваш\, това събитие ще ти е интересно и полезно. \nЦелта му е да популяризира проекти\, създадени със софтуер с отворен код и със свободен софтуер. По време на конференцията можеш да споделиш свои идеи или да почерпиш вдъхновение от тези на другите. Част от лекциите\, на които присъстваш\, са: \n\n„Where did all the fun go?“\, а фокусът е върху забавлението в коденето.\n„Антикорупционен софтуер“ – лекция на Божидар Божанов.\n„То или Не То: изкуствен интелект – вдъхновение или заплаха?“ – как хората на изкуството да се възползват от AI.\n\nПрограмата е разнообразна\, темите са интересни\, а всички тях научаваш от сайта на събитието. Предвидени са и няколко работилници\, в които можеш да се включиш: \n\nбрейнсторминг за решаване на обществени проблеми;\nсъстезание с ретро игри и др.\n\nЗа кого е подходящо събитието\n\nЗа всичко\, които имат интерес в сферата на информационните технологии.\n\nЛектори\n\nЛекторите са предимно специалисти в IT сферата.\n\nУчастието е без такса\, с предварителна регистрация.
URL:https://svobodnapraktika.com/event/%d0%ba%d0%be%d0%bd%d1%84%d0%b5%d1%80%d0%b5%d0%bd%d1%86%d0%b8%d1%8f-open-fest-%d1%81%d1%8a%d0%b1%d0%b8%d1%82%d0%b8%d0%b5-%d0%bd%d0%b0-%d0%b6%d0%b8%d0%b2%d0%be
LOCATION:София Тех Парк\, София Тех Парк\, Иновационен форум "Джон Атанасов"\, София\, София\, бул. „Цариградско шосе“ 111 Б
CATEGORIES:София
ORGANIZER;CN="%D0%A4%D0%BE%D0%BD%D0%B4%D0%B0%D1%86%D0%B8%D1%8F%20%D0%9E%D1%82%D0%B2%D0%BE%D1%80%D0%B5%D0%BD%D0%B8%20%D0%BF%D1%80%D0%BE%D0%B5%D0%BA%D1%82%D0%B8":MAILTO:contact@openprojectsfoundation.org
END:VEVENT
BEGIN:VEVENT
DTSTART;TZID=Europe/Helsinki:20231104T100000
DTEND;TZID=Europe/Helsinki:20231105T153000
DTSTAMP:20260419T224707
CREATED:20231030T095257Z
LAST-MODIFIED:20231030T095410Z
UID:15612-1699092000-1699198200@svobodnapraktika.com
SUMMARY:Google Analytics 4 Masterclass – събитие на живо
DESCRIPTION:Ако имаш свой собствен бизнес\, със сигурност отваряш Google Analytics\, за да проследиш потребителските нагласи и действия. Ползваш последната версия GA4 \, но не си наясно доколко ефективно. Мислиш ли\, че има какво още да научи по темата? Ако отговорът е „да“\, събитието ти е от полза\, защото ти помага да се разбереш как да използвате метриките на инструмента. Включи се\, от лекторите научаваш как да: \n\nследиш ефективността на уебсайта си;\nсъздаваш персонализирани отчети;\nанализираш данните си и др.\n\nПрограмата включва някои от следните лекции: \n\nинтеграция на Google Analytics 4 с Big Querty и интеграция през Google Tag Manager;\nсхема на данните и ограниченията в GA 4. Ключови дименсии и метрики;\nкак да подобриш анализа на данни от GA 4 с помощта на Looker studio.\n\nЗа кого е подходящо събитието \n\nЗа маркетолози\, собственици на бизнес или бизнес анализатори.\n\nЛектори\nМаркетолози от водещите агенции в страната: \n\nМартин Желязков – Netpeak\nАлександър Георгиев – Digitas\nБлаговест Йорданов – ID Consult\nДеян Петров – Xplora\n\nУчастието е платено\, с предварителна регистрация. \n\nЦената на билета е без включено ДДС.
URL:https://svobodnapraktika.com/event/google-analytics-4-masterclass-%d1%81%d1%8a%d0%b1%d0%b8%d1%82%d0%b8%d0%b5-%d0%bd%d0%b0-%d0%b6%d0%b8%d0%b2%d0%be
LOCATION:Аll Channels Play Space\, бул. Сливница 245\, София
CATEGORIES:София
END:VEVENT
BEGIN:VEVENT
DTSTART;TZID=Europe/Helsinki:20231108T190000
DTEND;TZID=Europe/Helsinki:20231108T233000
DTSTAMP:20260419T224707
CREATED:20231008T204854Z
LAST-MODIFIED:20231008T205221Z
UID:15474-1699470000-1699486200@svobodnapraktika.com
SUMMARY:„Денят на предприемача“ със Светлин Наков – събитие на живо
DESCRIPTION:Като собственик на малък бизнес най-вероятно членуваш в различни групи за електронна търговия и предприемачество в интернет\, следваш релевантни страници и обменяш опит с хора като теб на живо и онлайн. „Денят на предприемача“ е издание\, което цели да среща собственици на бизнес от различни сектори на едно място. Включи се през ноември. Гост-лектор е Светлин Наков – основател на SoftUni Digital. \nСъбитието е разделено на три основни части: \n\nсреща със Светлин Наков\, който разказва за своя професионален път\, идеите и трудностите по пътя към реализацията им;\nQ&A сесия;\nnetworking.\n\nЗа кого е подходящо събитието\n\nЗа предприемачи\, независимо от сферата им на дейност.\n\nЛектор\n\nСветлин Наков е основател на SoftUni Digital. Има дългогодишен опит като софтуерен инженер. Автор е на няколко книги за компютърно програмиране и софтуерни технологии.\n\nУчастието е с такса\, с предварителна регистрация. \n 
URL:https://svobodnapraktika.com/event/%d0%b4%d0%b5%d0%bd%d1%8f%d1%82-%d0%bd%d0%b0-%d0%bf%d1%80%d0%b5%d0%b4%d0%bf%d1%80%d0%b8%d0%b5%d0%bc%d0%b0%d1%87%d0%b0-%d1%81%d1%8a%d1%81-%d1%81%d0%b2%d0%b5%d1%82%d0%bb%d0%b8%d0%bd
LOCATION:Carrusel Club\, ул. Георги С. Раковски 108\, София\, Bulgaria
CATEGORIES:София
ORGANIZER;CN="Entrepreneurs%20Night%20Out":MAILTO:info@entrepreneursnightout.org
END:VEVENT
BEGIN:VEVENT
DTSTART;TZID=Europe/Helsinki:20231128T193000
DTEND;TZID=Europe/Helsinki:20231128T203000
DTSTAMP:20260419T224707
CREATED:20231120T082739Z
LAST-MODIFIED:20231120T082739Z
UID:15722-1701199800-1701203400@svobodnapraktika.com
SUMMARY:Социално предприемачество: Как се изгражда платформа за STEM-образование за ученици – събитие на живо
DESCRIPTION:Имаш идея за STEM платформа\, която да е в полза на децата или подрастващите? Не я отлагай във времето. Направи първата крачка към реализацията ѝ възможно най-скоро. Ако не знаеш каква да бъде тя\, започни с вдъхновение. Включи се в събитието\, организирано от DEV.BG. Защо да го направиш? Създателят на „Млад Изобретател“ ти разказва за своята идея и пътя към извървяването ѝ. От лекторите научаваш още: \n\nкак да привлечеш вниманието на бизнеса;\nкакви са технологичните предизвикателства през подобна платформа;\nкакви са технологиите\, използвани за „Млад Изобретател“.\n\nЗа кого е подходящо събитието\n\nЗа хора\, които имат идея за стартъп в сферата на образованието и технологиите.\n\nЛектори\n\nКостадин Недев е летец-пилот и съосновател на STEM-образователната платформа „Млад Изобретател“.\nИван Добрев е старши Full Stack разработчик в Amdaris. Има дългогодишен опит в сферата на информационните технологии.\n\nСъбитието е без такса\, но е част от потребителската група IT Entrepreneurship. \n 
URL:https://svobodnapraktika.com/event/%d1%81%d0%be%d1%86%d0%b8%d0%b0%d0%bb%d0%bd%d0%be-%d0%bf%d1%80%d0%b5%d0%b4%d0%bf%d1%80%d0%b8%d0%b5%d0%bc%d0%b0%d1%87%d0%b5%d1%81%d1%82%d0%b2%d0%be-stem-%d0%bf%d0%bb%d0%b0%d1%82%d1%84%d0%be%d1%80%d0%bc
LOCATION:Campus X\, бул. Александър Малинов 31\, София
CATEGORIES:София
END:VEVENT
BEGIN:VEVENT
DTSTART;VALUE=DATE:20231129
DTEND;VALUE=DATE:20231130
DTSTAMP:20260419T224707
CREATED:20231120T082649Z
LAST-MODIFIED:20231120T082649Z
UID:15720-1701216000-1701302399@svobodnapraktika.com
SUMMARY:IAB Digital Day 2023 „Оптимизиране на интелекта“ – конференция на живо
DESCRIPTION:IAB Digital Day е технологична конференция\, която тази година си поставя за цел да излезе извън установените рамки. Как го прави? Като хвърля светлина върху човешкия потенциал и изкуството. Включи се\, ако искаш да знаеш как всеки от тези аспекти влияе помежду си върху бизнеса. Лекторите споделят с теб и своите възгледи за технологичното десетилетие\, в което навлизаме. Работният език е английски. \nЧаст от въпросите\, които се дискутират\, са: \n\nкак да използваш AI в маркетинга;\nкакво е бъдещето на електронната търговия;\nзащо измерването на вниманието е толкова важно днес;\nкакво е мястото на младите хора в технологичната революция.\n\nПрограмата на събитието предвижда и два уъркшопа. Повече информация намираш в сайта. \nЗа кого е подходящо\n\nЗа собственици на бизнес и всички\, които се интересуват от дигиталните технологии.\n\nЛектори\n\nЛекторите са експерти в сферата на маркетинга и специалисти на ръководни позиции в технологични компании. Имената им и повече за тях научаваш от страницата на IAB Bulgaria.\n\nУчастието е с такса\, с предварителна регистрация.
URL:https://svobodnapraktika.com/event/iab-digital-day-%d0%be%d0%bf%d1%82%d0%b8%d0%bc%d0%b8%d0%b7%d0%b8%d1%80%d0%b0%d0%bd%d0%b5-%d0%bd%d0%b0-%d0%b8%d0%bd%d1%82%d0%b5%d0%bb%d0%b5%d0%ba%d1%82%d0%b0-%d0%ba
LOCATION:Интер Експо Център\, бул. "Цариградско шосе" 147\, София
CATEGORIES:София
END:VEVENT
END:VCALENDAR