BEGIN:VCALENDAR
VERSION:2.0
PRODID:-//Свободна практика - ECPv6.0.13//NONSGML v1.0//EN
CALSCALE:GREGORIAN
METHOD:PUBLISH
X-ORIGINAL-URL:https://svobodnapraktika.com
X-WR-CALDESC:Events for Свободна практика
REFRESH-INTERVAL;VALUE=DURATION:PT1H
X-Robots-Tag:noindex
X-PUBLISHED-TTL:PT1H
BEGIN:VTIMEZONE
TZID:Europe/Helsinki
BEGIN:DAYLIGHT
TZOFFSETFROM:+0200
TZOFFSETTO:+0300
TZNAME:EEST
DTSTART:20230326T010000
END:DAYLIGHT
BEGIN:STANDARD
TZOFFSETFROM:+0300
TZOFFSETTO:+0200
TZNAME:EET
DTSTART:20231029T010000
END:STANDARD
END:VTIMEZONE
BEGIN:VEVENT
DTSTART;VALUE=DATE:20230917
DTEND;VALUE=DATE:20230918
DTSTAMP:20260420T030407
CREATED:20230917T193444Z
LAST-MODIFIED:20230917T193444Z
UID:15325-1694908800-1694995199@svobodnapraktika.com
SUMMARY:Шести банково-финансов форум „Бъдещето на парите“ - онлайн събитие
DESCRIPTION:Въпреки високата инфлация през последната година\, интересът към инвестирането не стихва. Депозитите на фирмите за този период се увеличават\, а безработицата е относително ниска. Какво престои оттук нататък? Как ще се променят финансовите процеси през следващите месеци? Тези и други въпроси се дискутират от банкери\, икономисти и предприемачи по време на тазгодишното издание на форума. \nСъбитието е разделено на няколко панела: \n\nГолямата макроикономическа картина – какво следва? – на фокус са темите за лихвите на централните банки\, международната търговия и нивата на инфлацията.\nЗелени финанси: партньорство за устойчиво бъдеще – научаваш как се променят правилата за финансиране на бизнеса.\nПолзите и предизвикателствата при въвеждането на еврото у нас – дискутират се ползите за България и бизнеса\, предвидено е интервю с хърватски предприемач.\nСледващите стъпки във финансовите технологии – обсъждат се дигиталните валути и как те променят финансовата система.\nИнвестиционни стратегии в развитие – разбираш кои са секторите\, представляващи интерес за инвеститорите в момента.\n\nПодробната програма можеш да видиш в сайта. \nЗа кого е подходящо\n\nЗа предприемачи\, инвеститори\, собственици на бизнес.\n\nЛектори\n\nБанкери\, икономисти\, анализатори и предприемачи. Повече за тях виж в страницата на форума.\n\nУчастието е без такса\, с предварителна регистрация.
URL:https://svobodnapraktika.com/event/%d1%88%d0%b5%d1%81%d1%82%d0%b8-%d0%b1%d0%b0%d0%bd%d0%ba%d0%be%d0%b2%d0%be-%d1%84%d0%b8%d0%bd%d0%b0%d0%bd%d1%81%d0%be%d0%b2-%d1%84%d0%be%d1%80%d1%83%d0%bc-%d0%b1%d1%8a%d0%b4%d0%b5%d1%89%d0%b5
LOCATION:Интер Експо Център\, бул. "Цариградско шосе" 147\, София
CATEGORIES:София
ORGANIZER;CN="%D1%81%D0%BF%D0%B8%D1%81%D0%B0%D0%BD%D0%B8%D0%B5%20%D0%9C%D0%B5%D0%BD%D0%B8%D0%B4%D0%B6%D1%8A%D1%80":MAILTO:press@manager.bg
END:VEVENT
BEGIN:VEVENT
DTSTART;TZID=Europe/Helsinki:20230918T000000
DTEND;TZID=Europe/Helsinki:20230918T000000
DTSTAMP:20260420T030407
CREATED:20230918T151106Z
LAST-MODIFIED:20230918T151106Z
UID:15370-1694995200-1694995200@svobodnapraktika.com
SUMMARY:Октомврийска среща на независимите маркетолози в София - събитие на живо
DESCRIPTION:Ти си специалист на свободна практика\, живееш с маркетинга\, влагаш цялото си внимание\, знания и умения в проектите на своите клиенти. Поставяш креативността в основата на работата си и изпипваш всеки детайл. \nАко се припознаваш във всичко\, казано дотук\, и смяташ\, че искаш да допринесеш за развитието на малка общност от маркетолози\, събитието е точно за теб. Подходящо е\, разбира се\, и ако едва сега поемаш по своя професионален път\, но правиш смели крачки напред\, зареден с ентусиазъм и желание да експериментираш. Включи се\, за да: \n\nсподелиш и чуеш интересни идеи;\nобогатиш познанията си;\nсрещнеш други независими маркетинг експерти.\n\nКаква е целта на събитието?\nДа изгради сплотена мрежа от специалисти в областта на маркетинга. Идеята е срещите да се провеждат регулярно\, ежемесечно\, а с постоянство да се изгради малка група от съмишленици\, част от която можеш да бъдеш и ти. За да има с кого да обсъждаш предизвикателствата на професията\, с кого да споделяш успехите и неуспехите си и от кого да научаваш по нещо ново. \nЗвучи ти като твоето място? Ела в началото на октомври в Betahaus Славейков\, за да поставим заедно основите на тази общност. По време на първото издание те очаква и среща-разговор с Николай Димов – творчески директор в Mindblow Agency. \nЗа кого е подходящо\n\nЗа маркетолози.\n\nЛектор\n\nНиколай Димов е основател на Mindblow Agency. Бил е маркетинг директор в Manpower Bulgaria и управляващ партньор в една от най-големите инфлуенсър маркетинг агенции в страната.\n\nУчастието е без такса\, с предварителна регистрация.
URL:https://svobodnapraktika.com/event/%d0%be%d0%ba%d1%82%d0%be%d0%bc%d0%b2%d1%80%d0%b8%d0%b9%d1%81%d0%ba%d0%b0-%d1%81%d1%80%d0%b5%d1%89%d0%b0-%d0%bd%d0%b0-%d0%bd%d0%b5%d0%b7%d0%b0%d0%b2%d0%b8%d1%81%d0%b8%d0%bc%d0%b8%d1%82%d0%b5-%d0%bc
CATEGORIES:София
END:VEVENT
END:VCALENDAR