BEGIN:VCALENDAR
VERSION:2.0
PRODID:-//Свободна практика - ECPv6.0.13//NONSGML v1.0//EN
CALSCALE:GREGORIAN
METHOD:PUBLISH
X-ORIGINAL-URL:https://svobodnapraktika.com
X-WR-CALDESC:Events for Свободна практика
REFRESH-INTERVAL;VALUE=DURATION:PT1H
X-Robots-Tag:noindex
X-PUBLISHED-TTL:PT1H
BEGIN:VTIMEZONE
TZID:Europe/Helsinki
BEGIN:DAYLIGHT
TZOFFSETFROM:+0200
TZOFFSETTO:+0300
TZNAME:EEST
DTSTART:20230326T010000
END:DAYLIGHT
BEGIN:STANDARD
TZOFFSETFROM:+0300
TZOFFSETTO:+0200
TZNAME:EET
DTSTART:20231029T010000
END:STANDARD
END:VTIMEZONE
BEGIN:VEVENT
DTSTART;VALUE=DATE:20230316
DTEND;VALUE=DATE:20230317
DTSTAMP:20260420T124113
CREATED:20230219T223844Z
LAST-MODIFIED:20230219T223844Z
UID:14719-1678924800-1679011199@svobodnapraktika.com
SUMMARY:„Tools of the future“ - AI Conference in Sofia
DESCRIPTION:You are interested in the potential of ChatGPT – like almost everyone. What’s next? How AI is going to change the future? These and many other questions are discussed during the event: \n\nWhat is the future potential of GPT\, Google’s Bard\, and other AI tools.\nWhat is the potential application of AI in the education sector and in the field of art and design;\n“The Next Generation of copywriting” – the session will explore the capabilities of Jasper – a personal assistant that utilizes GPT-3.\n“Will human-made content be marked as “Made by a Human?”\n\nThese are just some of the upcoming sessions. Take a look at the program to find out other interesting topics. \nThe event ends with an after-party. \nWhom it is suitable for\n\nFor everyone interested in ChatGPT.\n\nThe entrance is paid\, with pre-registration.
URL:https://svobodnapraktika.com/event/tools-of-the-future-ai-conference-in-sofia
LOCATION:Networking Sofia: Premiun Coworking Spaces\, Ул. Г.С. Раковски 25\, София
CATEGORIES:София
END:VEVENT
BEGIN:VEVENT
DTSTART;TZID=Europe/Helsinki:20230324T140000
DTEND;TZID=Europe/Helsinki:20230324T180000
DTSTAMP:20260420T124113
CREATED:20230320T094707Z
LAST-MODIFIED:20230320T094707Z
UID:14827-1679666400-1679680800@svobodnapraktika.com
SUMMARY:Дигитален достъп: маркетинг на практика [обучение за независими артисти] – събитие на живо
DESCRIPTION:Ако си артист\, който иска да изгради свое онлайн присъствие\,  събитието е за теб. Няма значение в коя точно сфера се развиваш. Ела\, чуй полезни лекции\, включи се в работилниците и си тръгни със знания и умения\, които ще ти помогнат да достигнеш до аудиторията си. \nОбучението е разделено на два основни панела: \n\nЛекционна част – Василена Вълчанова говори за актуалните промени във Facebook и Instagram.\nРаботилница – работиш по конкретен казус за промотиране на културен проект.\n\nПо време на уъркшопа: \n\nпланираш рекламна кампания за социалните мрежи;\nучиш се да определяш и разпределяш бюджета си.\n\nПървата част на обучението се провежда на 24.03. \nЗа кого е подходящо\n\nЗа артисти\, които искат да изградят успешно онлайн присъствие и да управляват сами рекламните си кампании.\n\nЛектор\n\nВасилена Вълчанова е специалист по дигитален маркетинг\, лектор и блогър. Повече за нея научаваш от блога ѝ.\n\nУчастието е без такса\, с предварителна регистрация. \n 
URL:https://svobodnapraktika.com/event/%d0%b4%d0%b8%d0%b3%d0%b8%d1%82%d0%b0%d0%bb%d0%b5%d0%bd-%d0%b4%d0%be%d1%81%d1%82%d1%8a%d0%bf-%d0%bc%d0%b0%d1%80%d0%ba%d0%b5%d1%82%d0%b8%d0%bd%d0%b3-%d0%b7%d0%b0-%d0%b0%d1%80%d1%82%d0%b8%d1%81%d1%82
LOCATION:Топлоцентрала\, ул. Емил Берсински 5\, София\, Bulgaria
CATEGORIES:София
ORGANIZER;CN="%D0%A4%D0%BE%D0%BD%D0%B4%D0%B0%D1%86%D0%B8%D1%8F%20%22%D0%90%D1%80%D1%82%20%D0%9E%D1%84%D0%B8%D1%81%22%20-%20Art%20Office":MAILTO:artofficesofia@gmail.com
END:VEVENT
BEGIN:VEVENT
DTSTART;TZID=Europe/Helsinki:20230329T190000
DTEND;TZID=Europe/Helsinki:20230329T210000
DTSTAMP:20260420T124113
CREATED:20230320T094602Z
LAST-MODIFIED:20230320T094602Z
UID:14878-1680116400-1680123600@svobodnapraktika.com
SUMMARY:„Креативно мислене – умението на бъдещето“ – събитие на живо
DESCRIPTION:Изкуственият интелект все по-активно навлиза в живота ни. Мнозина се питат доколко машините ще изместят в хората и кои сфери ще са най-потърпевши. Всеобщото мнение е\, че AI не притежава най-ценния човешки ресурс\, а именно – способността да чувства\, усеща\, а оттам и създава през емоциите. Креативното мислене и творческото начало  очертават дебелата разделителна линия между хората и машините. \nНавлизането на бъдещето е неизбежно\, но ти решаваш как ще го посрещнеш. Дали и доколко ще се възползваш от възможностите\, които AI ти дава? Включи се в събитието. Разговорът се води именно в посока на ползите\, които можеш да извлечеш от ситуацията. \nЗа кого е подходящо събитието\n\nЗа всеки\, който се интересува от темата за адаптацията към бъдещите технологии.\n\nЛектор\n\nМира Йосифова работи в сферата на образованието\, културата и иновациите повече от 15 години. Убедена е\, че бъдещето принадлежи на човешката креативност в комбинация със силните страни на изкуствения интелект.\n\nСъбитието е платено\, с предварителна регистрация.
URL:https://svobodnapraktika.com/event/%d0%ba%d1%80%d0%b5%d0%b0%d1%82%d0%b8%d0%b2%d0%bd%d0%be-%d0%bc%d0%b8%d1%81%d0%bb%d0%b5%d0%bd%d0%b5-%d1%83%d0%bc%d0%b5%d0%bd%d0%b8%d0%b5%d1%82%d0%be-%d0%bd%d0%b0-%d0%b1%d1%8a%d0%b4
LOCATION:Social Innovators България\, ул. Дякон Игнатий 19\, етаж 2\, София\, Bulgaria
CATEGORIES:София
ORGANIZER;CN="Social%20Innovators%20%D0%91%D1%8A%D0%BB%D0%B3%D0%B0%D1%80%D0%B8%D1%8F":MAILTO:nbs@techno-link.com
END:VEVENT
END:VCALENDAR