BEGIN:VCALENDAR
VERSION:2.0
PRODID:-//Свободна практика - ECPv6.0.13//NONSGML v1.0//EN
CALSCALE:GREGORIAN
METHOD:PUBLISH
X-ORIGINAL-URL:https://svobodnapraktika.com
X-WR-CALDESC:Events for Свободна практика
REFRESH-INTERVAL;VALUE=DURATION:PT1H
X-Robots-Tag:noindex
X-PUBLISHED-TTL:PT1H
BEGIN:VTIMEZONE
TZID:Europe/Helsinki
BEGIN:DAYLIGHT
TZOFFSETFROM:+0200
TZOFFSETTO:+0300
TZNAME:EEST
DTSTART:20220327T010000
END:DAYLIGHT
BEGIN:STANDARD
TZOFFSETFROM:+0300
TZOFFSETTO:+0200
TZNAME:EET
DTSTART:20221030T010000
END:STANDARD
END:VTIMEZONE
BEGIN:VEVENT
DTSTART;TZID=Europe/Helsinki:20221028T183000
DTEND;TZID=Europe/Helsinki:20221028T210000
DTSTAMP:20260420T231815
CREATED:20221026T130340Z
LAST-MODIFIED:20221026T215634Z
UID:14162-1666981800-1666990800@svobodnapraktika.com
SUMMARY:Събитие на живо – „Networking - работа онлайн“
DESCRIPTION:Майчинството е към края си\, а на теб ти предстои да се върнеш към служебните си задължения скоро. Как да съчетаваш работата с отглеждането на дете? Как ще се справяш\, когато малчуганът боледува? Често си задаваш тези въпроси и ти се струва\, че отговорите се крият в дистанционната работа. Ако е така\, включи се в събитието\, за да разбереш: \n\nкакви възможности ти предлага онлайн работата;\nкъде да търсиш дистанционни позиции;\nкак да се представиш добре на интервюто за работа.\n\nКакво още да очакваш? Експерти в различни сфери – предприемачи\, HR специалисти и тийм лидери – ще направят симулация на интервю за работа\, за да те подготвят достатъчно добре за това\, което ти предстои. \nЗа кого е подходящо събитието\n\nЗа всички\, които търсят онлайн работна позиция.\n\nУчастието е без такса\, не е нужна предварителна регистрация. \n\nСрещата е част от проекта „The World Is My Workplace“ по програма Еразъм+\, а целта ѝ е да запознае младите хора с различните възможности за кариерно развитие.
URL:https://svobodnapraktika.com/event/networking-%d1%80%d0%b0%d0%b1%d0%be%d1%82%d0%b0-%d0%be%d0%bd%d0%bb%d0%b0%d0%b9%d0%bd
LOCATION:Eduspace\, ж.к. Белите брези\, бл.13\, София
CATEGORIES:София
END:VEVENT
END:VCALENDAR