BEGIN:VCALENDAR
VERSION:2.0
PRODID:-//Свободна практика - ECPv6.0.13//NONSGML v1.0//EN
CALSCALE:GREGORIAN
METHOD:PUBLISH
X-ORIGINAL-URL:https://svobodnapraktika.com
X-WR-CALDESC:Events for Свободна практика
REFRESH-INTERVAL;VALUE=DURATION:PT1H
X-Robots-Tag:noindex
X-PUBLISHED-TTL:PT1H
BEGIN:VTIMEZONE
TZID:Europe/Helsinki
BEGIN:DAYLIGHT
TZOFFSETFROM:+0200
TZOFFSETTO:+0300
TZNAME:EEST
DTSTART:20210328T010000
END:DAYLIGHT
BEGIN:STANDARD
TZOFFSETFROM:+0300
TZOFFSETTO:+0200
TZNAME:EET
DTSTART:20211031T010000
END:STANDARD
END:VTIMEZONE
BEGIN:VEVENT
DTSTART;VALUE=DATE:20211119
DTEND;VALUE=DATE:20211120
DTSTAMP:20260424T013731
CREATED:20211109T081015Z
LAST-MODIFIED:20211109T081015Z
UID:12342-1637280000-1637366399@svobodnapraktika.com
SUMMARY:„Продажби и преговори с хипермаркети“ - хибридно събитие
DESCRIPTION:Ти си малък производител\, който работи с желание и предлага наистина качествени продукти. Клиентите ти са доволни и бизнесът ти лека-полека се разраства. Правиш следващата крачка и започваш да снабсяваш локални търговски обекти с продуктите си. Стоките се харесват\, търсят се и се питаш дали не е време да се появиш на регалите в супермаркетите. Преди да се въвлечеш в това нелеко начинание\, обмисли добре плюсовете и минусите. Професионално мнение също ти е от полза – получаваш го по време на уебинара. Включи се онлайн или на живо\, за да разбереш какви са спецификите при работата с големите търговски вериги. \nМалка част от темите\, които се дискутират\, са: \n\nкога една компания е готова да продава в хипермаркет;\nкакво би струвало обслужването в %;\nколко можеш да дадеш и какво получаваш обратно;\nкак да договориш печеливши условия;\nкакви са работещите и неработещите реклами и промоции и др.\n\nРазгледай цялата програма в сайта – обучението е целодневно\, обхваща много теми и е добре предварително да разбереш какво включват отделните панели. \nЗа кого е подходящо\n\nЗа малки и средни производители\, които искат продуктите им да достигнат до хипермаркетите.\n\nОбучението е платено\, с предварителна регистрация. \n\nЦената е без включено ДДС.
URL:https://svobodnapraktika.com/event/%d0%bf%d1%80%d0%be%d0%b4%d0%b0%d0%b6%d0%b1%d0%b8-%d0%b8-%d0%bf%d1%80%d0%b5%d0%b3%d0%be%d0%b2%d0%be%d1%80%d0%b8-%d1%81-%d1%85%d0%b8%d0%bf%d0%b5%d1%80%d0%bc%d0%b0%d1%80%d0%ba%d0%b5%d1%82%d0%b8
LOCATION:Парк Хотел Витоша\, ул. Росарио 1
CATEGORIES:Онлайн събития,София
ORGANIZER;CN="%D0%94%D0%B8%D1%82%D0%B5%D1%80%D0%B0%D0%BC%D0%B1%20%D0%9A%D0%BE%D0%BD%D1%81%D1%83%D0%BB%D1%82%20%D0%95%D0%9E%D0%9E%D0%94":MAILTO:office@diterambconsult.com
END:VEVENT
END:VCALENDAR