BEGIN:VCALENDAR
VERSION:2.0
PRODID:-//Свободна практика - ECPv6.0.13//NONSGML v1.0//EN
CALSCALE:GREGORIAN
METHOD:PUBLISH
X-ORIGINAL-URL:https://svobodnapraktika.com
X-WR-CALDESC:Events for Свободна практика
REFRESH-INTERVAL;VALUE=DURATION:PT1H
X-Robots-Tag:noindex
X-PUBLISHED-TTL:PT1H
BEGIN:VTIMEZONE
TZID:Europe/Helsinki
BEGIN:DAYLIGHT
TZOFFSETFROM:+0200
TZOFFSETTO:+0300
TZNAME:EEST
DTSTART:20200329T010000
END:DAYLIGHT
BEGIN:STANDARD
TZOFFSETFROM:+0300
TZOFFSETTO:+0200
TZNAME:EET
DTSTART:20201025T010000
END:STANDARD
END:VTIMEZONE
BEGIN:VEVENT
DTSTART;VALUE=DATE:20201105
DTEND;VALUE=DATE:20201106
DTSTAMP:20260425T183704
CREATED:20201018T201553Z
LAST-MODIFIED:20201018T201553Z
UID:10392-1604534400-1604620799@svobodnapraktika.com
SUMMARY:Конференция „Ecommerce and Retail Summit: Restart\, Reconnect\, Rechain“
DESCRIPTION:Имаш собствен бизнес и искаш да знаеш как ще се развива ритейл секторът в бъдеще. Вероятно и ти\, като много други\, се питаш дали преминаването към онлайн търговия е трайна тенденция и как да се адаптираш спрямо случващото се. Ако е така\, събитието ти е полезно. Акцентът му е върху вече променящата се среда – как да се справиш с настоящето и да посрещнеш подготвен бъдещето. \nПосети обучението\, за да разбереш: \n\nкак да се възползваш от пост-пандемичната обстановка;\nкак се променя потребителското поведение;\nкакво е влиянието на технологиите в ритейл сектора през последните месеци;\nзащо да въведеш онлайн плащане и какви са евентуалните проблеми със сигурността.\n\nСъбитието е от хибриден тип – можеш да решиш дали ще участваш на живо или ще го следиш онлайн. \n\nХибриден билет – 144 лв.\nПремиум онлайн билет – 84 лв.\nОнлайн билет – 60 лв.\n\nВиж какво включва всеки от тях в сайта на конференцията.  \nЗа кого е подходящо събитието\n\nЗа собственици на малък и среден бизнес.\n\nЛектори\n\nЛекторите са основатели\, мениджъри и маркетинг експерти в едни от големите компании в страната.\n\nВходът е платен\, с предварителна регистрация.
URL:https://svobodnapraktika.com/event/%d0%ba%d0%be%d0%bd%d1%84%d0%b5%d1%80%d0%b5%d0%bd%d1%86%d0%b8%d1%8f-ecommerce-and-retail-summit-restart-reconnect-rechain
LOCATION:Sofia Event Center\, бул. "Черни връх" 100\, София\, 1407\, Bulgaria
CATEGORIES:София
END:VEVENT
BEGIN:VEVENT
DTSTART;TZID=Europe/Helsinki:20201124T103000
DTEND;TZID=Europe/Helsinki:20201124T130000
DTSTAMP:20260425T183704
CREATED:20201119T193926Z
LAST-MODIFIED:20201119T193926Z
UID:10578-1606213800-1606222800@svobodnapraktika.com
SUMMARY:„Бъдещето на парите“ - форум от хибриден тип
DESCRIPTION:Ограниченията през последната година принуждават все повече бизнеси да се пренесат във виртуалното пространство. Какво влияние оказва ситуацията върху финансирането на българските фирми? И каква е прогнозата за бъдещето на парите? Отговори на тези и други въпроси получаваш по време на форума. \nСъбитието е от хибриден тип – провежда на живо\, но поради ограничения брой участници\, ще бъде излъчено и онлайн във Фейсбук страницата на сп. „Мениджър“. \nЗапиши се за участие или го гледай онлайн\, за да научиш повече за: \n\nДостъпа до финансиране и влиянието на извънредното положение върху кредитирането на бизнеса.\nОтвореното банкиране – какви са тенденциите във финансовите услуги и каква е ролята на автоматизацията за реализирането им.\nДемократизирането на финансите – какви са възможностите и рисковете при инвестирането и как то влияе на фондовите пазари.\n\nДетайлна информация за темите\, които се дискутират\, получаваш от програмата на събитието. \nЗа кого е пододящо събитието\n\nЗа бизнесмени\, инвеститори и всички\, които се интересуват от промените и тенденциите във финансовата сфера.\n\nЛектори\n\nЛекторите са финансови експерти\, от които има какво да научиш. Разбери кои са те от страницата на събитието.\n\nВходът е без такса\, със задължителна регистрация\, ако присъстваш на живо. \n 
URL:https://svobodnapraktika.com/event/%d0%b1%d1%8a%d0%b4%d0%b5%d1%89%d0%b5%d1%82%d0%be-%d0%bd%d0%b0-%d0%bf%d0%b0%d1%80%d0%b8%d1%82%d0%b5-%d1%84%d0%be%d1%80%d1%83%d0%bc-%d0%be%d1%82-%d1%85%d0%b8%d0%b1%d1%80%d0%b8%d0%b4
LOCATION:Център за дистанционно обучение към МВБУ\, ул. "Винсент ван Гог" 7\, София\, Bulgaria
CATEGORIES:Онлайн събития,София
ORGANIZER;CN="%D1%81%D0%BF%D0%B8%D1%81%D0%B0%D0%BD%D0%B8%D0%B5%20%D0%9C%D0%B5%D0%BD%D0%B8%D0%B4%D0%B6%D1%8A%D1%80":MAILTO:press@manager.bg
END:VEVENT
BEGIN:VEVENT
DTSTART;VALUE=DATE:20201127
DTEND;VALUE=DATE:20201128
DTSTAMP:20260425T183704
CREATED:20201119T193324Z
LAST-MODIFIED:20201119T193324Z
UID:10576-1606435200-1606521599@svobodnapraktika.com
SUMMARY:Изправи се срещу своето бизнес предизвикателство във формата „Brain circle”
DESCRIPTION:Случвало ли ти се е да си изправен пред сложен бизнес казус\, чието решение не виждаш? Ако да\, знаеш\, че в такъв момент ти помага обективната външна оценка на ситуацията. Може би сега се опитваш да разрешиш подобен проблем? Възползвай се от възможността да го споделиш със специалисти\, които ти помагат в намирането на правилното решение. Искаш да опиташ? Запиши се за участие в „Brain circle”. \nКак тази работилница ти е полезна? Екипът на MOVЕ.BG и експерти в различни области са разработили специална методология за разрешаване на казуси. Работите в малка група\, в дискусиите се включват и специалистите\, и участниците. Така проблемът ти става обект на обсъждане\, пречупва се през опита\, знанията и мисленето на околните и получаваш полезни коментари и решения. В последствие ти  също имаш роля в разрешаването на чуждите предизвикателства. \nЗа кого е подходящо събитието\n\nЗа собственици на бизнес\, предприемачи\, фрийлансъри и др.\n\nВходът е без такса\, с предварителна регистрация.
URL:https://svobodnapraktika.com/event/brain-circle-%d1%81%d0%bf%d1%80%d0%b0%d0%b2%d1%8f%d0%bd%d0%b5-%d1%81-%d0%b1%d0%b8%d0%b7%d0%bd%d0%b5%d1%81-%d0%bf%d1%80%d0%b5%d0%b4%d0%b8%d0%b7%d0%b2%d0%b8%d0%ba%d0%b0%d1%82%d0%b5%d0%bb%d1%81%d1%82
LOCATION:MOVE.bg\, ул. Сердика 20
CATEGORIES:София
ORGANIZER;CN="MOVE.BG":MAILTO:contact@move.bg
END:VEVENT
END:VCALENDAR