BEGIN:VCALENDAR
VERSION:2.0
PRODID:-//Свободна практика - ECPv6.0.13//NONSGML v1.0//EN
CALSCALE:GREGORIAN
METHOD:PUBLISH
X-ORIGINAL-URL:https://svobodnapraktika.com
X-WR-CALDESC:Events for Свободна практика
REFRESH-INTERVAL;VALUE=DURATION:PT1H
X-Robots-Tag:noindex
X-PUBLISHED-TTL:PT1H
BEGIN:VTIMEZONE
TZID:Europe/Helsinki
BEGIN:DAYLIGHT
TZOFFSETFROM:+0200
TZOFFSETTO:+0300
TZNAME:EEST
DTSTART:20200329T010000
END:DAYLIGHT
BEGIN:STANDARD
TZOFFSETFROM:+0300
TZOFFSETTO:+0200
TZNAME:EET
DTSTART:20201025T010000
END:STANDARD
END:VTIMEZONE
BEGIN:VEVENT
DTSTART;VALUE=DATE:20201001
DTEND;VALUE=DATE:20201002
DTSTAMP:20260425T231213
CREATED:20200928T080439Z
LAST-MODIFIED:20200928T080503Z
UID:10281-1601510400-1601596799@svobodnapraktika.com
SUMMARY:6-ти eCommCongress - Свързани точки | Ел. търговия
DESCRIPTION:Ако се занимаваш с онлайн продажби\, вероятно си установил вече какви са предимствата на конференциите за електронна търговия. Полезни са\, защото разбираш какви са актуалните тенденции в сферата. Съобразявайки се с тях\, удовлетворяваш в немалка степен и потребителския интерес\, а това води и до привличане на повече потенциални клиенти. Подобна интересна конференция е „eCommerceCongress“. \nОт лекторите научаваш повече за: \n\nДигиталния маркетинг – защо активността в различните комуникационни канали е важна за твоя бизнес.\nSEO оптимизацията – как да оптимизираш съдържанието си\, за да се класираш по-напред в Google.\nБек-офис операциите – как максимално да улесниш работа в склада и цялостната подготовка за изпращане на продуктите.\n\nИмаш достъп до 3 отделни зони\, които ти дават възможност да се срещнеш със специалисти в областта на електронната търговия и да превърнеш някои от тях в бъдещи партньори. \nТи\, както и всички останали участници\, получавате: \n\nБезплатна онлайн книга с добри практики от електронната търговия.\n20+ идеи за генериране на полезно съдържание.\nВаучер на стойност 50 лв. от хостинг компанията ICN.bg.\nВъзможност за участие в томболи.\n\nЗа кого е подходящо събитието\n\nЗа настоящи и бъдещи собственици на бизнес\, както и за хора\, които искат да създадат нови професионални контакти.\n\nЛектори\n\nЛекторите са специалисти в областта на електронната търговия и дигиталния маркетинг\, както и основатели на успешни български платформи за онлайн продажби. Научи кои са те от сайта на събитието.\n\nВходът е платен\, с предварителна регистрация.
URL:https://svobodnapraktika.com/event/6-%d1%82%d0%b8-ecommcongress-%d0%b5%d0%bb%d0%b5%d0%ba%d1%82%d1%80%d0%be%d0%bd%d0%bd%d0%b0-%d1%82%d1%8a%d1%80%d0%b3%d0%be%d0%b2%d0%b8%d1%8f
LOCATION:Интер Експо Център\, бул. "Цариградско шосе" 147\, София
CATEGORIES:София
ORGANIZER;CN="ECommCongress":MAILTO:info@ecommcongress.bg
END:VEVENT
BEGIN:VEVENT
DTSTART;TZID=Europe/Helsinki:20201014T130000
DTEND;TZID=Europe/Helsinki:20201014T170000
DTSTAMP:20260425T231213
CREATED:20201008T084933Z
LAST-MODIFIED:20201008T084933Z
UID:10341-1602680400-1602694800@svobodnapraktika.com
SUMMARY:Организиране и провеждане на ефективни бизнес срещи
DESCRIPTION:Собственик на бизнес си или мениджър и често ти се налага да провеждаш срещи с клиенти? Обучението ти помага да усъвършенстваш уменията си и да придобиеш увереност\, че се справяш добре. Подходящо е за теб\, ако мислиш\, че има какво да подобриш в представянето си. \nПо време на семинара научаваш как успешно да организираш събития и как да провеждаш бизнес срещи с клиенти\, партньори или с екипа си. \nСъбитието се провежда в няколко града: \n\nСтара Загора – 14.10.20 г.\nВарна – 21.10.20 г.\nБургас – 22.10.20 г.\nСофия – 28.10.20 г.\nВидин – 29.10.20 г.\n\nИнформирай се за местата и часовете на провеждане\, включително и за Стара Загора\, от сайта на „Амма Консулт“.  \nЗа кого е подходящо събитието\n\nЗа мениджъри и собственици на бизнес.\n\nЛектор\n\nФилипа Иванчева е бизнес консултант\, с дългогодишен опит в сферата на продажбите. Управител е на консултантска фирма „Амма Консулт“.\n\nВходът е платен\, с предварителна регистрация. \n  \n 
URL:https://svobodnapraktika.com/event/%d0%bf%d1%80%d0%be%d0%b2%d0%b5%d0%b6%d0%b4%d0%b0%d0%bd%d0%b5-%d0%b5%d1%84%d0%b5%d0%ba%d1%82%d0%b8%d0%b2%d0%bd%d0%b8-%d0%b1%d0%b8%d0%b7%d0%bd%d0%b5%d1%81-%d1%81%d1%80%d0%b5%d1%89%d0%b8
CATEGORIES:Бургас,Варна,София,Стара Загора
ORGANIZER;CN="%D0%90%D0%9C%D0%9C%D0%90%20%D0%9A%D0%9E%D0%9D%D0%A1%D0%A3%D0%9B%D0%A2":MAILTO:office@ammaconsult.com
END:VEVENT
BEGIN:VEVENT
DTSTART;VALUE=DATE:20201015
DTEND;VALUE=DATE:20201017
DTSTAMP:20260425T231213
CREATED:20201008T084711Z
LAST-MODIFIED:20201008T084711Z
UID:10345-1602720000-1602892799@svobodnapraktika.com
SUMMARY:Digital conference – “DigitalK”
DESCRIPTION:You are entrepreneur or a digital specialist? “DigitalK” is for you. If you visit it\, you have access to workshops bursting with practical advice\, and plenty of networking opportunities. One of the benefits for you is to re-invent your company and make it competitive for a brand new world. \nThe lecturers are talking about: \n\nHow the pandemic changed the way you work and do business.\nOnline shopping implications.\nAnatomy of the new world.\nTransforming brand behavior to win in a post-pandemic world.\n\nCheck the program of the event to see all the topics that will be discussed. \n“DigitalK” is two days event. Day One is live and online and day Two is only online. \nWho is the event suitable for\n\nFor business owners\, entrepreneurs and marketers.\n\nLecturers\n\nSpeakers are global business leaders\, founders\, investors and marketing specialists with extensive experience in international companies.\n\nТhe entrance is paid\, with preliminary registration. \n  \n 
URL:https://svobodnapraktika.com/event/digital-conference-digitalk
LOCATION:Paradise Center\, бул. Черни връх 100\, София\, Bulgaria
CATEGORIES:София
END:VEVENT
END:VCALENDAR