BEGIN:VCALENDAR
VERSION:2.0
PRODID:-//Свободна практика - ECPv6.0.13//NONSGML v1.0//EN
CALSCALE:GREGORIAN
METHOD:PUBLISH
X-ORIGINAL-URL:https://svobodnapraktika.com
X-WR-CALDESC:Events for Свободна практика
REFRESH-INTERVAL;VALUE=DURATION:PT1H
X-Robots-Tag:noindex
X-PUBLISHED-TTL:PT1H
BEGIN:VTIMEZONE
TZID:Europe/Helsinki
BEGIN:DAYLIGHT
TZOFFSETFROM:+0200
TZOFFSETTO:+0300
TZNAME:EEST
DTSTART:20230326T010000
END:DAYLIGHT
BEGIN:STANDARD
TZOFFSETFROM:+0300
TZOFFSETTO:+0200
TZNAME:EET
DTSTART:20231029T010000
END:STANDARD
END:VTIMEZONE
BEGIN:VEVENT
DTSTART;VALUE=DATE:20230121
DTEND;VALUE=DATE:20230122
DTSTAMP:20260423T224904
CREATED:20221218T234934Z
LAST-MODIFIED:20221218T234934Z
UID:14407-1674259200-1674345599@svobodnapraktika.com
SUMMARY:„Как да създам перфектната презентация“ – събитие в Русе
DESCRIPTION:Canva е софтуер\, който можеш да използваш за реализирането на всякакви креативни визии – от изображения към публикации за социалните мрежи до презентации. Ако работата с платформата представлява интерес за теб\, включи се в обучението. Практически ориентирано е и затова е много полезно. В края на деня представяш своята презентация пред групата и получаваш обратна връзка. \nОт лектора научаваш още: \n\nкакво е презентационна структура и какви биват видовете презентациите;\nкак да подготвиш съдържанието според целите на курсиста.\n\nЗа кого е подходящо събитието\n\nЗа хора\, които нямат опит в създаването на презентации с Canva.\n\nЛектор\n\nД-р Христина Соколова е преподавател в Русенски университет „Ангел Кънчев“ в областта на бизнес комуникациите. Завършва специализация по дигитален маркетинг\, което става нейна основна страст.\n\nУчастието е платено\, с предварителна регистрация. \n 
URL:https://svobodnapraktika.com/event/%d0%ba%d0%b0%d0%ba-%d0%b4%d0%b0-%d1%81%d1%8a%d0%b7%d0%b4%d0%b0%d0%bc-%d0%bf%d0%b5%d1%80%d1%84%d0%b5%d0%ba%d1%82%d0%bd%d0%b0%d1%82%d0%b0-%d0%bf%d1%80%d0%b5%d0%b7%d0%b5%d0%bd%d1%82%d0%b0%d1%86
LOCATION:Startup Factory – Коуъркинг\, ул. „Цар Калоян“ №10\, Русе\, Bulgaria
CATEGORIES:Русе
ORGANIZER;CN="Startup%20Factory":MAILTO:info@startupfactory.bg
END:VEVENT
END:VCALENDAR