BEGIN:VCALENDAR
VERSION:2.0
PRODID:-//Свободна практика - ECPv6.0.13//NONSGML v1.0//EN
CALSCALE:GREGORIAN
METHOD:PUBLISH
X-ORIGINAL-URL:https://svobodnapraktika.com
X-WR-CALDESC:Events for Свободна практика
REFRESH-INTERVAL;VALUE=DURATION:PT1H
X-Robots-Tag:noindex
X-PUBLISHED-TTL:PT1H
BEGIN:VTIMEZONE
TZID:Europe/Helsinki
BEGIN:DAYLIGHT
TZOFFSETFROM:+0200
TZOFFSETTO:+0300
TZNAME:EEST
DTSTART:20220327T010000
END:DAYLIGHT
BEGIN:STANDARD
TZOFFSETFROM:+0300
TZOFFSETTO:+0200
TZNAME:EET
DTSTART:20221030T010000
END:STANDARD
END:VTIMEZONE
BEGIN:VEVENT
DTSTART;TZID=Europe/Helsinki:20220701T183000
DTEND;TZID=Europe/Helsinki:20220714T203000
DTSTAMP:20260424T184926
CREATED:20220619T211234Z
LAST-MODIFIED:20220619T211234Z
UID:13758-1656700200-1657830600@svobodnapraktika.com
SUMMARY:Седмици на дигиталното изкуство и технологии за младежи – събития на живо
DESCRIPTION:Ако живееш в Русе\, ученик си\, или студент\, и виждаш бъдещето си в някоя от дигиталните сфери\, заяви участие в едно или повече от обученията на Startup Factory в града. Защо да го направиш? Експерти ти споделят своя опит\, дават ти ценни съвети и насоки относно сферата\, в която планираш да се развиваш. \nВключи се в: \n\nПътят до професия програмист – научаваш какви умения се търсят\, как да ги изградиш\, как да създадеш портфолио.\nДизайн и изкуство в дигиталната сфера. Стратегии и техники за развитие в NFT сферата – разбираш какви са основните принципи в дизайна и изкуството.\nМоят първи дигитален портфейл – акцентът е върху блокчейн сферата и криптовалутите.\nКак да мислим като предприемачи – фокусът е върху изграждането на бизнес – от идеята до създаването на бизнес модел.\n\nЗа най-малките участници също са предвидени два панела: \n\nМоята първа интернет страница.\nДигитално рисуване.\n\nTeen Habits е още едно полезно обучение\, в което можеш да се включиш. Представлява програма за изграждане на полезни навици у подрастващите. \nЗа кого е подходящо събитието\n\nЗа всички\, които искат да се развиват в дигиталната сфера.\n\nЛектори\n\nЛекторите са специалисти в областта на дизайна\, IT сферата\, икономиката\, финансите. Повече за тях научаваш в страницата на събитието.\n\nУчастието е безплатно\, с предварителна регистрация. \n\nЗаяви участие за отделните обучения в сайта на Startup Factory.\nЧасовете на провеждане се уточняват допълнително.
URL:https://svobodnapraktika.com/event/%d1%81%d0%b5%d0%b4%d0%bc%d0%b8%d1%86%d0%b8-%d0%b4%d0%b8%d0%b3%d0%b8%d1%82%d0%b0%d0%bb%d0%bd%d0%b8-%d1%82%d0%b5%d1%85%d0%bd%d0%be%d0%bb%d0%be%d0%b3%d0%b8%d0%b8-%d0%bc%d0%bb%d0%b0%d0%b4%d0%b5%d0%b6
LOCATION:Startup Factory – Коуъркинг\, ул. „Цар Калоян“ №10\, Русе\, Bulgaria
CATEGORIES:Русе
ORGANIZER;CN="Startup%20Factory":MAILTO:info@startupfactory.bg
END:VEVENT
END:VCALENDAR