BEGIN:VCALENDAR
VERSION:2.0
PRODID:-//Свободна практика - ECPv6.0.13//NONSGML v1.0//EN
CALSCALE:GREGORIAN
METHOD:PUBLISH
X-ORIGINAL-URL:https://svobodnapraktika.com
X-WR-CALDESC:Events for Свободна практика
REFRESH-INTERVAL;VALUE=DURATION:PT1H
X-Robots-Tag:noindex
X-PUBLISHED-TTL:PT1H
BEGIN:VTIMEZONE
TZID:Europe/Helsinki
BEGIN:DAYLIGHT
TZOFFSETFROM:+0200
TZOFFSETTO:+0300
TZNAME:EEST
DTSTART:20230326T010000
END:DAYLIGHT
BEGIN:STANDARD
TZOFFSETFROM:+0300
TZOFFSETTO:+0200
TZNAME:EET
DTSTART:20231029T010000
END:STANDARD
END:VTIMEZONE
BEGIN:VEVENT
DTSTART;VALUE=DATE:20230211
DTEND;VALUE=DATE:20230213
DTSTAMP:20260423T194127
CREATED:20230130T084029Z
LAST-MODIFIED:20230130T084029Z
UID:14593-1676073600-1676246399@svobodnapraktika.com
SUMMARY:3D моделиране – визуални ефекти за филми и игри  - обучение в Русе
DESCRIPTION:В гимназиалните класове си и все още се луташ между различните специалности\, които би могъл да изучаваш. Креативните професии\, дизайнът и моделирането са сред сферите\, в които може би виждаш своето бъдеще. От друга страна\, компютърните игри са твоята страст и вярваш\, че те са успели да развият не едно твое качество. Ако е така\, надникни в света на 3D моделирането и прецени дали това е твоят път. \nВключи се в обучението\, за да: \n\nнаучиш как големите студиа създават визуални ефекти за филми и за игри;\nсъздадеш своя първи 3D модел.\n\nЛекторът споделя своя опит и ти дава ценни насоки за развитие в сферата. \nЗа кого е подходящо събитието\n\nЗа ученици\, които имат интерес към 3D моделирането.\n\nЛектор\n\nНиколай Маринов е специалист по 3D текстуриране в едно от най-големите студиа във Великобритания – Frontier Developments. В две поредни години той и екипът му са печелили регионалното състезание „NASA Space Apps Challenge“\, с което са достигнали и до световните финали.\n\nУчастието е платено\, с предварителна регистрация. \n  \n 
URL:https://svobodnapraktika.com/event/3d-%d0%bc%d0%be%d0%b4%d0%b5%d0%bb%d0%b8%d1%80%d0%b0%d0%bd%d0%b5-%d0%b2%d0%b8%d0%b7%d1%83%d0%b0%d0%bb%d0%bd%d0%b8-%d0%b5%d1%84%d0%b5%d0%ba%d1%82%d0%b8-%d0%b7%d0%b0-%d1%84%d0%b8%d0%bb%d0%bc
LOCATION:Startup Factory – Коуъркинг\, ул. „Цар Калоян“ №10\, Русе\, Bulgaria
CATEGORIES:Русе
ORGANIZER;CN="Startup%20Factory":MAILTO:info@startupfactory.bg
END:VEVENT
END:VCALENDAR