BEGIN:VCALENDAR
VERSION:2.0
PRODID:-//Свободна практика - ECPv6.0.13//NONSGML v1.0//EN
CALSCALE:GREGORIAN
METHOD:PUBLISH
X-WR-CALNAME:Свободна практика
X-ORIGINAL-URL:https://svobodnapraktika.com
X-WR-CALDESC:Events for Свободна практика
REFRESH-INTERVAL;VALUE=DURATION:PT1H
X-Robots-Tag:noindex
X-PUBLISHED-TTL:PT1H
BEGIN:VTIMEZONE
TZID:Europe/Helsinki
BEGIN:DAYLIGHT
TZOFFSETFROM:+0200
TZOFFSETTO:+0300
TZNAME:EEST
DTSTART:20220327T010000
END:DAYLIGHT
BEGIN:STANDARD
TZOFFSETFROM:+0300
TZOFFSETTO:+0200
TZNAME:EET
DTSTART:20221030T010000
END:STANDARD
END:VTIMEZONE
BEGIN:VEVENT
DTSTART;TZID=Europe/Helsinki:20221112T100000
DTEND;TZID=Europe/Helsinki:20221112T170000
DTSTAMP:20260424T000737
CREATED:20221026T130204Z
LAST-MODIFIED:20221026T130204Z
UID:14165-1668247200-1668272400@svobodnapraktika.com
SUMMARY:Събитие на живо в Русе – „Първи стъпки в дигиталния маркетинг“
DESCRIPTION:Съвсем скоро си създал първата си страница във Фейсбук и лека-полека започваш да разбираш\, че необмислено публикуване на снимка\, направена с телефона и набързо написан текст няма да ти донесат желаните резултати. Добре е да си наясно с основните маркетинг правила\, за да можеш да достигаш по-лесно до твоята аудитория\, да говориш на нейния език и така да я привличаш по-лесно към себе си. \nАко търсиш еднодневен курс\, който да ти даде добра основа\, включи се в обучението. От лектора научаваш: \n\nкак дигиталния маркетинг служи на твоите цели;\nкакви са видовете стратегии спрямо различните продукти и услуги;\nкак да избереш подходящите маркетинг инструменти за твоите цели;\nкак да се свържеш с клиентите си и да оформиш бранд идентичност;\nкак да измерваш и тълкуваш резултатите си.\n\nЗа кого е подходящо събитието\n\nЗа хора\, които стартират собствен онлайн бизнес\n\nЛектор\n\nД-р Христина Соколова е преподавател в Русенски университет „Ангел Кънчев“ в областта на бизнес комуникациите. Завършва специализация по дигитален маркетинг през 2020 г.\n\nУчастието е с такса\, с предварителна регистрация.
URL:https://svobodnapraktika.com/event/%d1%81%d1%8a%d0%b1%d0%b8%d1%82%d0%b8%d0%b5-%d0%bd%d0%b0-%d0%b6%d0%b8%d0%b2%d0%be-%d0%b2-%d1%80%d1%83%d1%81%d0%b5-%d0%bf%d1%8a%d1%80%d0%b2%d0%b8-%d1%81%d1%82%d1%8a%d0%bf%d0%ba%d0%b8
LOCATION:Startup Factory – Коуъркинг\, ул. „Цар Калоян“ №10\, Русе\, Bulgaria
CATEGORIES:Русе
ORGANIZER;CN="Startup%20Factory":MAILTO:info@startupfactory.bg
END:VEVENT
BEGIN:VEVENT
DTSTART;VALUE=DATE:20221119
DTEND;VALUE=DATE:20221120
DTSTAMP:20260424T000737
CREATED:20221109T101645Z
LAST-MODIFIED:20221109T101645Z
UID:14226-1668816000-1668902399@svobodnapraktika.com
SUMMARY:Маркетинг в социалните мрежи - събитие на живо в Русе
DESCRIPTION:Базовите познания по дигитален маркетинг са препоръчителни\, ако планираш да развиваш собствен онлайн бизнес. Колкото и малък да е\, щом менажираш всичко сам и щом се опитваш да изграждаш онлайн присъствие\, добрата основа е задължителна\, за да намираш точните клиенти. \nВключи се в еднодневния курс „Маркетинг за социални мрежи“\, за да научиш: \n\nкакви са принципите на рекламните стратегии в социалните мрежи;\nкак да планираш рекламите си;\nкои са основите на Instagram маркетинга;\nкак да стартираш YouTube канал и др.\n\nВиж програмата на уъркшопа\, за да разбереш с какво още ти е от полза. \nЗа кого е подходящо събитието\n\nЗа собственици на малък бизнес\, които нямат познания в сферата на дигиталния маркетинг.\n\nЛектор\n\nНадя Кирилова е графичен/уеб и UI/UX дизайнер. Има богат опит с Adobe приложенията. Занимава се с поддръжка на уеб страници и създаване на съдържание за дигитални интерфейси.\n\nСъбитието е с такса\, с предварителна регистрация. \n 
URL:https://svobodnapraktika.com/event/%d0%bc%d0%b0%d1%80%d0%ba%d0%b5%d1%82%d0%b8%d0%bd%d0%b3-%d0%b2-%d1%81%d0%be%d1%86%d0%b8%d0%b0%d0%bb%d0%bd%d0%b8%d1%82%d0%b5-%d0%bc%d1%80%d0%b5%d0%b6%d0%b8-%d1%81%d1%8a%d0%b1%d0%b8%d1%82%d0%b8%d0%b5
LOCATION:Startup Factory – Коуъркинг\, ул. „Цар Калоян“ №10\, Русе\, Bulgaria
CATEGORIES:Русе
ORGANIZER;CN="Startup%20Factory":MAILTO:info@startupfactory.bg
END:VEVENT
END:VCALENDAR