BEGIN:VCALENDAR
VERSION:2.0
PRODID:-//Свободна практика - ECPv6.0.13//NONSGML v1.0//EN
CALSCALE:GREGORIAN
METHOD:PUBLISH
X-WR-CALNAME:Свободна практика
X-ORIGINAL-URL:https://svobodnapraktika.com
X-WR-CALDESC:Events for Свободна практика
REFRESH-INTERVAL;VALUE=DURATION:PT1H
X-Robots-Tag:noindex
X-PUBLISHED-TTL:PT1H
BEGIN:VTIMEZONE
TZID:Europe/Helsinki
BEGIN:DAYLIGHT
TZOFFSETFROM:+0200
TZOFFSETTO:+0300
TZNAME:EEST
DTSTART:20240331T010000
END:DAYLIGHT
BEGIN:STANDARD
TZOFFSETFROM:+0300
TZOFFSETTO:+0200
TZNAME:EET
DTSTART:20241027T010000
END:STANDARD
END:VTIMEZONE
BEGIN:VEVENT
DTSTART;TZID=Europe/Helsinki:20240119T160000
DTEND;TZID=Europe/Helsinki:20240119T200000
DTSTAMP:20260419T180458
CREATED:20240110T102150Z
LAST-MODIFIED:20240110T102150Z
UID:15938-1705680000-1705694400@svobodnapraktika.com
SUMMARY:Кариерен форум ManPower Пловдив – събитие на живо
DESCRIPTION:В търсене на работа си? Решил си да смениш радикално насоката или просто да намериш средата\, в която ще се чувстваш на мястото си. Ако живееш в региона на Пловдив\, възползвай се от събитието\, организирано от ManPower и направи стъпка към успеха още в началото на 2024-а. \nПодготви си автобиография и ела в офиса на агенцията\, за да разбереш: \n\nкакви възможности предлагат водещите компании на пазара;\nкак да развиеш потенциала си в следващото начинание.\n\nЗа кого е подходящо събитието\n\nЗа всички\, които търсят нова професионална насока.\n\nУчастието е без такса\, с предварителна регистрация. \n 
URL:https://svobodnapraktika.com/event/%d0%ba%d0%b0%d1%80%d0%b8%d0%b5%d1%80%d0%b5%d0%bd-%d1%84%d0%be%d1%80%d1%83%d0%bc-manpower-%d0%bf%d0%bb%d0%be%d0%b2%d0%b4%d0%b8%d0%b2
LOCATION:ManPower Пловдив\, бул. „Цар Борис III-ти Обединител“ 161\, Пловдив
CATEGORIES:Пловдив
END:VEVENT
END:VCALENDAR