BEGIN:VCALENDAR
VERSION:2.0
PRODID:-//Свободна практика - ECPv6.0.13//NONSGML v1.0//EN
CALSCALE:GREGORIAN
METHOD:PUBLISH
X-ORIGINAL-URL:https://svobodnapraktika.com
X-WR-CALDESC:Events for Свободна практика
REFRESH-INTERVAL;VALUE=DURATION:PT1H
X-Robots-Tag:noindex
X-PUBLISHED-TTL:PT1H
BEGIN:VTIMEZONE
TZID:Europe/Helsinki
BEGIN:DAYLIGHT
TZOFFSETFROM:+0200
TZOFFSETTO:+0300
TZNAME:EEST
DTSTART:20230326T010000
END:DAYLIGHT
BEGIN:STANDARD
TZOFFSETFROM:+0300
TZOFFSETTO:+0200
TZNAME:EET
DTSTART:20231029T010000
END:STANDARD
END:VTIMEZONE
BEGIN:VEVENT
DTSTART;TZID=Europe/Helsinki:20231125T093000
DTEND;TZID=Europe/Helsinki:20231125T150000
DTSTAMP:20260420T200256
CREATED:20231120T082800Z
LAST-MODIFIED:20231120T082800Z
UID:15724-1700904600-1700924400@svobodnapraktika.com
SUMMARY:Digital4Pleven – конференция на живо в Плевен
DESCRIPTION:Ако живееш в Плевен и региона и развиваш собствен бизнес с онлайн присъствие\, посети конференцията. Лекторите говорят за дигиталната комуникация и визуалното съдържание – все теми\, които вълнуват всеки електронен бизнес. По време на събитието не само получаваш много нови знания\, но и създаваш контакти; обменяш опит с други предприемачи. \nОт лекторите научаваш как да: \n\nхакнеш социалните мрежи\, а не те теб;\nсъздадеш визуално съдържание\, което привлича и продава;\nизползваш изкуствения интелект в своя полза.\n\nВлез в сайта на събитието и виж какво още те очаква. \nЗа кого е подходящо\n\nЗа всички\, които развиват собствен бизнес.\n\nЛектори\n\nЛектори са експерти в различни сфери на дигиталния маркетинг. Научи повече за тях от страницата на конференцията.\n\nУчастието е без такса\, с предварителна регистрация. \n 
URL:https://svobodnapraktika.com/event/digital4pleven-%d0%ba%d0%be%d0%bd%d1%84%d0%b5%d1%80%d0%b5%d0%bd%d1%86%d0%b8%d1%8f-%d0%bd%d0%b0-%d0%b6%d0%b8%d0%b2%d0%be-%d0%b2-%d0%bf%d0%bb%d0%b5%d0%b2%d0%b5%d0%bd
LOCATION:МУ “Плевен”\, зала “Амброзия”\, "Климент Охридски" №1\, Плевен\, Bulgaria
CATEGORIES:Плевен
ORGANIZER;CN="Digital4Foundation":MAILTO:events@imgbulgaria.com
END:VEVENT
END:VCALENDAR