BEGIN:VCALENDAR
VERSION:2.0
PRODID:-//Свободна практика - ECPv6.0.13//NONSGML v1.0//EN
CALSCALE:GREGORIAN
METHOD:PUBLISH
X-WR-CALNAME:Свободна практика
X-ORIGINAL-URL:https://svobodnapraktika.com
X-WR-CALDESC:Events for Свободна практика
REFRESH-INTERVAL;VALUE=DURATION:PT1H
X-Robots-Tag:noindex
X-PUBLISHED-TTL:PT1H
BEGIN:VTIMEZONE
TZID:Europe/Helsinki
BEGIN:DAYLIGHT
TZOFFSETFROM:+0200
TZOFFSETTO:+0300
TZNAME:EEST
DTSTART:20170326T010000
END:DAYLIGHT
BEGIN:STANDARD
TZOFFSETFROM:+0300
TZOFFSETTO:+0200
TZNAME:EET
DTSTART:20171029T010000
END:STANDARD
BEGIN:DAYLIGHT
TZOFFSETFROM:+0200
TZOFFSETTO:+0300
TZNAME:EEST
DTSTART:20180325T010000
END:DAYLIGHT
BEGIN:STANDARD
TZOFFSETFROM:+0300
TZOFFSETTO:+0200
TZNAME:EET
DTSTART:20181028T010000
END:STANDARD
END:VTIMEZONE
BEGIN:VEVENT
DTSTART;TZID=Europe/Helsinki:20181010T100000
DTEND;TZID=Europe/Helsinki:20181031T170000
DTSTAMP:20260423T011329
CREATED:20181002T085304Z
LAST-MODIFIED:20181002T090011Z
UID:6797-1539165600-1541005200@svobodnapraktika.com
SUMMARY:Лично за личния блог с Мария Илиева
DESCRIPTION:Това е второто издание на онлайн семинара на тема „Изграждане на личен блог с Мария Илиева“. Съдържанието е разделено на 5 модула\, плюс 1\, специално за ПР агенции и клиенти. Темите обхващат нуждата от блог\, създаване на съдържание и управление на медията\, връзки с партньори и клиенти. \nКурсът предлага над 18 часа информация за изграждане на личен блог\, структурирана под формата на подкасти\, pdf файлове\, предизвикателства\, онлайн дискусии и лични онлайн консултации в затворена Фейсбук група. \n  \nЗа кого е предназначено събитието \n\nЗа блогъри\, ПР специалисти.\n\nЛектор \n\nМария Илиева е един от първите блогъри у нас. Освен автор на LaMartinia\, e създател и на платформата за лични истории Parentland.bg.\n\nВход платен\, с предварителна регистрация. \n\nКурсът е наличен за закупуване до 9 октомври и стартира на 10 октомври.\nТаксата от 249 лв. се заплаща по банков път.\n\n 
URL:https://svobodnapraktika.com/event/%d0%bb%d0%b8%d1%87%d0%bd%d0%be-%d0%b7%d0%b0-%d0%bb%d0%b8%d1%87%d0%bd%d0%b8%d1%8f-%d0%b1%d0%bb%d0%be%d0%b3-%d1%81-%d0%bc%d0%b0%d1%80%d0%b8%d1%8f-%d0%b8%d0%bb%d0%b8%d0%b5%d0%b2%d0%b0
LOCATION:Her Startup онлайн платформа\, Bulgaria
CATEGORIES:Онлайн събития
END:VEVENT
BEGIN:VEVENT
DTSTART;TZID=Europe/Helsinki:20180830T160000
DTEND;TZID=Europe/Helsinki:20180830T170000
DTSTAMP:20260423T011329
CREATED:20180831T115837Z
LAST-MODIFIED:20180831T115837Z
UID:6655-1535644800-1535648400@svobodnapraktika.com
SUMMARY:Безплатен уебинар: HubSpot за продажби
DESCRIPTION:Уебинарът представя възможностите на HubSpot – маркетинг и продажбен инструмент. Иван Бондоков ще ви разкаже как с HubSpot можете да повишите екипната ефективност\, да организирате контактите си\, да увеличите продажбите си\, с какво този инструмент е различен от други CRM-софтуери. \nЗа кого е предназначено събитието \n\nЗа ИТ специалисти\,  собственици на малък и среден бизнес\, за фрийлансъри в сферата на продажбите и маркетинга.\n\nЛектор \n\nИван Бондаков е съосновател на Limacon Marketing и Limacon Event Center. Limacon Marketing е първия Sales Solution Partner на HubSpot за България.\n\nВход безплатен\, със задължителна предварителна регистрация. Местата за уебинара са ограничени до 50.  Един ден преди уебинара записалите се ще получат линк на мейла си. \n 
URL:https://svobodnapraktika.com/event/%d0%b1%d0%b5%d0%b7%d0%bf%d0%bb%d0%b0%d1%82%d0%b5%d0%bd-%d1%83%d0%b5%d0%b1%d0%b8%d0%bd%d0%b0%d1%80-hubspot-%d0%b7%d0%b0-%d0%bf%d1%80%d0%be%d0%b4%d0%b0%d0%b6%d0%b1%d0%b8
LOCATION:online
CATEGORIES:Онлайн събития
END:VEVENT
BEGIN:VEVENT
DTSTART;TZID=Europe/Helsinki:20180816T190000
DTEND;TZID=Europe/Helsinki:20180816T220000
DTSTAMP:20260423T011329
CREATED:20180815T140141Z
LAST-MODIFIED:20180815T140354Z
UID:6605-1534446000-1534456800@svobodnapraktika.com
SUMMARY:Среща с рекламистите Йордан Жечев и Мартин Димитров
DESCRIPTION:Това е първата среща по проекта на инициативата Praktika\, който има за цел да да представи опита на утвърдени рекламисти в България. Първи ще бъдат Йордан Жечев (творчески директор на guts&brains DDB) и Мартин Димитров (творчески директор на Nitram). Домакин на срещата е Радослав Бимбалов от агенция The Smarts. \nЗа кого е предназначено събитието \n\nЗа фрийлансъри и професионалисти рекламисти и специалисти по ПР.\n\nЛектори \n\nЙордан Жечев (творчески директор на guts&brains DDB) и Мартин Димитров (творчески директор на Nitram).\n\nВход безплатен. Прочетете повече за инициативата. Събитието ще се предава онлайн.
URL:https://svobodnapraktika.com/event/%d1%81%d1%80%d0%b5%d1%89%d0%b0-%d1%81-%d1%80%d0%b5%d0%ba%d0%bb%d0%b0%d0%bc%d0%b8%d1%81%d1%82%d0%b8%d1%82%d0%b5-%d0%b9%d0%be%d1%80%d0%b4%d0%b0%d0%bd-%d0%b6%d0%b5%d1%87%d0%b5%d0%b2-%d0%b8-%d0%bc%d0%b0
LOCATION:The Smarts\, ул. Странджа 58\, София
CATEGORIES:Онлайн събития,София
END:VEVENT
BEGIN:VEVENT
DTSTART;TZID=Europe/Helsinki:20180813T080000
DTEND;TZID=Europe/Helsinki:20180901T233000
DTSTAMP:20260423T011329
CREATED:20180815T102440Z
LAST-MODIFIED:20180815T102440Z
UID:6609-1534147200-1535844600@svobodnapraktika.com
SUMMARY:Конкурс „Журналистика за развитие“
DESCRIPTION:Конкурсът „Журналистика за развитие“ е за журналисти с принос в обективното и качествено отразяване на актуални проблеми\, свързани с българската и европейската политика за развитие\, целите за устойчиво развитие на ООН и залегналите в тях теми. \nЗа кого е предназначено събитието \n\nЖурналисти от електронни\, печатни или онлайн медии\, които работят в сферата на образованието\, здравеопазването\, правата на човека\, равнопоставеността между половете и доброто управление\n\nЖури \n\nКомисия от представители на Министерство на външните работи и Българска платформа за международно развитие ще избере четирима журналисти\, които са представили медийни продукти с получена най-висока оценка.\n\nВход безплатен\, кандидатства се до 1 септември 2018 г. с до 3 медийни продукта – новини и аналитични статии\, програми на медии с национално или регионално покритие\, включително печатни и електронни публикации\, радио\, телевизионни програми. Те се изпращат заедно с попълнен формуляр за участие на адрес: bgpresidencyeu@bpid.eu \nКритериите за оценка са описани на сайта на организатора. Официалната церемония по награждаването ще се проведе на 27 септември 2018 г. в Дома на Европа (ул. „Георги С. Раковски“ 124)\, гр. София. \nКонкурсът се осъществява в рамките на проект „Граждански диалог за развитие”\, който се реализира от Българска платформа за международно развитие (БПМР) с финансовата подкрепа на Европейската комисия във връзка с Българското председателство на Съвета на Европейския съюз.
URL:https://svobodnapraktika.com/event/%d0%ba%d0%be%d0%bd%d0%ba%d1%83%d1%80%d1%81-%d0%b6%d1%83%d1%80%d0%bd%d0%b0%d0%bb%d0%b8%d1%81%d1%82%d0%b8%d0%ba%d0%b0-%d0%b7%d0%b0-%d1%80%d0%b0%d0%b7%d0%b2%d0%b8%d1%82%d0%b8%d0%b5
LOCATION:online
CATEGORIES:Онлайн събития
END:VEVENT
BEGIN:VEVENT
DTSTART;TZID=Europe/Helsinki:20180804T110000
DTEND;TZID=Europe/Helsinki:20180804T120000
DTSTAMP:20260423T011329
CREATED:20180803T183928Z
LAST-MODIFIED:20180803T183928Z
UID:6580-1533380400-1533384000@svobodnapraktika.com
SUMMARY:Безплатен уебинар: Как да структурираме презентацията си
DESCRIPTION:Безплатен уебинар за всички между 17 и 30 г.\, които имат нужда и желание да се научат да правят по-добри презентации и да говорят пред публика. \nЗа кого е предназначено събитието \n\nЗа фрийлансъри\, работещи в сферата на маркетинга\, ПР\, услугите и продажбите\, ученици и студенти\, на възраст от 17 до 30 г.\n\nЛектор \n\nАлександър Куманов\, основател на Фондация 42\n\nВход безплатен\, с предварителна регистрация. За да участвате\, ви трябват задължително камера и микрофон. Необходимо е да инсталирате и плъгин на браузъра или приложение на телефона си.
URL:https://svobodnapraktika.com/event/%d0%b1%d0%b5%d0%b7%d0%bf%d0%bb%d0%b0%d1%82%d0%b5%d0%bd-%d1%83%d0%b5%d0%b1%d0%b8%d0%bd%d0%b0%d1%80-%d0%ba%d0%b0%d0%ba-%d0%b4%d0%b0-%d1%81%d1%82%d1%80%d1%83%d0%ba%d1%82%d1%83%d1%80%d0%b8%d1%80%d0%b0
LOCATION:online
CATEGORIES:Онлайн събития
END:VEVENT
BEGIN:VEVENT
DTSTART;TZID=Europe/Helsinki:20180629T153000
DTEND;TZID=Europe/Helsinki:20180629T173000
DTSTAMP:20260423T011329
CREATED:20180606T212738Z
LAST-MODIFIED:20180606T212738Z
UID:6346-1530286200-1530293400@svobodnapraktika.com
SUMMARY:Онлайн обучение по ефективни работни срещи
DESCRIPTION:Лекторите на практическото онлайн обучение ще ви покажат как да подобрите организационната култура на екипа си и да повишите ефективността на срещите\, в които участвате в офиса\,  на публични събития и представяния. Ще разгледат и основни принципи за по-добра комуникация и за ангажиране на участниците. \nЗа кого е предназначено събитието \n\nЗа фрийлансъри и мениджъри\, които управляват екипи\, предприемачи и собственици на бизнеси\, които участват в бизнес преговори и публични събития.\n\nЛектори \n\nАнна Димитрова и Антон Вълков са практици в международната мрежа на Art of Hosting\, с  опит в организирането и воденето както на редовни екипни срещи в малък формат\, така и на формати с над 100 човека. Екипът работи със Салвис Фарма\, Асоциация Родители\, Фондация Пловдив 2019\, Европейска комисия\, ИКЕМ\, Българска асоциация за управление на хора и други.\n\nВход платен\, с предварителна регистрация.
URL:https://svobodnapraktika.com/event/%d0%be%d0%bd%d0%bb%d0%b0%d0%b9%d0%bd-%d0%be%d0%b1%d1%83%d1%87%d0%b5%d0%bd%d0%b8%d0%b5-%d0%bf%d0%be-%d0%b5%d1%84%d0%b5%d0%ba%d1%82%d0%b8%d0%b2%d0%bd%d0%b8-%d1%80%d0%b0%d0%b1%d0%be%d1%82%d0%bd%d0%b8
LOCATION:online
CATEGORIES:Онлайн събития
END:VEVENT
BEGIN:VEVENT
DTSTART;TZID=Europe/Helsinki:20180602T093000
DTEND;TZID=Europe/Helsinki:20180602T203000
DTSTAMP:20260423T011329
CREATED:20180525T195106Z
LAST-MODIFIED:20180525T195106Z
UID:6270-1527931800-1527971400@svobodnapraktika.com
SUMMARY:Безплатна маркетинг конференция Digital Pro
DESCRIPTION:На безплатната маркетинг конференция Digital Pro специалисти в различни области на дигиталните комуникации ще споделят съвети и стратегии за по-ефективен онлайн маркетинг – какви са тенденциите в създаването на съдържание\, рекламата\, управлението на общности. \nЗа кого е предназначено събитието \n\nЗа фрийлансъри\, работещи в сферата на маркетинга\, рекламата\, ПР\, услугите и продажбите\, собственици на  бизнес в областта на онлайн търговията\, блогъри и копирайтъри.\n\nЛектори \n\nМирослав Запорожанов\, Пламен Бързев\, Евгени Йорданов\, Александър Славов и др. Пълният списък на лекторите четете тук.\n\nВход безплатен\, със задължителна предварителна регистрация.
URL:https://svobodnapraktika.com/event/%d0%b1%d0%b5%d0%b7%d0%bf%d0%bb%d0%b0%d1%82%d0%bd%d0%b0-%d0%bc%d0%b0%d1%80%d0%ba%d0%b5%d1%82%d0%b8%d0%bd%d0%b3-%d0%ba%d0%be%d0%bd%d1%84%d0%b5%d1%80%d0%b5%d0%bd%d1%86%d0%b8%d1%8f-digital-pro
LOCATION:online
CATEGORIES:Онлайн събития
END:VEVENT
BEGIN:VEVENT
DTSTART;TZID=Europe/Helsinki:20180514T200000
DTEND;TZID=Europe/Helsinki:20180518T200000
DTSTAMP:20260423T011329
CREATED:20180515T093519Z
LAST-MODIFIED:20180515T093519Z
UID:6208-1526328000-1526673600@svobodnapraktika.com
SUMMARY:Онлайн обучение с Емануил Трейман „Финансирай мечтите си“
DESCRIPTION:Онлайн обучението „Финансирай мечтите си“ е за всеки\, който се оправдава с „нямам пари“ или „нямам възможност“ за това\, че не следва мечтите си и не осъществява бизнес плановете си. \nКурсът е разпределен в четири модула:\n\nформулиране и осъзнаване на потенциала на една идея\,\nначини да се привлече финансиране\,\nкакви източници да се търсят\,\nкак да се инвестират средствата.\n\nЛектор \n\nЕмануил Трейман е учил е икономика и мениджмънт във Франция\, и е завършил „Връзки с обществеността” в СУ.  Бил е директор бизнес развитие в една от най-големите финансово консултантски компании в България. 5 години е главен координатор на „Месец на фотографията“ и 7 години е организатор на Фотоваканция. От 2012 г.  води семинари и лекции на тема „Финансирайте фотографските си проекти“.\n\nВход платен\, с предварителна регистрация. С допълнително доплащане обучението включва и обсъждане на личните проекти на участниците.  Таксата включва и  достъп до затворена ФБ  група\, и запис на всички лекции\, с допълнителна информация и полезни материали.
URL:https://svobodnapraktika.com/event/%d0%be%d0%bd%d0%bb%d0%b0%d0%b9%d0%bd-%d0%be%d0%b1%d1%83%d1%87%d0%b5%d0%bd%d0%b8%d0%b5-%d1%81-%d0%b5%d0%bc%d0%b0%d0%bd%d1%83%d0%b8%d0%bb-%d1%82%d1%80%d0%b5%d0%b9%d0%bc%d0%b0%d0%bd-%d1%84%d0%b8
LOCATION:online
CATEGORIES:Онлайн събития
END:VEVENT
BEGIN:VEVENT
DTSTART;TZID=Europe/Helsinki:20180327T090000
DTEND;TZID=Europe/Helsinki:20180327T183000
DTSTAMP:20260423T011329
CREATED:20180329T202432Z
LAST-MODIFIED:20180329T202432Z
UID:5913-1522141200-1522175400@svobodnapraktika.com
SUMMARY:Конференция за интернет реклама и SEO
DESCRIPTION:Ще чуеш кои са актуалните тенденции в интернет рекламата\,  ще научиш кои са работещите инструменти в онлайн маркетинга и как да правиш успешна SEO оптимизация и да търгуваш онлайн. \nЗа кого е предназначено събитието \n\nЗа фрийлансъри и собственици на бизнеси\, за всички\, които се интересуват от дигитален  маркетинг и онлайн реклама.\n\nЛектори \n\nЖюстин Томс\, Петър Николов\, Мартин Попов\, Николай Кискинов и други. Пълният списък на лекторите и програмата четете тук.\n\n  \nВход безплатен\, с предварителна регистрация .
URL:https://svobodnapraktika.com/event/%d0%ba%d0%be%d0%bd%d1%84%d0%b5%d1%80%d0%b5%d0%bd%d1%86%d0%b8%d1%8f-%d0%b7%d0%b0-%d0%b8%d0%bd%d1%82%d0%b5%d1%80%d0%bd%d0%b5%d1%82-%d1%80%d0%b5%d0%ba%d0%bb%d0%b0%d0%bc%d0%b0-%d0%b8-seo
LOCATION:online
CATEGORIES:Онлайн събития
END:VEVENT
BEGIN:VEVENT
DTSTART;TZID=Europe/Helsinki:20180306T170000
DTEND;TZID=Europe/Helsinki:20180306T180000
DTSTAMP:20260423T011329
CREATED:20180301T192932Z
LAST-MODIFIED:20180301T193000Z
UID:5786-1520355600-1520359200@svobodnapraktika.com
SUMMARY:Eventex Awards 2018 - Online Ceremony
DESCRIPTION:Ще разбереш кои са носителите на годишните международни награди за събитиен мениджмънт Eventex 2018. \nЗа кого е предназначено събитието \n\nЗа фрийлансъри и за професионалисти\, които се занимават с планиране и организация на бизнес и арт събития.\n\nВход безплатен. Можеш да гледаш церемонията онлайн.
URL:https://svobodnapraktika.com/event/eventex-awards-2018-online-ceremony
LOCATION:online
CATEGORIES:Онлайн събития
END:VEVENT
BEGIN:VEVENT
DTSTART;TZID=Europe/Helsinki:20180215T183000
DTEND;TZID=Europe/Helsinki:20180215T193000
DTSTAMP:20260423T011329
CREATED:20180212T062343Z
LAST-MODIFIED:20180212T062343Z
UID:5668-1518719400-1518723000@svobodnapraktika.com
SUMMARY:Уебинар Horizon 2020: for newbies and dummies
DESCRIPTION:Ще научиш за новата работна програма по Инструмент за МСП за периода 2018-2020 г.\, както и какви са възможностите за подпомагане реализирането на иновативни идеи. \n  \nЗа кого е предназначено събитието \n\nЗа собственици на иновативни бизнеси\, иноватори\, експерти по европейски проекти.\n\nЛектор \n\nЕвгени Косев e експерт по Хоризонт 2020 и директор на ARS Великобритания. Участвал е в успешното разработване на 3 финансирани проекта по програмата на фирми от България и Великобритания.\n\nУебинарът ще се излъчва на живо на следния линк. \nВход безплатен.  За регистрация – попълни формуляра тук.
URL:https://svobodnapraktika.com/event/%d1%83%d0%b5%d0%b1%d0%b8%d0%bd%d0%b0%d1%80-horizon-2020-for-newbies-and-dummies
LOCATION:online
CATEGORIES:Онлайн събития
END:VEVENT
BEGIN:VEVENT
DTSTART;TZID=Europe/Helsinki:20180210T093000
DTEND;TZID=Europe/Helsinki:20180211T163000
DTSTAMP:20260423T011329
CREATED:20180122T160012Z
LAST-MODIFIED:20180122T160012Z
UID:5586-1518255000-1518366600@svobodnapraktika.com
SUMMARY:Курс по маркетинг мениджмънт
DESCRIPTION:Основни теми \n\nОснови на маркетинга.\nТехники за разбиране на потребителското поведение.\nУстановяване на пазарни сегменти и избор на целеви пазар.\nПроучването на пазара като източник на информация.\nКлючовите маркетингови инструменти- начина на употреба.\nПолитика на договарянето.\nКомуникационни канали.\nУправление на услугите.\nБрандиране и управление на марките.\n\nНачин на обучение \n\nИнтерактивност и практическа насоченост.\nРешаване на казуси.\nВъзможност за събеседване и обмяна на опит.\nДостъпно представена информация от експерти в областта на бизнес обученията.\nАктуални иновации в сферата на маркетинга.\n\nКурсът се провежда в присъствена или в дистанционна форма. \n! Получаваш международен сертификат за завършено обучение. \nЛектори \nПреподаватели от УНСС. \n  \nЗа пълната програма и записване обади се на \n+359 888 00 69 60 или пиши на office@1bc.bg
URL:https://svobodnapraktika.com/event/%d0%ba%d1%83%d1%80%d1%81-%d0%bf%d0%be-%d0%bc%d0%b0%d1%80%d0%ba%d0%b5%d1%82%d0%b8%d0%bd%d0%b3-%d0%bc%d0%b5%d0%bd%d0%b8%d0%b4%d0%b6%d0%bc%d1%8a%d0%bd%d1%82
LOCATION:1st Business Certificate Bulgaria\, бул. "Александър Стамболийски" 134\, София\, Bulgaria
CATEGORIES:Онлайн събития,София
END:VEVENT
BEGIN:VEVENT
DTSTART;TZID=Europe/Helsinki:20171112T110000
DTEND;TZID=Europe/Helsinki:20171119T170000
DTSTAMP:20260423T011329
CREATED:20171105T230214Z
LAST-MODIFIED:20171105T230214Z
UID:5417-1510484400-1511110800@svobodnapraktika.com
SUMMARY:Лично за личния блог\, oнлайн семинар с Мария Илиева/ LaMartinia
DESCRIPTION:Онлайн семинар-разговор за създаването и поддържането на личен блог\, който включва: \n\n4 модула под формата на pdf файлове\, презентации и подкасти\nспециализиран модул за PR агенции и фирми\n5 бонуса\n4 лични онлайн разговора-консултации\n4 предизвикателства\n\nЗа кого е този онлайн семинар-разговор? \n\nЗа всеки\, който иска да започне собствен блог\,\nно не знаят откъде да го подхване и какво го очаква.\nЗа автори на лични блогове\, които са изгубили смисъла\, посоката или мотивацията.\nЗа PR агенции и клиенти\, които искат да изградят връзка с блогъри\, но не са сигурни точно какъв е най-добрият подход и формат.\nЗа клиенти\, които желаят да изградят свой бизнес блог.\n\nВиж подробната програма. \nЗа лектора: Мария Илиева е създател на блога LaMartinia\, в който през годините си е партнирала с PHILIPS\, Nestle Baby\, Danone\, Mtel\, Farmhopping\, Pufies\, Бочко\, SAECO\, iRobot\, Renault\, JetOps\, HP\, Klear\, Издателство Рибка\, Equa\, Fritz-Kola\, др. \nРегистрация: до 12 ноември. Регистрирай се. \nЦена: 189 лв. 
URL:https://svobodnapraktika.com/event/%d0%bb%d0%b8%d1%87%d0%bd%d0%be-%d0%b7%d0%b0-%d0%bb%d0%b8%d1%87%d0%bd%d0%b8%d1%8f-%d0%b1%d0%bb%d0%be%d0%b3-o%d0%bd%d0%bb%d0%b0%d0%b9%d0%bd-%d1%81%d0%b5%d0%bc%d0%b8%d0%bd%d0%b0%d1%80-%d1%81-%d0%bc
LOCATION:Her Startup онлайн платформа\, Bulgaria
CATEGORIES:Онлайн събития
END:VEVENT
BEGIN:VEVENT
DTSTART;TZID=Europe/Helsinki:20170307T190000
DTEND;TZID=Europe/Helsinki:20170307T220000
DTSTAMP:20260423T011329
CREATED:20170301T194828Z
LAST-MODIFIED:20170301T194828Z
UID:4477-1488913200-1488924000@svobodnapraktika.com
SUMMARY:PR за малък бинзес - клуб "Спри и помисли"
DESCRIPTION:Гост на клуб „Спри и помисли“ този месец е Стоян Стоянов – създател на комуникационна агенция PRoWay. \nТемата е „PR за малък бизнес“. Съветвам те да не я пропускаш. Да се научиш да общуваш с медиите (традиционни и онлайн)\, да ти хрумнат идеи как да ги използваш\, за да се популяризираш и да изграждаш имиджа си без да имаш бюджет или със скромен такъв ще ти донесе ползи откъдето и да го погледнеш. \nЗадай въпросите си предварително\, в събитието във Facebook\, или като участваш в дискусията\, която се състои след лекцията на всеки гост на клуба. Полезно е\, интересно е\, че и нови работни контакти можеш да създадеш. \nВходът е свободен. \nГледай събитието онлайн и участвай в дискусията\, като се регистрираш предварително на Уебинария.бг.
URL:https://svobodnapraktika.com/event/pr-%d0%b7%d0%b0-%d0%bc%d0%b0%d0%bb%d1%8a%d0%ba-%d0%b1%d0%b8%d0%bd%d0%b7%d0%b5%d1%81-%d0%ba%d0%bb%d1%83%d0%b1-%d1%81%d0%bf%d1%80%d0%b8-%d0%b8-%d0%bf%d0%be%d0%bc%d0%b8%d1%81%d0%bb%d0%b8
LOCATION:Читалище.то\, ул. "Лом" 1\, София\, 1000\, Bulgaria
CATEGORIES:Онлайн събития,София
END:VEVENT
BEGIN:VEVENT
DTSTART;TZID=Europe/Helsinki:20170221T143000
DTEND;TZID=Europe/Helsinki:20170221T153000
DTSTAMP:20260423T011329
CREATED:20170217T082235Z
LAST-MODIFIED:20170217T082514Z
UID:4410-1487687400-1487691000@svobodnapraktika.com
SUMMARY:Как да си направим сайт? Първи стъпки
DESCRIPTION:Безплатният уебинар „Как да си направим сайт? Първи стъпки“ е чудесна възможност за начинаещи\, че и за по-напреднали фрийлансъри\, които все още нямат портфолио онлайн. (Припомни си какво трябва да има в едно портфолио.) \nЛектор е Любо Николов\, създателят на онлайн ръководството „Как се прави сайт“\, насочено към фрийлансъри и собственици на малък и среден бизнес. По време на уебинара ще разберете как да си изберете хостинг\, как да инсталирате\, настроите и оптимизирате своя WordPress сайт. \nРегистрирай се\, за да гледаш и участваш. Събитието е безплатно.
URL:https://svobodnapraktika.com/event/kak-da-si-napravq-site
CATEGORIES:Онлайн събития
END:VEVENT
BEGIN:VEVENT
DTSTART;TZID=Europe/Helsinki:20170208T190000
DTEND;TZID=Europe/Helsinki:20170208T210000
DTSTAMP:20260423T011329
CREATED:20170205T210321Z
LAST-MODIFIED:20170205T224821Z
UID:4348-1486580400-1486587600@svobodnapraktika.com
SUMMARY:Клуб "Спри и помисли" - видео маркетинг
DESCRIPTION:Гост на клуба е Петър Петров – създател на българската платформа за онлайн видео Уебинария.бг  \nТемата е „Как да използвате видео технологиите за успеха на вашия бизнес“. \nЗадай въпросите си към Петър Петров предварително\, в събитието във Facebook\, за да има време да се подготви и отговорът му да ти бъде по-полезен. \nВходът е свободен. \nГледай събитието онлайн и участвай в дискусията\, като се регистрираш предварително на Уебинария.бг.
URL:https://svobodnapraktika.com/event/video-marketing
LOCATION:Читалище.то\, ул. "Лом" 1\, София\, 1000\, Bulgaria
CATEGORIES:Онлайн събития,София
END:VEVENT
BEGIN:VEVENT
DTSTART;TZID=Europe/Helsinki:20170208T183000
DTEND;TZID=Europe/Helsinki:20170208T210000
DTSTAMP:20260423T011329
CREATED:20170205T221932Z
LAST-MODIFIED:20170205T222037Z
UID:4372-1486578600-1486587600@svobodnapraktika.com
SUMMARY:Уебинар с Любомир Сергеев - един от най-добрите рекламни фотографи
DESCRIPTION:Любомир Сергеев е рекламен фотограф с 20 години опит в занаята и световни награди. От него можеш да научиш много. \nУебинарът е безплатен.  \nЗа да научиш как точно ще се проведе и къде можеш да зададеш въпросите си към Любомир Сергеев\, влез в събитието във Facebook.
URL:https://svobodnapraktika.com/event/webinar-reklamen-fotograf
LOCATION:онлайн\, Bulgaria
CATEGORIES:Онлайн събития
END:VEVENT
END:VCALENDAR